BEGIN:VCALENDAR
VERSION:2.0
PRODID:-//IESP - ECPv6.0.7.1//NONSGML v1.0//EN
CALSCALE:GREGORIAN
METHOD:PUBLISH
X-WR-CALNAME:IESP
X-ORIGINAL-URL:https://iesp.uerj.br
X-WR-CALDESC:Eventos para IESP
REFRESH-INTERVAL;VALUE=DURATION:PT1H
X-Robots-Tag:noindex
X-PUBLISHED-TTL:PT1H
BEGIN:VTIMEZONE
TZID:America/Sao_Paulo
BEGIN:STANDARD
TZOFFSETFROM:-0300
TZOFFSETTO:-0300
TZNAME:-03
DTSTART:20230101T000000
END:STANDARD
END:VTIMEZONE
BEGIN:VEVENT
DTSTART;TZID=America/Sao_Paulo:20250630T170000
DTEND;TZID=America/Sao_Paulo:20250630T190000
DTSTAMP:20260421T015346
CREATED:20250613T134930Z
LAST-MODIFIED:20250616T191801Z
UID:160839-1751302800-1751310000@iesp.uerj.br
SUMMARY:Lançamento: "Economia e Política no Contexto da Crise Atual no Brasil e no Mundo"
DESCRIPTION:O Grupo de Estudos de Economia e Política (GEEP) convida para o Seminário de lançamento da coletânea Economia e Política no Contexto da Crise Atual no Brasil e no Mundo (Alta Cult\, 2025)\, organizado pelos professores Luiz Fernando de Paula e Fabiano Santos com Fernanda Feil (PPGE-UFF) e Rafael Moura (FCE-UERJ). Realizado na Sala Olavo Brasil\, o evento contará com uma mesa de discussão com a paticipação de Carmem Feijó (PPGE-UFF) e Renato Perissinotto (PPGCP-UFPR) e mediação do Prof. de Paula. \n  \n\nTransmissão online ao vivo em nosso canal no YouTube! \n  \nCom contribuições de um conjunto de cientistas políticos e economistas que procuram destrinchar os emaranhados de economia e política em um cenário cambiante e instável\, o livro navega pelas turbulências da política brasileira no contexto de uma virada neoliberal e sob um governo de extrema direita\, desvendando como essa fase afetou a estrutura econômica e social do país. Abordando tópicos como a Operação Lava Jato\, a crise climática global e a tensão entre desenvolvimentismo e neoliberalismo\, a coletânea oferece um retrato atualizado das forças econômicas e políticas que estão moldando o Brasil e o mundo. \n  \n  \nA publicação pode ser adquirida na página oficial da Alta Books.
URL:https://iesp.uerj.br/evento/lancamento-economia-e-politica-no-contexto-da-crise-atual-no-brasil-e-no-mundo/
LOCATION:IESP-UERJ\, Rua da Matriz\, 82 - Botafogo\, Rio de Janeiro\, RJ\, Brasil
END:VEVENT
BEGIN:VEVENT
DTSTART;TZID=America/Sao_Paulo:20230227T170000
DTEND;TZID=America/Sao_Paulo:20230227T210000
DTSTAMP:20260421T015346
CREATED:20230217T204503Z
LAST-MODIFIED:20230222T205743Z
UID:151292-1677517200-1677531600@iesp.uerj.br
SUMMARY:Lançamento:  "Hegemonia Financeira na Era Digital"\, de Pedro Txai Leal Brancher
DESCRIPTION:O Grupo de Estudos de Economia Política (GEEP) promove o lançamento do livro Hegemonia Financeira na Era Digital: o caso do grupo XP no contexto da transição global (Editora Kazuá\, 2023)\, de autoria do cientista político Pedro Txai Leal Brancher (INCT-PPED∕UFRJ). \n \nRealizado na sala Olavo Brasil\, na sede do Instituto\, o evento contará ainda com o debate O mercado está nervoso?\, com a presença do autor\, da pesquisadora associada Camila Vaz\, doutoranda em Ciência Política no Instituto\, e do coordenador do GEEP Rafael Moura (INCT-PPED∕UFRJ). \n  \n \nDesenvolvida a partir da Tese de Doutorado defendida pelo autor no Programa de Pós-Graduação em Ciência Política do IESP-UERJ em 2021\, orientada pelo Prof. Renato Raul Boschi\, a obra analisa como agentes do mercado financeiro constroem hegemonia na Era Digital. Argumenta-se que o núcleo da haute finance na Era Digital pode ser estudado a partir da triangulação entre os fluxos de liquidez\, informação e proteção que permeiam as relações entre instituições financeiras\, as Cinco Grandes corporações globais plataformizadas e o aparato estatal dos Estados Unidos. A partir deste centro de gravidade\, agentes do mercado financeiro operam como uma rede transnacional\, forjando alianças e mobilizando capacidades para influenciar nos resultados políticos de diferentes países. \nA publicação pode ser adquirida na página oficial da Kazuá. \n  \n 
URL:https://iesp.uerj.br/evento/lancamento-hegemonia-financeira-na-era-digital-de-pedro-txai-leal-brancher/
LOCATION:IESP-UERJ\, Rua da Matriz\, 82 - Botafogo\, Rio de Janeiro\, RJ\, Brasil
CATEGORIES:Lançamento
END:VEVENT
END:VCALENDAR