BEGIN:VCALENDAR
VERSION:2.0
PRODID:-//IESP - ECPv6.0.7.1//NONSGML v1.0//EN
CALSCALE:GREGORIAN
METHOD:PUBLISH
X-WR-CALNAME:IESP
X-ORIGINAL-URL:https://iesp.uerj.br
X-WR-CALDESC:Eventos para IESP
REFRESH-INTERVAL;VALUE=DURATION:PT1H
X-Robots-Tag:noindex
X-PUBLISHED-TTL:PT1H
BEGIN:VTIMEZONE
TZID:America/Sao_Paulo
BEGIN:STANDARD
TZOFFSETFROM:-0300
TZOFFSETTO:-0300
TZNAME:-03
DTSTART:20230101T000000
END:STANDARD
END:VTIMEZONE
BEGIN:VEVENT
DTSTART;TZID=America/Sao_Paulo:20230616T093000
DTEND;TZID=America/Sao_Paulo:20230616T180000
DTSTAMP:20260417T105724
CREATED:20230606T202244Z
LAST-MODIFIED:20230615T192901Z
UID:152421-1686907800-1686938400@iesp.uerj.br
SUMMARY:Seminário NETSAL: Junho de 2013 + 10
DESCRIPTION:O Núcleo de Estudos de Teoria Social e América Latina (NETSAL) convida para o seminário Junho de 2013 + 10\, com a participação de mais de uma dezena de pesquisadores reunidos em duas mesas de discussão\, realizadas na Fundação Casa de Rui Barbosa.\n\n\n\n\nResumo do tema:\nDez anos de junho de 2013 se cumprem. Ainda hoje reverbera o debate sobre seu significado. Para alguns\, o ovo da serpente\, para outros\, uma grande oportunidade perdida\, ou mesmo um evento fundamental em si. Desde então\, o Brasil passou por processos políticos com uma intensidade e aceleração como raramente ocorre na história.\n\n\n\nComo transcorreu junho de 2013? Como avaliar o evento em si? O que tem o evento a ver com os vertiginosos acontecimentos e processos políticos que se sucederam a ele? Em que medida Junho permite reler a história contemporânea do Brasil e o horizonte dos movimentos sociais? Quais são as principais interpretações que emergiram nos últimos dez anos\, e suas principais contribuições e limitações? São muitas as perguntas que se colocam e\, certamente\, o tempo nos dará uma perspectiva mais completa de suas linhas de força e impactos. É\, de todo modo\, importante hoje analisar junho de 2013 com cuidado\, pela necessidade intelectual de compreender o evento\, mas também porque no curto e no médio prazo suas reverberações ainda se fazem sentir em múltiplas direções.\n\n\n\nEste seminário buscará assim mover-se em dois registros: o do evento em si e de suas repercussões históricas. Ele se apresenta plural\, aberto e polêmico. Com os ares democráticos pelos quais\, de resto\, lutamos e queremos ver prevaleceram no Brasil.\n\nProgramação:\n  \n \n  \n9h30 – Abertura\n\nAlexandre Santini (FCRB)\nJosé Maurício Domingues (IESP-UERJ)\n\n  \n10h-12h – Mesa 1: O Brasil de(sde) Junho de 2013\n\nIvana Bentes (PPGCom-UFRJ)\nJosué Medeiros (IFCS-UFRJ)\nTatiana Roque (IM-UFRJ)\nJosé Maurício Domingues\nDebatedor: Marcelo Jasmin (PUC-Rio)\n\n  \n  \n \n14h-16h – Mesa 2: 10 anos Junho de 2013: balanços\, interpretações e legados  \n\nOlivia Perez (CCLH-UFPI)\nCristiana Losekann (PPGCS-UFES)\nMarco Antonio Perruso (PPGCS-UFRRJ)\nBreno Bringel (IESP-UERJ)\nGuilherme Leite Gonçalves (IESP-UERJ)\nRodrigo Nunes (PUC-Rio)\n\n  \n16h – Apresentação de livros\, com Vitória Gonzales (IESP-UERJ). \nToda a programação do evento será apresentada no Auditório da Casa de Rui Barbosa\, no Rio de Janeiro\, e contará com transmissão ao vivo no canal da Fundação no YouTube.
URL:https://iesp.uerj.br/evento/seminario-netsal-junho-de-2013-10/
LOCATION:Fundação Casa de Rui Barbosa\, R. São Clemente\, 134 - Botafogo\, Rio de Janeiro\, Rio de Janeiro\, Brasil
CATEGORIES:Palestra
END:VEVENT
END:VCALENDAR