BEGIN:VCALENDAR
VERSION:2.0
PRODID:-//IESP - ECPv6.0.7.1//NONSGML v1.0//EN
CALSCALE:GREGORIAN
METHOD:PUBLISH
X-WR-CALNAME:IESP
X-ORIGINAL-URL:https://iesp.uerj.br
X-WR-CALDESC:Eventos para IESP
REFRESH-INTERVAL;VALUE=DURATION:PT1H
X-Robots-Tag:noindex
X-PUBLISHED-TTL:PT1H
BEGIN:VTIMEZONE
TZID:America/Sao_Paulo
BEGIN:STANDARD
TZOFFSETFROM:-0300
TZOFFSETTO:-0300
TZNAME:-03
DTSTART:20250101T000000
END:STANDARD
END:VTIMEZONE
BEGIN:VEVENT
DTSTART;TZID=America/Sao_Paulo:20250915T140000
DTEND;TZID=America/Sao_Paulo:20250915T140000
DTSTAMP:20260422T084853
CREATED:20250909T185306Z
LAST-MODIFIED:20250917T115537Z
UID:161792-1757944800-1757944800@iesp.uerj.br
SUMMARY:I ETA/CCS-UERJ: Cotas Raciais na UERJ
DESCRIPTION:O Instituto de Estudos Sociais e Políticos recebe a programação do I Encontro de Técnicos Administrativos do Centro de Ciências Sociais da Universidade do Estado do Rio de Janeiro (ETA/CCS-UERJ)\, sediando a palestra Cotas Raciais na UERJ. Oferecida presencialmente na Sala Olavo Brasil\, com transmissão online ao vivo em nosso canal no YouTube\, a mesa conta com a participação da Prof. Patrícia Santos (FFP-UERJ)\, Superintendente de Equidade Étnico-racial e de Gênero da Universidade (SUPEERG)\, e do sociólogo Wescrey Portes (IESP-UERJ)\, sob mediação de Rosangela Salles\, técnica administrativa da Biblioteca CCS/D – IESP-UERJ. \n\nClique aqui para fazer sua inscrição! \nOrganizado por um conjunto de servidores técnico-administrativos lotados em diferentes unidades que compõem o Centro (FAF-UERJ; FCE-UERJ; FDir-UERJ; FSS-UERJ; ICS-UERJ; IESP-UERJ; e IFCH-UERJ)\, o ciclo de palestras do I ETA busca promover\, de forma livre e democrática\, palestras e oficinas com temas diversos alinhados aos interesses da categoria técnico-administrativa\, abrindo espaço para a discussão de demandas e reflexão de estratégias de atuação\, instigando o pensamento crítico tão necessário ao desenvolvimento universitário e da sociedade. \nConsulte a programação completa na página oficial do Encontro.
URL:https://iesp.uerj.br/evento/i-eta-ccs-uerj-cotas-raciais-na-uerj/
LOCATION:IESP-UERJ\, Rua da Matriz\, 82 - Botafogo\, Rio de Janeiro\, RJ\, Brasil
CATEGORIES:Palestra
END:VEVENT
BEGIN:VEVENT
DTSTART;TZID=America/Sao_Paulo:20250918T100000
DTEND;TZID=America/Sao_Paulo:20250919T190000
DTSTAMP:20260422T084853
CREATED:20250825T223845Z
LAST-MODIFIED:20250905T153332Z
UID:161589-1758189600-1758308400@iesp.uerj.br
SUMMARY:Seminário "O que há de novo sobre a questão racial no Brasil?"
DESCRIPTION:O Programa de Pós-Graduação em Sociologia do IESP-UERJ convida para o seminário O que há de novo sobre a questão racial no Brasil? Contribuições da Sociologia. Aberto a todas e todos os interessados\, sem a necessidade de inscrição prévia\, o evento promove sete mesas de discussão presenciais na Sala Olavo Brasil. \n \n\n\n\n\nSobre a temática:\nA questão racial brasileira passou por rápidas transformações nas últimas décadas. Se era um tabu falar de raça no país da mestiçagem\, o tema hoje frequenta todos os debates públicos e privados. As Ciências Humanas em geral e a Sociologia em específico tiveram um papel não apenas na reformulação da questão\, como também na formulação e implementação de políticas antirracistas. Mas existe algo de novo a ser dito sobre a questão racial no Brasil e no mundo? O seminário O que há de novo sobre a questão racial? Contribuições da Sociologia\, reunirá especialistas na sociologia da raça para debater os desafios analíticos ainda existentes para o estudo das questões raciais brasileiras. \nProgramação:\nDia 1 – 18 de setembro:\n10h: Mesa 1– O que há de novo sobre a questão racial?\n\nLuiz Augusto Campos (IESP-UERJ) – Moderação e comentário\nAnn Morning (New York University)\nTrevor Makhetha (University of West Cape)\n\n13h30: Mesa 2 – Classificações raciais\, o pardo e as comissões de heteroidentificação\n\nPaula Barreto (UFBA) – Moderação e comentário\nLuiz Augusto Campos (IESP-UERJ)\nAntônio Sérgio Guimarães (FFLCH-USP)\nMarcelle Félix (IESP-UERJ)\n\n\n\n15h30: Mesa 3 – Ideologias raciais e o pensamento negro brasileiro\n\nJoaze Bernardino (PPGSol-UnB) – Moderação e comentário\nGabriel Delphino (IESP-UERJ)\nWeslley Dias (IESP-UERJ)\nCibele Barbosa (Fundaj)\n\n18h: Mesa 4 – Desafios das candidaturas negras nas eleições de 2026\n\nEdilza Sotero (Faced-UFBA) – Moderação e comentário\nCarlos Machado (IPOL-UnB)\nFlávia Rios (PPGS/UFF)\nWescrey Portes (IESP-UERJ)\n\n19:30 – Coquetel de confraternização\n  \nDia 2 – 19 de setembro:\n10h: Mesa 5 – Violência racial de Estado e Segurança Pública\n\nPaulo Neves (CECS-UFABC) – Moderação e comentário\nPaulo Ramos (Afro-CEBRAP)\nJuliana Vinuto (PPGS/UFF)\nLucas Pedretti (PPGSA/IFCS-UFRJ)\n\n14h30: Mesa 6 – Há algo de novo nos números sobre desigualdades raciais?\n\nFlávio Carvalhaes (PPGSA/IFCS-UFRJ) – Moderação e comentário\nValéria Oliveira (FE-UFMG)\nLeonardo Silveira (ICS-UERJ)\nFelícia Picanço (PPGSA/IFCS-UFRJ)\n\n17h: Mesa 7 – Qual o futuro das ações afirmativas no Brasil e no mundo?\n\nLuiz Augusto Campos (IESP-UERJ) – Moderação e comentário\nRosana Heringer (FE-UFRJ)\nMarcia Lima (Afro-CEBRAP e FFLCH-USP)\nAndrea Lopes (PPGCP-UNIRIO)\n\n19h – Festa de encerramento
URL:https://iesp.uerj.br/evento/seminario-o-que-ha-de-novo-sobre-a-questao-racial-no-brasil/
LOCATION:IESP-UERJ\, Rua da Matriz\, 82 - Botafogo\, Rio de Janeiro\, RJ\, Brasil
CATEGORIES:Palestra
END:VEVENT
BEGIN:VEVENT
DTSTART;TZID=America/Sao_Paulo:20250922T140000
DTEND;TZID=America/Sao_Paulo:20250922T140000
DTSTAMP:20260422T084853
CREATED:20250801T211257Z
LAST-MODIFIED:20250924T124840Z
UID:161378-1758549600-1758549600@iesp.uerj.br
SUMMARY:Ciclo de Palestras 2025.2: Antônio Sérgio Guimarães (FFLCH-USP)
DESCRIPTION:O Ciclo de Palestras IESP-UERJ 2025.2 recebe o Prof. Antônio Sérgio Guimarães (FFLCH-USP) para ministrar a conferência Políticas raciais: desenvolvimentos e desafios\, 1920-2020\, na Sala Olavo Brasil. \n\n\n\n  \nDoutor em Sociologia pela University of Wisconsin\, Madison (EUA)\, Antonio Sérgio Alfredo Guimarães é Professor Titular (Sênior) do Departamento de Sociologia da Faculdade de Filosofia\, Letras e Ciências Humanas da Universidade de São Paulo (FFLCH-USP)\, docente permanente do Programa de Pós-Graduação em Sociologia da mesma instituição (PPGS/FFLCH-USP) e colaborador do Programa de Pós-Graduação em História da Universidade Federal da Bahia (PPGH/UFBA). Atua como pesquisador associado do Centro Brasileiro de Análise e Planejamento (Cebrap) e é membro vitalício do Clare Hall da Universidade de Cambridge (Reino Unido). Foi presidente da Sociedade Brasileira de Sociologia (SBS) e recebeu a comenda da Ordem Nacional do Mérito Científico do Ministério da Ciência \, Tecnologia e Inovação (MCTI). Entre outras publicações\, assina a autoria do livro Modernidades Negras. A formação racial brasileira (1930-1970) (Editora 34\, 2021) e dos artigos Raças e racismos\, junções e disjunções (Tempo Social v. 36\, 2024) e Raça e cor no Brasil contemporâneo\, oportunismo político e tendência histórica (Revista de Antropologia v. 67\, 2024). Atua na área de Sociologia\, com ênfase em estudos afro-brasileiros e formação de classes sociais.  \n  \nO Ciclo de Palestras IESP-UERJ 2025.2 conta com a coordenação dos professores Adalberto Moreira Cardoso e João Feres Júnior. Todas as conferências são abertas ao público interessado em geral\, sem a necessidade de inscrição prévia e\, portanto\, sem a emissão de certificados de participação.
URL:https://iesp.uerj.br/evento/ciclo-de-palestras-2025-2-antonio-sergio-guimaraes-fflch-usp/
LOCATION:Ciclo de Palestras 2026.1: Danusa Marques (IPOL-UnB)\, RJ
CATEGORIES:Palestra
END:VEVENT
END:VCALENDAR