BEGIN:VCALENDAR
VERSION:2.0
PRODID:-//IESP - ECPv6.0.7.1//NONSGML v1.0//EN
CALSCALE:GREGORIAN
METHOD:PUBLISH
X-ORIGINAL-URL:https://iesp.uerj.br
X-WR-CALDESC:Eventos para IESP
REFRESH-INTERVAL;VALUE=DURATION:PT1H
X-Robots-Tag:noindex
X-PUBLISHED-TTL:PT1H
BEGIN:VTIMEZONE
TZID:America/Sao_Paulo
BEGIN:STANDARD
TZOFFSETFROM:-0300
TZOFFSETTO:-0300
TZNAME:-03
DTSTART:20250101T000000
END:STANDARD
END:VTIMEZONE
BEGIN:VEVENT
DTSTART;TZID=America/Sao_Paulo:20250515T170000
DTEND;TZID=America/Sao_Paulo:20250515T190000
DTSTAMP:20260425T074423
CREATED:20250428T225239Z
LAST-MODIFIED:20250428T225626Z
UID:160391-1747328400-1747335600@iesp.uerj.br
SUMMARY:Seminários NIED-CERES: Leonardo Souza Silveira (ICS-UERJ)
DESCRIPTION:O Centro para o Estudo da Riqueza e Estratificação Social (Ceres) e o Núcleo Interdisciplinar de Estudos sobre Desigualdade (NIED-UFRJ) recebem Leonardo Souza Silveira (ICS-UERJ) para participar do ciclo Seminários NIED-CERES. Autor de trabalhos sobre desigualdades raciais\, estratificação social e mobilidade\, o convidado ministra o painel online Como mudanças em região\, composição racial e renda afetam a fluidez racial?. \n \nPara participar do seminário através da plataforma Zoom\, basta se inscrever através deste link. O seminário pode ser assistido também através do canal do ciclo no YouTube. \n  \nDoutor em Sociologia pela Faculdade de Filosofia e Ciências Humanas da Universidade Federal de Minas Gerais (PPGS/FAFICH-UFMG) \, Leonardo Souza Silveira  é Professor Adjunto do Instituto de Ciências Sociais (ICS) e do Programa de Pós-Graduação em Ciências Sociais (PPCIS) da Universidade do Estado do Rio de Janeiro (UERJ). Sua pesquisa se dedica a temas como efeitos de território\, renda e educação na identidade racial\, desigualdades estruturais e políticas públicas.
URL:https://iesp.uerj.br/evento/seminarios-nied-ceres-leonardo-souza-silveira-ics-uerj/
LOCATION:Ciclo de Palestras 2026.1: Danusa Marques (IPOL-UnB)\, RJ
CATEGORIES:Palestra
END:VEVENT
BEGIN:VEVENT
DTSTART;TZID=America/Sao_Paulo:20250522T193000
DTEND;TZID=America/Sao_Paulo:20250522T210000
DTSTAMP:20260425T074423
CREATED:20250519T183429Z
LAST-MODIFIED:20250522T133408Z
UID:160690-1747942200-1747947600@iesp.uerj.br
SUMMARY:Lançamento: Despatriarcalizando a Teoria da Justiça de Ralws
DESCRIPTION:O Programa de Pós-Graduação em Ciência Política do IESP-UERJ e a Editora Dialética convidam para o lançamento do livro Despatriarcalizando a Teoria da Justiça de Ralws: por uma teoria da justiça feminista\, de Stefany Vaz Despinoy (Direito-UFAC). Oferecido na Sala Olavo Brasil\, o evento conta com a presença da autora e com uma mesa de discussão composta por Thomas da Rosa de Bustamante (PPGD/UFMG) e pela Prof. San Romanelli Assumpção\, vice-diretora do Instituto. \n \nO livro propõe reflexões sobre a necessidade atual de ideias de feminismo\, de liberalismo\, de justiça\, de tolerância e de democracia\, especificamente na política e na teoria política\, bem como na sociedade\, de modo geral\, por meio de dois grandes campos teóricos: a teoria da justiça como equidade de John Rawls e o feminismo liberal de Susan Okin. A autora apresenta uma introdução à obra de Rawls\, trabalhando sua teoria da justiça como equidade\, contrastando-as com as  críticas feministas ao autor\, em especial as de Okin. \n  \nA publicação pode ser acessada gratuitamente na página da editora.\n 
URL:https://iesp.uerj.br/evento/lancamento-despatriarcalizando-a-teoria-da-justica-de-ralws/
LOCATION:IESP-UERJ\, Rua da Matriz\, 82 - Botafogo\, Rio de Janeiro\, RJ\, Brasil
CATEGORIES:Lançamento
END:VEVENT
BEGIN:VEVENT
DTSTART;TZID=America/Sao_Paulo:20250529T170000
DTEND;TZID=America/Sao_Paulo:20250529T190000
DTSTAMP:20260425T074423
CREATED:20250521T181528Z
LAST-MODIFIED:20250522T150139Z
UID:160714-1748538000-1748545200@iesp.uerj.br
SUMMARY:Seminários NIED-CERES: Kim Weeden (Cornell University)
DESCRIPTION:O Centro para o Estudo da Riqueza e Estratificação Social (Ceres) e o Núcleo Interdisciplinar de Estudos sobre Desigualdade (NIED-UFRJ) recebem Kim Weeden (Cornell University) para participar do ciclo Seminários NIED-CERES. A socióloga ministra o painel online Is the gender revolution really stalled?\, abordando os desafios correntes da chamada “revolução de gênero” e discutindo em que medida as transformações recentes nas desigualdades entre homens e mulheres teriam encontrado limites ou sinais de estagnação. \n \nPara participar do seminário através da plataforma Zoom\, basta se inscrever através deste link. O seminário pode ser assistido também através do canal do ciclo no YouTube. \nDoutora em Sociologia pela Universidade de Stanford (EUA) Kim A. Weeden é professora do Departamento de Sociologia da Universidade Cornell (EUA)\, onde dirige o Centro de Estudos da Desigualdade e integra o Programa de Estudos de Feminismo\, Gênero e Sexualidade (FGSS). Reconhecida internacionalmente por suas pesquisas nas áreas  de desigualdade\, mercado de trabalho e metodologia quantitativa\, a pesquisadora é uma referência nos estudos sociológicos contemporâneos de estratificação de gênero.
URL:https://iesp.uerj.br/evento/seminarios-nied-ceres-kim-weeden-cornell-university/
LOCATION:Ciclo de Palestras 2026.1: Danusa Marques (IPOL-UnB)\, RJ
CATEGORIES:Palestra
END:VEVENT
END:VCALENDAR