BEGIN:VCALENDAR
VERSION:2.0
PRODID:-//IESP - ECPv6.0.7.1//NONSGML v1.0//EN
CALSCALE:GREGORIAN
METHOD:PUBLISH
X-WR-CALNAME:IESP
X-ORIGINAL-URL:https://iesp.uerj.br
X-WR-CALDESC:Eventos para IESP
REFRESH-INTERVAL;VALUE=DURATION:PT1H
X-Robots-Tag:noindex
X-PUBLISHED-TTL:PT1H
BEGIN:VTIMEZONE
TZID:America/Sao_Paulo
BEGIN:STANDARD
TZOFFSETFROM:-0300
TZOFFSETTO:-0300
TZNAME:-03
DTSTART:20230101T000000
END:STANDARD
END:VTIMEZONE
BEGIN:VEVENT
DTSTART;TZID=America/Sao_Paulo:20231106T090000
DTEND;TZID=America/Sao_Paulo:20231106T180000
DTSTAMP:20260421T174628
CREATED:20231106T125914Z
LAST-MODIFIED:20231106T125914Z
UID:153989-1699261200-1699293600@iesp.uerj.br
SUMMARY:Grupos de Trabalho do VIII Seminário Discente do IESP-UERJ: Dia 1
DESCRIPTION:A comissão organizadora convida toda a comunidade acadêmica a participar do VIII Seminário Discente do Instituto de Estudos Sociais e Políticos \, realizado de maneira presencial entre os dias 6 e 10 de novembro de 2023\, na sede do Instituto. \n \nProgramação do 1º dia de Grupos de Trabalho:\nEntre 9h e 12h:\nGT2: Organização Política e Ação Coletiva\nCoordenado por Luan Ferreira (IESP-UERJ) e Edson Mendes Júnior (DCP-UFF) na Sala Olavo Brasil: \n\nInstitucionalização\, partidos e participação popular: a Bolívia nos anos 2000\, por Alina da Silva Ribeiro (USP)\nEleições Autárquicas\, Democracia e Populismo em Moçambique\, por Albertino Paulino Cossa (IESP-UERJ)\nA inserção da Sociedade Civil garante participação? Uma análise sobre a institucionalização da participação da Sociedade Civil nos Planos Estaduais de Educação de Pernambuco e Ceará\, por Julia Wolff Theodozio (USP)\nEntre movimentos sociais e partidos políticos: a institucionalização dos movimentos negros e a inclusão das pautas raciais na estrutura intra partidária\, por Bruno Alcântara Conde da Silva (UFSCar)\n\n  \nGT5. Teoria\, Método e Empiria no Pensamento Político Brasileiro\nCoordenado por Weslley Dias (IESP-UERJ) e Guilherme Mello (IESP-UERJ) na Sala Carlos Hasenbalg: \n\nAs Forças Armadas E Os Apelos Da Extrema Direita Por Tutela\, por Juliana Soares Pacheco Munhoz (IESP-UERJ)\nPrincípios da Democracia Liberal e Retrocesso dos Valores Democráticos no Governo Bolsonaro\, por Nathália Julia de Souza Ribeiro (UERJ)\nA Revolução Russa Através Do Movimento Nacionalista Italiano\, por Tarsila Mei Antunes (Unicamp)\nNacionalismo\, Trabalhismo E Terceiro-Mundismo: A Experiência Histórica Da Revista “Cadernos Do Terceiro Mundo” (1974-1991)\, por Pedro Henrique Soares Somini (Unicamp)\n\n  \nGT10. Política Externa Dos Países Latino-Americanos\nCoordenado por Stephanie Clemente (PPGRI-UERJ) e Ana Lúcia Gonçalves (PPGRI-UERJ) na Sala Marcus Figueiredo: \n\nPolítica externa do Moçambique\, por Levi Salomao Matsinhe (IESP-UERJ)\nSetor da soja como grupo de interesse na Política Externa do Governo Bolsonaro\, por Julia Silva Rensi (UFPE)\nBloco no Poder e Política Externa do Brasil: Crise do Governo Dilma à Eleição de Bolsonaro (2015-2018)\, por Maria Raquel Nunes Serrão (UFRJ)\nPrevenção de Danos: como o Legislativo Federal impediu as mudanças intencionadas por Bolsonaro na Política Externa Brasileira\, por João Gabriel Danon Tavares (PPGRI-UERJ)\n\n  \nIntitulada Desigualdades e Representatividades: Alternativas e Debates\, a edição de 2023 oferece palestras\, oficinas e grupos de trabalho\, com o objetivo de estimular\, de forma aberta\, a circulação de conhecimento\, o fortalecimento dos espaços de pesquisa e a ampliação do diálogo da produção entre discentes dos mais variados campos do conhecimento científico. Mais informações sobre o seminário.
URL:https://iesp.uerj.br/evento/grupos-de-trabalho-do-viii-seminario-discente-do-iesp-uerj-dia-1/
LOCATION:IESP-UERJ\, Rua da Matriz\, 82 - Botafogo\, Rio de Janeiro\, RJ\, Brasil
CATEGORIES:Palestra
END:VEVENT
BEGIN:VEVENT
DTSTART;TZID=America/Sao_Paulo:20231106T140000
DTEND;TZID=America/Sao_Paulo:20231106T170000
DTSTAMP:20260421T174628
CREATED:20231026T211007Z
LAST-MODIFIED:20231030T175651Z
UID:153991-1699279200-1699290000@iesp.uerj.br
SUMMARY:VIII Seminário Discente e Ciclo de Palestras 2023.2: Marta Fernandez (IRI-PUC)
DESCRIPTION:O VIII Seminário Discente do Instituto de Estudos Sociais e Políticos e o Ciclo de Palestras IESP-UERJ 2023.2 promovem em conjunto a palestra Democracia e Política Externa: Enquanto houver racismo não pode haver democracia\, ministrada pela Prof Marta Fernandez (IRI-PUC) na Sala Olavo Brasil. \n\nAssista também ao vivo em nosso canal no YouTube! \nSobre a convidada:\nDoutora em Relações Internacionais pelo Instituto de Relações Internacionais da Pontifícia Universidade Católica do Rio de Janeiro (IRI-PUC Rio)\, Marta Regina Fernandez Y Garcia é professora adjunta da mesma instituição e diretora do BRICS Policy Center. Bolsista de produtividade de pesquisa do CNPq Nível 2\, é ainda editora brasileira da série Global Political Sociology (Palgrave Macmillan) e integrante do Conselho Consultivo e Pesquisadora associada do Núcleo Interdisciplinar de Reflexão e Memória Afrodescendente (NIREMA/PUC-Rio). Como autora\, publicou recentemente os artigos Potencialidades e desafios do novo governo Lula à democratização da política externa brasileira (com Jéser Abílio\, CEBRI Revista n.5\, 2023) e Crossed pandemics: Racism\, police violence\, and Covid-19 in Brazil and the United States (com Pedro Paulo dos Santos Silva\, Review of International Studies v.49\, n.4\, 2023)\, entre outros. Suas principais áreas de interesse e publicações se concentram em: Teoria das Relações Internacionais\, Estudos Pós-Coloniais e Decoloniais\, Estética\, Relações raciais e de gênero\, Cooperação Sul-Sul\, Perspectivas críticas de desenvolvimento. \n  \nIntitulada Desigualdades e Representatividades: Alternativas e Debates\, a edição de 2023 do Seminário Discente oferece palestras\, oficinas e grupos de trabalho\, com o objetivo de estimular\, de forma aberta\, a circulação de conhecimento\, o fortalecimento dos espaços de pesquisa e a ampliação do diálogo da produção entre discentes dos mais variados campos do conhecimento científico. Mais informações sobre o seminário. \n  \nO Ciclo de Palestras IESP-UERJ 2023.2 conta com a curadoria dos professores José Szwako e Fabiano Santos\, e com a assistência técnica de Jéssica Lôro.
URL:https://iesp.uerj.br/evento/viii-seminario-discente-palestra-com-marta-fernandez-iri-puc/
LOCATION:IESP-UERJ\, Rua da Matriz\, 82 - Botafogo\, Rio de Janeiro\, RJ\, Brasil
CATEGORIES:Palestra
END:VEVENT
BEGIN:VEVENT
DTSTART;TZID=America/Sao_Paulo:20231107T140000
DTEND;TZID=America/Sao_Paulo:20231107T170000
DTSTAMP:20260421T174628
CREATED:20231106T123710Z
LAST-MODIFIED:20231106T124029Z
UID:153998-1699365600-1699376400@iesp.uerj.br
SUMMARY:Minicursos do VIII Seminário Discente do IESP-UERJ: Dia 1
DESCRIPTION:A comissão organizadora convida toda a comunidade acadêmica a participar do VIII Seminário Discente do Instituto de Estudos Sociais e Políticos \, realizado de maneira presencial entre os dias 6 e 10 de novembro de 2023\, na sede do Instituto. \n \nProgramação do 1º dia de minicursos:\nEntre 14h e 17h:\nDiplomacia nos gramados: os reflexos dos jogos de poder contemporâneos no futebol mundial\, ministrado por Nathália Tavares (IESP-UERJ) e Felipe Vidal (PPGRI-UERJ) na Sala Marcus Figueiredo: \n\nO curso tem como principal objetivo proporcionar uma compreensão abrangente das inúmeras maneiras pelas quais o futebol influencia e é influenciado por questões internacionais cruciais. Ao final\, os participantes estarão aptos a analisar o futebol não apenas como um esporte\, mas também como uma ferramenta multifacetada para explorar tópicos relevantes\, como identidade nacional\, migração\, diversidade\, diplomacia\, conflito e democratização.\nConteúdo programático: Futebol e Identidade Nacional; Migração e futebol global; Diversidade e inclusão no futebol; Diplomacia e conflito no futebol; Futebol e democratização.\n\n  \nMétodos digitais: extraindo dados de redes sociais sem códigos\, ministrado por Matheus Pestana (FGV-ECMI e IESP-UERJ) na Sala Olavo Brasil: \n\nO curso tem como principais objetivos: Apresentar as funcionalidades básicas do Zeeschuimer e do 4CAT; ensinar os participantes a extrair dados de redes sociais sem a necessidade de programação; explorar técnicas de análise e visualização desses dados; abordar práticas éticas e responsáveis ao trabalhar com dados de redes sociais.\nConteúdo programático: Introdução ao Mundo de Extração de Dados (A importância dos dados nas redes sociais e visão geral das ferramentas Zeeschuimer e 4CAT); Zeeschuimer: O Que é e Como Usar (Interface\, funcionalidades e extração de dados do Instagram\, TikTok e outras plataformas); 4CAT: Primeiros Passos e Análises Avançadas (Configurando e explorando a ferramenta criando redes e visualizações a partir dos dados extraídos).\n\n  \nPesquisando em campos conservadores: reflexões metodológicas sobre os desafios desse tipo de pesquisa\, ministrado por Ana Carolina Castro (PPGCS-UFES e IESP-UERJ) e João Gabriel Couri (IESP-UERJ) na Sala Carlos Hasenbalg: \n\nO curso tem como principais objetivos: (a) Criar um espaço para os(as) discentes compartilhem suas experiências e inquietações relacionadas à realização de pesquisas em campos conservadores\, promovendo uma aprendizagem colaborativa;(b) Sensibilizar os e as participantes sobre a importância de pensar cientificamente a pesquisa em campos considerados conservadores; (c) Contribuir para que os e as participantes compreendam os desafios específicos da pesquisa em campos difíceis ou hostis\, incluindo questões éticas\, acesso ao campo e aos(às) interlocutores(as); (d) Fornecer aos(às) participantes habilidades práticas necessárias para planejar\, conduzir e analisar pesquisas em campos difíceis e hostis; (e) Promover uma reflexão profunda sobre questões éticas envolvidas nesse tipo de pesquisa\, desenvolvendo estratégias para lidar com essas questões; (f) Explorar e discutir abordagens metodológicas adaptadas a esse tipo de campo\, ajudando os(as) participantes a desenvolverem uma metodologia robusta para as suas pesquisas.\nConteúdo programático: Introdução; Formulação de perguntas de pesquisa e estruturação do estudo; Estratégias de acesso ao campo e aos(às) interlocutores(as); Construção de relação de confiança com os interlocutores; Coleta de dados e análise; Ética na pesquisa em campos conservadores; Avaliação de riscos; Reflexões e mitigações de vieses; Comunicação de resultados e responsabilidade na pesquisa\n\nConfira aqui os programas completos de todos os minicursos.\n  \nIntitulada Desigualdades e Representatividades: Alternativas e Debates\, a edição de 2023 do Seminário Discente oferece palestras\, oficinas e grupos de trabalho\, com o objetivo de estimular\, de forma aberta\, a circulação de conhecimento\, o fortalecimento dos espaços de pesquisa e a ampliação do diálogo da produção entre discentes dos mais variados campos do conhecimento científico. Mais informações sobre o seminário.
URL:https://iesp.uerj.br/evento/minicursos-do-viii-seminario-discente-do-iesp-uerj-dia-1/
LOCATION:IESP-UERJ\, Rua da Matriz\, 82 - Botafogo\, Rio de Janeiro\, RJ\, Brasil
CATEGORIES:Palestra
END:VEVENT
BEGIN:VEVENT
DTSTART;TZID=America/Sao_Paulo:20231109T090000
DTEND;TZID=America/Sao_Paulo:20231109T140000
DTSTAMP:20260421T174628
CREATED:20231106T125012Z
LAST-MODIFIED:20231106T125012Z
UID:154025-1699520400-1699538400@iesp.uerj.br
SUMMARY:Grupos de Trabalho do VIII Seminário Discente do IESP-UERJ: Dia 4
DESCRIPTION:A comissão organizadora convida toda a comunidade acadêmica a participar do VIII Seminário Discente do Instituto de Estudos Sociais e Políticos \, realizado de maneira presencial entre os dias 6 e 10 de novembro de 2023\, na sede do Instituto. \n \nProgramação do 4º dia de Grupos de Trabalho:\nEntre 9h e 12h:\nGT3. Métodos Computacionais Em Ciências Sociais\nCoordenado por Matheus Pestana (IESP-UERJ) e Luana Calzavara (IESP-UERJ) na Sala Marcus Figueiredo\, em modalidade híbrida: \n\nUm guia introdutório à análise de modelos multiníveis na ciência política\, por Naiara Sandi de Almeida Alcantara (UFPA)\nPrevendo o Supremo? Modelagem preditiva sobre julgamentos finais de Ações Diretas de Inconstitucionalidade\, por Pedro Henrique Reis Pereira (DCP-USP)\n\n  \nGT12. Desigualdade\, Direitos Fundamentais e Democracia\nCoordenado por Henrique Queiroz (UFMG) e Guilherme Alcântara (UFMG) na Sala Olavo Brasil: \n\nDesenvolvimento ou decrescimento? Uma política climática para o século XXI\, por Elisa Maffassiolli Hartwig (Unisinos) e Laís Nardon Martins (Unisinos)\nJustiça social e apoio à democracia: uma análise comparada entre Argentina e Brasil\, por Mozara de Souza Rodrigues (UNIRIO)\nEnquanto “some social requisites of democracy” do Lipset não forem minimamente garantidos\, a democracia liberal do Dimond continua sendo um sonho no Brasil\, por Nando Paulo Suma (Unicamp)\nA razão pública em julgamento: a atuação do Supremo Tribunal Federal no processo de impeachment de Dilma Rousseff\, por Gabriela Brandão Figueira Corrêa (UERJ) e Gabriel Martins Cruz de Aguiar Pereira (UERJ)\nDemocracia representativa como alternativa à democracia direta: um exemplo da democracia moçambicana\, por Paulo Jacob Inguane (IESP-UERJ)\nA influência do poder econômico no financiamento eleitoral privado: avaliação dos dez maiores doadores de campanha no brasil em 2022 a partir de seus beneficiários e agendas de interesse\, por Frederico Augusto Auad de Gomes Filho (IESP-UERJ) e Shamira Rossi Machado (UNIRIO)\n\n  \nIntitulada Desigualdades e Representatividades: Alternativas e Debates\, a edição de 2023 oferece palestras\, oficinas e grupos de trabalho\, com o objetivo de estimular\, de forma aberta\, a circulação de conhecimento\, o fortalecimento dos espaços de pesquisa e a ampliação do diálogo da produção entre discentes dos mais variados campos do conhecimento científico. Mais informações sobre o seminário.
URL:https://iesp.uerj.br/evento/grupos-de-trabalho-do-viii-seminario-discente-do-iesp-uerj-dia-4/
LOCATION:IESP-UERJ\, Rua da Matriz\, 82 - Botafogo\, Rio de Janeiro\, RJ\, Brasil
CATEGORIES:Palestra
END:VEVENT
BEGIN:VEVENT
DTSTART;TZID=America/Sao_Paulo:20231117T140000
DTEND;TZID=America/Sao_Paulo:20231117T180000
DTSTAMP:20260421T174628
CREATED:20231031T162723Z
LAST-MODIFIED:20240814T153601Z
UID:154062-1700229600-1700244000@iesp.uerj.br
SUMMARY:Ciclo de Palestras 2023.2: Eleições na Argentina - Resultados e análises
DESCRIPTION:O Instituto de Estudos Sociais e Políticos da Universidade do Estado do Rio de Janeiro (IESP-UERJ) e a Escuela de Política y Gobierno da Universidade Nacional de San Martín (EPYG-UNSAM) promovem em parceria o seminário Eleições na Argentina – Resultados e análises. \n\n\n\nParte da programação do Ciclo de Palestras IESP-UERJ 2023.2\, o seminário é composto de duas mesas de discussão realizadas na Sala Olavo Brasil\, com transmissão ao vivo em nosso canal no YouTube\, dedicadas a analisar e debater os resultados eleitorais obtidos nas últimas eleições gerais da República Argentina\, assim como o contexto e o estado geral do país às vésperas do segundo turno do pleito. \n  \nProgramação:\n \n14h – Eleições 2023: Resultados nacionais\, congressuais e provinciais\n\nJacqueline Behrend (EPYG-UNSAM)\nXimena Simpson (EPYG-UNSAM)\nFabiano Santos (IESP-UERJ)\n\n  \n \n16h – Polarização\, democracia e movimentos sociais\n\nLucas Gonzalez (EPYG-UNSAM)\nJosé Maurício Domingues (IESP-UERJ)\nRenato Pereira (MSG Consulting)\n\n  \nO Ciclo de Palestras IESP-UERJ 2023.2 conta com a curadoria dos professores José Szwako e Fabiano Santos\, e com a assistência técnica de Jéssica Lôro.
URL:https://iesp.uerj.br/evento/ciclo-de-palestras-2023-2-eleicoes-na-argentina-resultados-e-analises/
LOCATION:IESP-UERJ\, Rua da Matriz\, 82 - Botafogo\, Rio de Janeiro\, RJ\, Brasil
CATEGORIES:Palestra
END:VEVENT
END:VCALENDAR