BEGIN:VCALENDAR
VERSION:2.0
PRODID:-//IESP - ECPv6.0.7.1//NONSGML v1.0//EN
CALSCALE:GREGORIAN
METHOD:PUBLISH
X-WR-CALNAME:IESP
X-ORIGINAL-URL:https://iesp.uerj.br
X-WR-CALDESC:Eventos para IESP
REFRESH-INTERVAL;VALUE=DURATION:PT1H
X-Robots-Tag:noindex
X-PUBLISHED-TTL:PT1H
BEGIN:VTIMEZONE
TZID:America/Sao_Paulo
BEGIN:STANDARD
TZOFFSETFROM:-0300
TZOFFSETTO:-0300
TZNAME:-03
DTSTART:20240101T000000
END:STANDARD
END:VTIMEZONE
BEGIN:VEVENT
DTSTART;TZID=America/Sao_Paulo:20241108T093000
DTEND;TZID=America/Sao_Paulo:20241108T180000
DTSTAMP:20260423T094850
CREATED:20241030T175833Z
LAST-MODIFIED:20241031T135955Z
UID:157932-1731058200-1731088800@iesp.uerj.br
SUMMARY:Manchetômetro: 10 anos de monitoramento da esfera pública
DESCRIPTION:O Laboratório de Estudos de Mídia e Esfera Pública (Lemep) convida para o seminário Manchetômetro: 10 anos de monitoramento da esfera pública\, oferecido na Sala Olavo Brasil. \n\nAssista à transmissão online ao vivo em nosso canal! \nEm 2014\, o Manchetômetro nasceu com o propósito de monitorar a cobertura da imprensa tradicional durante o período eleitoral e\, desde então\, o  projeto se consolidou como o monitor diário do debate público nos maiores meios de comunicação e redes sociais do Brasil. Para celebrar essa marca\, o evento reúne representantes da equipe do Laboratório e especialistas vinculados a diversas instituições e organizações do Brasil e do exterior em quatro mesas de discussão. \nProgramação:\n9h30-10h – Mesa de abertura:\n\nJoão Feres Júnior (Coordenador do Lemep)\nSan Romanelli Assumpção (Vice-Diretora do IESP-UERJ)\n\n  \n10h-12h – Mesa 1: Comunicação política e redes sociais\n\nLeonardo Nascimento (ICTI-UFBA)\nTiago Ventura (Georgetown University)\nGiulia Tucci (IBICT)\nNina da Hora (Instituto da Hora)\nModeração: André Felix (Lemep/IESP-UERJ)\n\n\n\n\n14h-15h – Mesa 2: 10 anos de pesquisas do Manchetômetro\n\nEduardo Barbabela (Lemep/CAPP/ISCSP/Universidade de Lisboa)\nLidiane Vieira (Lemep/IESP-UERJ)\nLuiza Medeiros (Lemep/IESP-UERJ)\nModeração: André Madruga (Lemep/IESP-UERJ)\n\n\n\n\n  \n15h-16h – Mesa 3: Combate à desinformação\n\nRenam Brandão (Secom- Governo Federal)\nModeração: Lidiane Vieira\n\n\n\n\n16h30-18h – Mesa de encerramento: Populismo\, Polarização e Pós-verdade\n\nJosé Manuel Robles (Universidad Complutense)\nModeração: João Feres Júnior\n\n\n\n\n  \n18h – Coquetel de confraternização\n  \nO seminário conta com o apoio do Conselho Nacional de Desenvolvimento Científico e Tecnológico  (CNPq) e da Fundação Carlos Chagas Filho de Amparo à Pesquisa do Estado do Rio de Janeiro (Faperj).
URL:https://iesp.uerj.br/evento/manchetometro-10-anos-de-monitoramento-da-esfera-publica/
LOCATION:IESP-UERJ\, Rua da Matriz\, 82 - Botafogo\, Rio de Janeiro\, RJ\, Brasil
CATEGORIES:Palestra
END:VEVENT
END:VCALENDAR