BEGIN:VCALENDAR
VERSION:2.0
PRODID:-//IESP - ECPv6.0.7.1//NONSGML v1.0//EN
CALSCALE:GREGORIAN
METHOD:PUBLISH
X-ORIGINAL-URL:https://iesp.uerj.br
X-WR-CALDESC:Eventos para IESP
REFRESH-INTERVAL;VALUE=DURATION:PT1H
X-Robots-Tag:noindex
X-PUBLISHED-TTL:PT1H
BEGIN:VTIMEZONE
TZID:America/Sao_Paulo
BEGIN:STANDARD
TZOFFSETFROM:-0300
TZOFFSETTO:-0300
TZNAME:-03
DTSTART:20230101T000000
END:STANDARD
END:VTIMEZONE
BEGIN:VEVENT
DTSTART;TZID=America/Sao_Paulo:20230403T140000
DTEND;TZID=America/Sao_Paulo:20230403T180000
DTSTAMP:20260426T010113
CREATED:20230310T202529Z
LAST-MODIFIED:20230322T213452Z
UID:151437-1680530400-1680544800@iesp.uerj.br
SUMMARY:Defesa: Pedro de Araújo Fernandes
DESCRIPTION:O Programa de Pós-Graduação em Ciência Política\nconvida para:\n  \n\nDefesa de Tese\n  \n\nA formação do regime internacional anticorrupção e\nos (des)caminhos da Operação Lava Jato no Brasil\n  \n\nde\nPedro de Araújo Fernandes\n  \n\nBanca Examinadora:\nProf. Dr. Fabiano Guilherme Mendes Santos (Orientador)\nProf. Dr. Fernando de Castro Fontainha (Coorientador))\nProf. Dr. Carlos Roberto Sanchez Milani (IESP-UERJ)\nProf. Dr. Luiz Fernando Rodrigues de Paula (IESP-UERJ)\nProf. Dr. Fabiano Engelmann (UFRGS)\nProf.a Dr.a Marjorie Corrêa Marona (UFMG)\n  \n\nDia 03 de Abril de 2023\, segunda-feira\, às 14:00 horas\nIESP-UERJ\, Sala Olavo Brasil: Rua da Matriz\, 82 – Botafogo
URL:https://iesp.uerj.br/evento/defesa-pedro-de-araujo-fernandes/
LOCATION:IESP-UERJ\, Rua da Matriz\, 82 - Botafogo\, Rio de Janeiro\, RJ\, Brasil
CATEGORIES:Tese
END:VEVENT
BEGIN:VEVENT
DTSTART;TZID=America/Sao_Paulo:20230427T160000
DTEND;TZID=America/Sao_Paulo:20230427T190000
DTSTAMP:20260426T010113
CREATED:20230426T125956Z
LAST-MODIFIED:20230426T135909Z
UID:152058-1682611200-1682622000@iesp.uerj.br
SUMMARY:Aula Aberta com Michele Massuchin (PPGCP-UFPR)
DESCRIPTION:Os professores João Feres Júnior  e Fabiano Santos recebem a Prof. Michele Massuchin (PPGCP-UFPR) para ministrar sua palestra Eleições pós-redemocratização no Brasil a partir da comunicação política\, aula aberta inserida dentro do programa da disciplina Política Brasileira. \n \nOferecida na Sala Olavo Brasil\, a atividade será seguida de um debate entre os presentes. \n  \nSobre a palestrante:\nDoutora em Ciência Política pela Universidade Federal de São Carlos (UFSCar)\, Michele Goulart Massuchin é Professora do Departamento de Comunicação (DECOM)\, do Programa de Pós-Graduação em Comunicação (PPGCOM) e do Programa de Pós-Graduação em Ciência Política (PPGCP) da Universidade Federal do Paraná (UFPR). Trabalha com os seguintes temas: propaganda política e eleitoral\, metodologia de pesquisa\, jornalismo político\, produção jornalística\, comunicação política online e comunicação e gênero.
URL:https://iesp.uerj.br/evento/aula-aberta-com-michele-massuchin-ppgcp-ufpr/
LOCATION:Ciclo de Palestras 2026.1: Danusa Marques (IPOL-UnB)\, RJ
CATEGORIES:Palestra
END:VEVENT
BEGIN:VEVENT
DTSTART;TZID=America/Sao_Paulo:20230428T100000
DTEND;TZID=America/Sao_Paulo:20230428T130000
DTSTAMP:20260426T010113
CREATED:20230417T204207Z
LAST-MODIFIED:20230427T184603Z
UID:152000-1682676000-1682686800@iesp.uerj.br
SUMMARY:Eleições 2022: significados e consequências
DESCRIPTION:O Programa de Pós-Graduação em Ciência Política do IESP-UERJ promove o painel Eleições 2022: significados e consequências. O evento contará com duas palestras de pesquisadores convidados – A experiência de 2022 e os riscos à integridade eleitoral no Brasil\, apresentada por Gabriela Tarouco (PPGCP-UFPE)\, e O que o Estudo Eleitoral Brasileiro de 2022 conta sobre a vitória de Lula\, ministrada por Oswaldo do Amaral (IFCH-UNICAMP) – seguidas de um debate com mediação do Prof. João Feres Júnior. \n  \n \n  \nOferecida na Sala Olavo Brasil\, a atividade será transmitida simultaneamente em nosso canal no YouTube. \n  \nPalestrantes:\nDoutora em Ciência Política pelo Instituto Universitário de Pesquisas do Rio de Janeiro (IUPERJ)\, com estágio sanduíche no Kellogg Institute For International Studies da Universidade de Notre Dame\, Gabriela da Silva Tarouco é Professora Associada do Programa de Pós-Graduação em Ciência Política da Universidade Federal de Pernambuco (PPGCP-UFPE). É autora do artigo Esquerda\, direita e eleições presidenciais no Brasil (Estudos Avançados\, V.36\, nº 106\, 2022).  Tem experiência na área de Ciência Política\, com ênfase em Partidos Políticos e Eleições. \n  \nDoutor em Ciência Política pelo Instituto de Filosofia e Ciências Humanas da Universidade Federal de Campinas (IFCH-UNICAMP)\, Oswaldo Martins Estanislau do Amaral\, é professor do Departamento de Ciência Política da instituição (DCP-UNICAMP) e diretor do Centro de Estudos de Opinião Pública (Cesop). Assina\, em coautoria com Mariana Chaguri\, o artigo The Social Base of Bolsonarism: An Analysis of Authoritarianism in Politics (Latin American Perspectives\, 2023). É membro do Comitê Gestor do Instituto da Democracia e da Democratização da Comunicação (INCT).
URL:https://iesp.uerj.br/evento/eleicoes-2022-significados-e-consequencias/
LOCATION:Ciclo de Palestras 2026.1: Danusa Marques (IPOL-UnB)\, RJ
CATEGORIES:Palestra
END:VEVENT
END:VCALENDAR