BEGIN:VCALENDAR
VERSION:2.0
PRODID:-//IESP - ECPv6.0.7.1//NONSGML v1.0//EN
CALSCALE:GREGORIAN
METHOD:PUBLISH
X-WR-CALNAME:IESP
X-ORIGINAL-URL:https://iesp.uerj.br
X-WR-CALDESC:Eventos para IESP
REFRESH-INTERVAL;VALUE=DURATION:PT1H
X-Robots-Tag:noindex
X-PUBLISHED-TTL:PT1H
BEGIN:VTIMEZONE
TZID:America/Sao_Paulo
BEGIN:STANDARD
TZOFFSETFROM:-0300
TZOFFSETTO:-0300
TZNAME:-03
DTSTART:20220101T000000
END:STANDARD
END:VTIMEZONE
BEGIN:VEVENT
DTSTART;TZID=America/Sao_Paulo:20221027T160000
DTEND;TZID=America/Sao_Paulo:20221027T173000
DTSTAMP:20260422T200128
CREATED:20221014T202625Z
LAST-MODIFIED:20221014T202625Z
UID:148713-1666886400-1666891800@iesp.uerj.br
SUMMARY:Seminário Nied-Ceres: Juliana Marques
DESCRIPTION:O Centro para o Estudo da Riqueza e Estratificação Social (Ceres) e o Núcleo Interdisciplinar de Estudos sobre Desigualdade (NIED-UFRJ) promovem o seminário on-line Agendas distributivas no Brasil rural de 1920 a 1945\, ministrado por Juliana Marques\, coordenadora  de pesquisa do FGV-CPDOC. \n  \n \n  \n  \nA socióloga compartilhará resultados de sua pesquisa de tese de doutorado\, defendida no Instituto em 2021\, sob orientação do professor Carlos Costa Ribeiro\, e contemplada com o prêmio de melhor tese em Sociologia do Concurso de Teses e Dissertações do IESP-UERJ 2022\, além de menção honrosa no Prêmio CAPES de Tese 2022. \n  \nPara participar\, basta se inscrever com antecedência pelo Zoom. Os eventos anteriores da série podem ser assistidos no canal do projeto no YouTube.
URL:https://iesp.uerj.br/evento/seminario-nied-ceres-juliana-marques/
LOCATION:Seminário NIED-CERES: Jacinto Cuvi (Université libre de Bruxelles)\, Rio de Janeiro
CATEGORIES:Palestra
END:VEVENT
END:VCALENDAR