BEGIN:VCALENDAR
VERSION:2.0
PRODID:-//IESP - ECPv6.0.7.1//NONSGML v1.0//EN
CALSCALE:GREGORIAN
METHOD:PUBLISH
X-ORIGINAL-URL:https://iesp.uerj.br
X-WR-CALDESC:Eventos para IESP
REFRESH-INTERVAL;VALUE=DURATION:PT1H
X-Robots-Tag:noindex
X-PUBLISHED-TTL:PT1H
BEGIN:VTIMEZONE
TZID:America/Sao_Paulo
BEGIN:STANDARD
TZOFFSETFROM:-0300
TZOFFSETTO:-0300
TZNAME:-03
DTSTART:20230101T000000
END:STANDARD
END:VTIMEZONE
BEGIN:VEVENT
DTSTART;TZID=America/Sao_Paulo:20231009T140000
DTEND;TZID=America/Sao_Paulo:20231009T170000
DTSTAMP:20260424T221846
CREATED:20231003T161405Z
LAST-MODIFIED:20231003T161736Z
UID:153839-1696860000-1696870800@iesp.uerj.br
SUMMARY:Ciclo de Palestras 2023.2: Taylor Boas (Universidade de Boston)
DESCRIPTION:O Ciclo de Palestras IESP-UERJ 2023.2 recebe o Prof. Taylor Boas (Boston University) para ministrar a sua conferência Evangelicals and Electoral Politics in Latin America: A Kingdom of This World\, na Sala Olavo Brasil. \n\nAssista também ao vivo em nosso canal no YouTube! \nDoutor em Ciência Política pela Universidade da Califórnia (UC-Berkeley)\, Taylor C. Boas é professor de Ciência Política e Estudos Latino-Americanos e chefe do Departamento de Ciência Política da Universidade de Boston. Assina como autor os livros Evangelicals and Electoral Politics in Latin America: A Kingdom of This World (Cambridge University Press\, 2023) e Presidential Campaigns in Latin America: Electoral Strategies and Success Contagion (Cambridge University Press\, 2016)\, entre outras publicações.  Com Daniel Hidalgo\, coordenou a pesquisa “Accountability and Incumbent Performance in the Brazilian Northeast”\, realizada pela Evidence and Governance in Politics (EGAP). Sua pesquisa se dedica ao estudo da política eleitoral e do comportamento político na América Latina\, com ênfase em temas como religião\, campanhas políticas e mídia de massa. \nO Ciclo de Palestras IESP-UERJ 2023.2 conta com a curadoria dos professores José Szwako e Fabiano Santos\, e com a assistência técnica de Jéssica Lôro.
URL:https://iesp.uerj.br/evento/ciclo-de-palestras-2023-2-taylor-boas-universidade-de-boston/
LOCATION:IESP-UERJ\, Rua da Matriz\, 82 - Botafogo\, Rio de Janeiro\, RJ\, Brasil
CATEGORIES:Palestra
END:VEVENT
END:VCALENDAR