BEGIN:VCALENDAR
VERSION:2.0
PRODID:-//IESP - ECPv6.0.7.1//NONSGML v1.0//EN
CALSCALE:GREGORIAN
METHOD:PUBLISH
X-ORIGINAL-URL:https://iesp.uerj.br
X-WR-CALDESC:Eventos para IESP
REFRESH-INTERVAL;VALUE=DURATION:PT1H
X-Robots-Tag:noindex
X-PUBLISHED-TTL:PT1H
BEGIN:VTIMEZONE
TZID:America/Sao_Paulo
BEGIN:STANDARD
TZOFFSETFROM:-0300
TZOFFSETTO:-0300
TZNAME:-03
DTSTART:20230101T000000
END:STANDARD
END:VTIMEZONE
BEGIN:VEVENT
DTSTART;TZID=America/Sao_Paulo:20230828T130000
DTEND;TZID=America/Sao_Paulo:20230828T170000
DTSTAMP:20260425T152241
CREATED:20230815T142807Z
LAST-MODIFIED:20230815T190217Z
UID:153263-1693227600-1693242000@iesp.uerj.br
SUMMARY:Seminário Internacional: Extrema direita\, populismo e a crise na democracia contemporânea
DESCRIPTION:O Laboratório de Estudos de Mídia e Esfera Pública (Lemep)\, em parceria com o Instituto da Democracia e da Democratização da Comunicação (INCT-IDDC) e com o Instituto de Relações Internacionais da Pontifícia Universidade Católica do Rio de Janeiro (IRI-PUC Rio)\, promove o seminário internacional Extrema direita\, populismo e a crise na democracia contemporânea. \n \n  \nOferecido na Sala Olavo Brasil\, na sede do IESP-UERJ\, o evento contará com duas mesas de discussão reunindo apresentações  (em inglês) de pesquisadores especialistas no tema\, transmitidas ao vivo através do canal do INCT-IDDC no YouTube. \n  \nProgramação:\n \n13h30 – 13h45: Mesa de Abertura com Leonardo Avritzer (PPGCP-UFMG)\n  \n13h45 – 15h15: Mesa 1 – The Extreme Right in Today’s World\, com:\n\nThe fourth wave in Latin America\, por Cas Mudde (Universidade da Geórgia – EUA)\nPopulism in Europe: critical reflexions\, por Yves Sintomer (Paris VIII – França)\nMediação: Andrea Hoffman (IRI-PUC Rio)\n\n  \n \n15h30 – 17h: Mesa 2 – Populism and Democracy\, com:\n\nPopulism and its notion of democratic accountability\, por Enrique Peruzzoti (Universidad Torcuato di Tella – Argentina)\nWhat is this thing called bolsonarismo? Reflections on a fleeting object\, por João Feres Júnior (IESP-UERJ)\nMediação: San Romanelli Assumpção (IESP-UERJ)\n\n 
URL:https://iesp.uerj.br/evento/seminario-internacional-extrema-direita-populismo-e-a-crise-na-democracia-contemporanea/
LOCATION:IESP-UERJ\, Rua da Matriz\, 82 - Botafogo\, Rio de Janeiro\, RJ\, Brasil
CATEGORIES:Palestra
END:VEVENT
END:VCALENDAR