BEGIN:VCALENDAR
VERSION:2.0
PRODID:-//IESP - ECPv6.0.7.1//NONSGML v1.0//EN
CALSCALE:GREGORIAN
METHOD:PUBLISH
X-ORIGINAL-URL:https://iesp.uerj.br
X-WR-CALDESC:Eventos para IESP
REFRESH-INTERVAL;VALUE=DURATION:PT1H
X-Robots-Tag:noindex
X-PUBLISHED-TTL:PT1H
BEGIN:VTIMEZONE
TZID:America/Sao_Paulo
BEGIN:STANDARD
TZOFFSETFROM:-0300
TZOFFSETTO:-0300
TZNAME:-03
DTSTART:20230101T000000
END:STANDARD
END:VTIMEZONE
BEGIN:VEVENT
DTSTART;TZID=America/Sao_Paulo:20230605T140000
DTEND;TZID=America/Sao_Paulo:20230605T160000
DTSTAMP:20260425T182328
CREATED:20230516T194840Z
LAST-MODIFIED:20230516T194840Z
UID:151514-1685973600-1685980800@iesp.uerj.br
SUMMARY:Ciclo de Palestras 2023.1: Angela Alonso (FFLCH-USP)
DESCRIPTION:O Ciclo de Palestras IESP-UERJ 2023.1 recebe a Prof. Angela Alonso (FFLCH-USP) para apresentar sua conferência Treze\, a política de rua de Lula a Dilma. \n \n  \nO evento será realizado presencialmente na sala Olavo Brasil\, na sede do Instituto\, com transmissão simultânea em nosso canal no YouTube. \n  \nDoutora em Sociologia pela Faculdade de Filosofia\, Ciências Humanas e Letras da Universidade de São Paulo (FFLCH-USP)\, Angela Maria Alonso é professora titular do Departamento de Sociologia da USP\, pesquisadora do Centro Brasileiro de Análise e Planejamento (Cebrap) e coordenadora adjunta de Ciências Humanas e Sociais\, Arquitetura\, Economia e Administração da Fundação de Amparo à Pesquisa do Estado de São Paulo (FAPESP). É autora de livros como Idéias em movimento: a geração 1870 na crise do Brasil-Império (Paz & Terra\, 2002)\, Joaquim Nabuco – Os salões e as ruas (Companhia das Letras\, 2007) e Flores\, votos e balas: o movimento abolicionista brasileiro (1868-1888) (Companhia das Letras\, 2015). Suas pesquisas e publicações se concentram na investigação das relações entre cultura e ação política e nos movimentos políticos e intelectuais. \n  \nOrganização do Ciclo: Letícia Pinheiro e José Szwako \nAssistência técnica: Mariane Costa Matos
URL:https://iesp.uerj.br/evento/ciclo-de-palestras-2023-1-angela-alonso-fflch-usp/
LOCATION:IESP-UERJ\, Rua da Matriz\, 82 - Botafogo\, Rio de Janeiro\, RJ\, Brasil
CATEGORIES:Palestra
END:VEVENT
END:VCALENDAR