BEGIN:VCALENDAR
VERSION:2.0
PRODID:-//IESP - ECPv6.0.7.1//NONSGML v1.0//EN
CALSCALE:GREGORIAN
METHOD:PUBLISH
X-ORIGINAL-URL:https://iesp.uerj.br
X-WR-CALDESC:Eventos para IESP
REFRESH-INTERVAL;VALUE=DURATION:PT1H
X-Robots-Tag:noindex
X-PUBLISHED-TTL:PT1H
BEGIN:VTIMEZONE
TZID:America/Sao_Paulo
BEGIN:STANDARD
TZOFFSETFROM:-0300
TZOFFSETTO:-0300
TZNAME:-03
DTSTART:20230101T000000
END:STANDARD
END:VTIMEZONE
BEGIN:VEVENT
DTSTART;TZID=America/Sao_Paulo:20230424T140000
DTEND;TZID=America/Sao_Paulo:20230424T160000
DTSTAMP:20260421T171305
CREATED:20230317T192714Z
LAST-MODIFIED:20230317T192714Z
UID:151483-1682344800-1682352000@iesp.uerj.br
SUMMARY:Ciclo de Palestras 2023.1: José Dari Krein (Unicamp)
DESCRIPTION:O Ciclo de Palestras IESP-UERJ 2023.1 recebe o Prof. José Dari Krein (IFCH-Unicamp) para apresentar sua conferência Para pensar as perspectivas do trabalho no Brasil. \n  \n \n  \nO evento será realizado presencialmente na Sala Olavo Brasil\, na sede do Instituto\, com transmissão simultânea em nosso canal no YouTube. \n  \nDoutor em Economia Social e do Trabalho pela Universidade Estadual de Campinas (Unicamp)\, José Dari Krein é professor do Instituto de Economia da instituição (IE-Unicamp)\, diretor do Centro de Estudos Sindicais e Economia do Trabalho (Cesit) e coordenador da Rede de Estudos e Monitoramento Interdisciplinar da Reforma Trabalhista (REMIR Trabalho). É coorganizador de livros como O futuro é a redução da jornada de trabalho (Cirkula\, 2022) e O trabalho pós-reforma trabalhista (CESIT-Unicamp\, 2021). Sua pesquisa é voltada para mercado e relações de trabalho\, com ênfase nos impactos da reforma trabalhista\, nas mudanças do trabalho\, o sindicalismo e as negociações coletivas. \n  \nOrganização do Ciclo: Letícia Pinheiro e José Szwako \nAssistência técnica: Mariane Costa Matos
URL:https://iesp.uerj.br/evento/ciclo-de-palestras-2023-1-jose-dari-krein-unicamp/
LOCATION:IESP-UERJ\, Rua da Matriz\, 82 - Botafogo\, Rio de Janeiro\, RJ\, Brasil
CATEGORIES:Palestra
END:VEVENT
END:VCALENDAR