BEGIN:VCALENDAR
VERSION:2.0
PRODID:-//IESP - ECPv6.0.7.1//NONSGML v1.0//EN
CALSCALE:GREGORIAN
METHOD:PUBLISH
X-ORIGINAL-URL:https://iesp.uerj.br
X-WR-CALDESC:Eventos para IESP
REFRESH-INTERVAL;VALUE=DURATION:PT1H
X-Robots-Tag:noindex
X-PUBLISHED-TTL:PT1H
BEGIN:VTIMEZONE
TZID:America/Sao_Paulo
BEGIN:STANDARD
TZOFFSETFROM:-0300
TZOFFSETTO:-0300
TZNAME:-03
DTSTART:20220101T000000
END:STANDARD
END:VTIMEZONE
BEGIN:VEVENT
DTSTART;TZID=America/Sao_Paulo:20220704T140000
DTEND;TZID=America/Sao_Paulo:20220704T170000
DTSTAMP:20260422T060634
CREATED:20220628T212546Z
LAST-MODIFIED:20220628T212546Z
UID:73301-1656943200-1656954000@iesp.uerj.br
SUMMARY:Seminário DECISO: Marcus Vinícius de Matos
DESCRIPTION:O Núcleo de Pesquisas em Direito e Ciências Sociais (DECISO) convida para o seminário “O que o direito quer da(de) verdade? Interfaces entre teoria do direito e teoria da imagem“\, apresentado pelo Prof. Marcus Vinícius de Matos (Brunel University London). \n \n  \nCom a participação do Prof. Fernando Fontainha\, coordenador do DECISO e diretor do Instituto\, como debatedor\, o seminário será realizado presencialmente na sede do IESP-UERJ\, na sala Olavo Brasil.
URL:https://iesp.uerj.br/evento/seminario-deciso-marcus-vinicius-de-matos/
LOCATION:IESP-UERJ\, Rua da Matriz\, 82 - Botafogo\, Rio de Janeiro\, RJ\, Brasil
CATEGORIES:Palestra
END:VEVENT
BEGIN:VEVENT
DTSTART;TZID=America/Sao_Paulo:20220705T090000
DTEND;TZID=America/Sao_Paulo:20220705T130000
DTSTAMP:20260422T060634
CREATED:20220602T134127Z
LAST-MODIFIED:20220602T134127Z
UID:19455-1657011600-1657026000@iesp.uerj.br
SUMMARY:Defesa: Hugo Bras Martins da Costa
DESCRIPTION:O Programa de Pós-Graduação em Ciência Política\nconvida para:\n\n  \n  \nDefesa de Tese\n\n  \n  \nPolítica Externa Brasileira e as Operações de\nManutenção da Paz das Nações Unidas\n\n  \n  \nde\nHugo Bras Martins da Costa\n\n  \n  \n\nBanca Examinadora:\nProf. Dr. Carlos Roberto Sanchez Milani (Orientador)\nProf. Dr. Guillaume Devin (Orientador Estrangeiro)\nProf.ª Dr.ª Maria Regina Soares de Lima (IESP-UERJ)\nProf.ª Dr.ª Letícia de Abreu Pinheiro (IESP-UERJ)\nProf. Dr. Kai Michael Kenkel (PUC-Rio)\nProf.ª Dr.ª Mélanie Albaret (UCA)\n\n  \n  \nDia 05 de Julho de 2022\, terça-feira\, às 09:00 horas\nRua da Matriz\, 82 – Botafogo
URL:https://iesp.uerj.br/evento/defesa-hugo-bras-martins-da-costa/
LOCATION:Defesa: Alexsander Matheus Araújo Costa\, RJ
CATEGORIES:Tese
END:VEVENT
BEGIN:VEVENT
DTSTART;TZID=America/Sao_Paulo:20220705T130000
DTEND;TZID=America/Sao_Paulo:20220705T170000
DTSTAMP:20260422T060634
CREATED:20220506T163248Z
LAST-MODIFIED:20220506T163248Z
UID:18773-1657026000-1657040400@iesp.uerj.br
SUMMARY:Palestra: Elisio Macamo
DESCRIPTION:A série de seminários internacionais Making Sense of the Post-Covid World: Continuities and Changes recebe o Prof. Elisio Macamo (Universität Basel)\, para apresentar sua conferência The Pandemic as Disaster: African Perspectives: \n  \n\n\n\n  \nUma parceria entre o IESP-UERJ\, o Hamburger Institut für Sozialforschung (HIS)\, o Lateinamerika-Institut (Freie Universität Berlin) e o Maria Sibylla Merian Centre Conviviality-Inequality in Latin America (Mecila)\, a série de oito seminários apresentados por pesquisadores de diversas origens e campos das Ciências Sociais discute os efeitos persistentes da pandemia de Covid-19 nas sociedades. Sempre às terças-feiras\, a partir de 13h (BRT)\, as palestras são apresentadas em inglês e ocorrem por meio da plataforma digital Zoom Meetings\, além de serem transmitidas ao vivo\, através do canal da Mecila no YouTube. \nInscreva-se através deste link (em breve)\nCoordenação:\nMariana Cavalcanti (Grupo CASA)\nJosé Maurício Domingues (NETSAL)\nSergio Costa (FU Berlin/Mecila)\nWolfgang Knöbl (HIS-Hamburg) \n 
URL:https://iesp.uerj.br/evento/palestra-elisio-macamo/
LOCATION:Defesa: Alexsander Matheus Araújo Costa\, RJ
CATEGORIES:Palestra
END:VEVENT
BEGIN:VEVENT
DTSTART;TZID=America/Sao_Paulo:20220706T090000
DTEND;TZID=America/Sao_Paulo:20220706T190000
DTSTAMP:20260422T060634
CREATED:20220705T210911Z
LAST-MODIFIED:20220705T210911Z
UID:89235-1657098000-1657134000@iesp.uerj.br
SUMMARY:VETPPPB: Dia de abertura
DESCRIPTION:O Instituto de Estudos Sociais e Políticos abriga a quinta edição do Encontro de Teoria Política e Pensamento Político Brasileiro. \n \n\n\n\n \n\nNo primeiro dia do evento\, pesquisadores e demais interessados no tema podem assistir presencialmente Conferência de Abertura e às duas primeiras mesas de discussão\, além da apresentação de dois Grupos de Trabalho. Todas as mesas serão transmitidas online ao vivo no canal Seminários – IESP no YouTube.\n\n \n\n \n\n \n\n\nPROGRAMAÇÃO:\n\nGT 1 – Teoria Normativa:\n \n\n 	Tarcísio Amorim (Universidade do Minho) – Acessando razões morais religiosas por meio de transformações cognitivas em esquemas de racionalidade: uma concepção pragmatista de democracia deliberativa.\n 	Ulysses Ferraz (IESP-UERJ/UFRJ) – Justiça como equidade intergeracional: uma proposta de reformulação dos princípios rawlsianos em face de novas circunstâncias de justiça.\n 	Gabriel Garcia (USP) – Rawls\, Tomasi e as liberdades econômicas.\n 	Felipe Ferreira (UFSC) – Basilar\, desnecessário ou danoso: qual o papel da teoria ideal para a teoria e ação política? – Um balanço entre a teoria analítica da justiça de John Rawls\, a abordagem comparativa da justiça de Amartya Sen e a Teoria Crítica.\n 	Caio Mota (UEL) – “Self-ownership” e propriedade privada: o conflito normativo sobre direitos de propriedade privada e a justiça distributiva no libertarianismo de direita e de esquerda.\n 	Debatedor: Sebastián Rudas (UFU)\n 	Coordenação: Lilian Sendretti (USP).\n\n \n \n \nGT 5 – Pensamento Político Brasileiro e Latino-americano:\n \nSessão 1 – Estado\, ideologias e circulação de ideias: \n \n\n 	Renato Ferreira Ribeiro\, José Augusto de Souza (UFSCar) – Recepções do fascismo no Brasil no contexto da Revolução de 1930.\n 	Fabio Gentile (UFC) – Ecos do fascismo no Brasil de Getúlio Vargas (1930 – 1954).\n 	Ângelo Remédio Neto (IESP-UERJ) – O conceito de Revolução Brasileira em Azevedo Amaral.\n 	Thiago Babo (USP) – O conceito de Estado no pensamento político de Oliveiros S. Ferreira.\n 	André Silva de Oliveira (UFPE) e Celso Coelho Vaz (UFPA) – Ruy Fausto e a improvável reconstrução da esquerda.\n 	Debatedor: Jorge Chaloub (UFRJ).\n 	Coordenação: Paulo Henrique Cassimiro (IESP-UERJ).\n\n \n \n \n13:00 – 13:30 – Abertura do V Encontro:\n\n\n\n \n\n \n\n \n13:30 – 16:00 – MESA 1\nInterpelando o contemporâneo: desafios e agendas para a teoria política:\n\n\n \n\n 	Cícero Araújo (USP) – Política em tempos turbulentos: o estranho e a curvatura do espaço normativo.\n 	Paulo Henrique Cassimiro (IESP-UERJ) – A história do pensamento pode realmente nos ajudar a entender o presente? Notas teóricas e metodológicas a partir do estudo da extrema-direita.\n 	Marcelo Jasmin (PUC-RJ) – Algumas sugestões de pesquisa: o antropoceno e a inteligência artificial.\n 	João Feres Jr. (IESP-UERJ) – Bolsonarismo: para além do discurso.\n 	Moderação: Ingrid Cyfer (Unifesp).\n\n \n \n \n\n \n\n \n16:30 – 19:00 – MESA 2\n(Re)pensando a história do pensamento político: problemas de interpretação\, agendas contemporâneas:\n\n\n \n\n 	Ricardo Silva (UFSC) – O problema do Império no republicanismo de Maquiavel.\n 	Eunice Ostrensky (USP) – Tirania e despotismo na “Reivindicação dos direitos da mulher”\, de Mary Wollstonecraft.\n 	Felipe Freller (UFSCar) – O liberalismo entre a despolitização e o primado do político na instituição do social: as leituras de Gauchet e Rosanvallon sobre o liberalismo clássico.\n 	Ronaldo Tadeu Souza (USP) – Herdeiros de Hannah Arendt na Teoria Política Contemporânea: a questão da Democracia em Giorgio Agamben e Seyla Benhabib.\n 	Moderação: Bernardo Ferreira (UERJ).\n\n \nClique aqui para acessar a programação completa
URL:https://iesp.uerj.br/evento/vetpppb-dia-de-abertura/
LOCATION:IESP-UERJ\, Rua da Matriz\, 82 - Botafogo\, Rio de Janeiro\, RJ\, Brasil
CATEGORIES:Palestra
END:VEVENT
BEGIN:VEVENT
DTSTART;TZID=America/Sao_Paulo:20220707T090000
DTEND;TZID=America/Sao_Paulo:20220707T160000
DTSTAMP:20260422T060635
CREATED:20220705T212340Z
LAST-MODIFIED:20220705T212845Z
UID:89321-1657184400-1657209600@iesp.uerj.br
SUMMARY:VETPPPB: Dia 2
DESCRIPTION:O Instituto de Estudos Sociais e Políticos abriga a quinta edição do Encontro de Teoria Política e Pensamento Político Brasileiro. \n  Clique aqui para acessar a programação completa\nTodas as mesas do evento serão transmitidas online ao vivo no canal Seminários – IESP no YouTube. \n\nPROGRAMAÇÃO DO DIA 2:\n\n9:00-12:00 – Sessões de GT’s. \n\n\n\nGT 2 – Teoria Crítica: \n\n\n\n\nGabriel Moura Peters (UFPE) – Poder produtivo ou falsa consciência? Wendy Brown entre Foucault e a teoria crítica na análise dos vínculos entre neoliberalismo e nova direita\nRayani Mariano dos Santos (UFG) – Reflexões sobre neoliberalismo e conservadorismo\nGraziella Alcântara Mazzei (UFRGS) – O sujeito político feminista entre poder\, autonomia e narrativa \nGustavo Frota Lima e Silva (USP) – Um arquivo de sentimentos: o papel da fenomenologia na teoria crítica de Iris Marion Young\nJuliana de Azevedo Castro Cesar (USP) – Articulações da teoria crítica com a psicanálise: proposta de uma “intersubjetividade negativa” entre a pulsão de morte e a fundamentação da crítica\nDebatedor: Raphael Neves (UNIFESP).\nCoordenação: Renato Francisquini (UFBA).\n\n  \n\n\n\n\n\nGT 3 – Abordagens Históricas da Teoria Política: \n\n\n\n\nSérgio Benedito (USP) – O arbítrio do ponto de vista da razão de estado: um exercício de história conceitual a partir de Botero e Naudé. \nLuciana Soria Rico (ANEP – Uruguay) – John Locke ¿un antecedente indiscutible del liberalismo?\nLucas Barcos Rodrigues (Unicamp) – Edmund Burke: Debates com a Swinish Multitude.\nGabriela Rosa (USP) – Soberania popular e representação: o poder constituinte revolucionário na América e na França do século XVIII.\nBlanche Evin da Costa (IESP-UERJ) – O que é o Direito a ter Direitos de Arendt? – Uma abordagem da história intelectual.\nDebatedor: Luís Falcão (UFF)\nCoordenação: Roberta Soromenho Nicolete (UERJ)\n\n  \n\n\n\n\n\nGT 5 – Pensamento Político Brasileiro e Latino-americano. \n\n\n\nSessão 2 – Nacionalismo e desenvolvimento no Pensamento Político Brasileiro: \n\n\n\n\nMarcelo Tomaz de Lima (UFPB) – O nacionalismo revolucionário em Álvaro Vieira Pinto.\nHélio Cannone (IESP-UERJ) – Alberto Pasqualini e Alberto Guerreiro Ramos: dois momentos da ideologia trabalhista.\nJohnny Nogueira\, Alan Caldas (UFSCar) – Guerreiro Ramos e Cepal: debates acerca do desenvolvimento nacional na América Latina.\nItamá do Nascimento Silva (UFPE) – Capitalismo dependente Latino-americano e contrarrevolução em Ruy Mauro Marini.\nNicole Herscovici (USP)\, Daniela Mussi (UFRJ) – Gramsci em refração: a leitura de Fernando Henrique Cardoso.\nDebatedora: Angélica Lovatto (UNESP).\nCoordenação: José Artigas (UFPB)\n\n  \n\n\n\n\n\n13:30 – 16:00 – MESA 3 Questões teóricas e empíricas sobre justiça\, representação e democracia: \n\n\n\n\nHélio Alves (UFRGS) – Propriedade\, herança e obrigações familiares.\nMarcos Paulo de Lucca Silveira (FGV) – Filantropia em sociedades democráticas: considerações de justiça distributiva.\nRicardo Fabrino (UFMG) – Candidaturas e mandatos coletivos: os desafios de uma gambiarra.\nRenata Nagamine (UFBA) – Imaginação do social e a disputa pela democracia: uma análise a partir da Brasil Paralelo.\nModeração: Renato Francischini (UFBA).
URL:https://iesp.uerj.br/evento/vetpppb-dia-2/
LOCATION:Defesa: Alexsander Matheus Araújo Costa\, RJ
CATEGORIES:Palestra
END:VEVENT
BEGIN:VEVENT
DTSTART;TZID=America/Sao_Paulo:20220708T090000
DTEND;TZID=America/Sao_Paulo:20220708T190000
DTSTAMP:20260422T060635
CREATED:20220705T213414Z
LAST-MODIFIED:20220705T214457Z
UID:89369-1657270800-1657306800@iesp.uerj.br
SUMMARY:VETPPPB: Dia 3
DESCRIPTION:O Instituto de Estudos Sociais e Políticos abriga a quinta edição do Encontro de Teoria Política e Pensamento Político Brasileiro. \n  \nClique aqui para acessar a programação completa\nTodas as mesas do evento serão transmitidas online ao vivo no canal Seminários – IESP no YouTube. \n  \nPROGRAMAÇAO DO ÚLTIMO DIA: \n  \n9:00-12:00 – Sessões de GT’s.GT 4 – Teoria Pós-colonial\, Decolonial e Abordagens Pós-estruturalistas. \n\nJoallan Cardim Rocha (Unicamp) – O giro decolonial e o Estado Plurinacional: uma contribuição desde América Latina à Teoria Política Contemporânea \nAndréia Fressatti Cardoso (USP) – O Problema da “Igualdade Política” em Jacques Rancière \nAlbérico Araújo Sial Neto (UFPE) – O Conceito de Precariedade Butleriano Como Contribuição à Democracia Radical \nVitória de Oliveira Ribeiro (UFU) – Caminhos para a descolonização das Relações Internacionais: Feminismos Decoloniais \nCarolina Costa D’Ávila (UFF) – Repensando a noção de “crise da democracia” a partir do espectro conceitual das teorias democráticas\nDebatedor: Bruno Sciberras (UFRJ)\n\nCoordenação: Ingrid Cyfer (Unifesp) \n\n\n  \n \nGT 5 – Pensamento Político Brasileiro e Latino-americano. \n\n\n \nSessão 3 – Cultura e pensamento político na periferia \n\nLidiane Rezende Vieira (IESP-UERJ) – Emancipações periféricas: linguagens políticas na formação estatal da Argentina\, Brasil e Chile.\nMariana El Khoury Oliveira (Unicamp) – Entre o indigenismo e o trotskismo: o pensamento político de Hugo Blanco (1954 – 1972).\nMateus Lôbo (UnB) – Modernidade e modernismo em Gilberto Freyre.\nRafael Marino (USP) – Imagens da tropicalidade: brasilidades negociadas e identidades políticas imaginadas de uma “civilização tropical).\nAna Silva Rosa (IESP-UERJ) – Machado de Assis\, analista político: controvérsias e propostas para uma agenda de pesquisa.\nDebatedor: André Kaysel (Unicamp).\nCoordenação: Diego Ambrosini (Unifesp).\n\nGT 6 – Métodos de Pesquisa em Teoria Política. \n\nPaulo Joaquim Rodrigues (IESP-UERJ) – As teorias e métodos para a pesquisa e história conceitual: o caso do conceito de judicialização da política no Brasil.\nMaria Stella D’Agostini (UnB) – Fundação: perpectivas da dialética como lógica analítica.\nMárcio Santana (UEL) – O contextualismo pocockiano e o iluminismo como problema.\nPierre Malbouisson (UFBA) – Passado Perene: a abordagem histórica das ideias na teoria política.\nJúlia Teixeira Hirschle (IESP-UERJ) – Por que grupos merecem mais espaço na representação política?  Uma revisão sistemática da bibliografia recente.\nDebatedora: Daniela Mussi (UFRJ).\nCoordenação: Ivo Coser (UFRJ).\n\n13:30 – 16:00 – MESA 4Identidades em construção: entre o universal e o particular:\n \n\nLuciana Ballestrin (UFPEL) – Teoria Política e descolonização: tendências contemporâneas.\nAna Cláudia Lopes (UFBA) – Das políticas identitárias: limites de uma expressão\, limites de uma crítica.\nFabricio Pereira da Silva (UNIRIO) – Identidades regionais como universalismos em construção? Uma aproximação entre Léopold Senghor e Darcy Ribeiro (com uma passagem por Gilberto Freyre).\nClarisse Paradis (UNILAB) – O feminismo como tradição de pensamento político e o ideal de liberdade.\nModeração: Roberta Soromenho Nicolete (UERJ).\n\n  \n16:30 – 19:00 – MESA 5Pensamento Político Brasileiro: das encruzilhadas de uma modernidade inacabada aos impasses do presente:\n \n\nGabriela Nunes Ferreira (UNIFESP) – Camadas temporais em O Idealismo da Constituição de Oliveira Vianna.\nVera Cepêda (UFSCar) – Imagens de um debate: Empresários e desenvolvimento nacional (1930-1964).\nDiogo Cunha (UFPE) – Uma comunidade transnacional de sistema ideológico? Circulação de ideias de direita e de extrema-direita entre a França e a América Latina durante a Guerra da Argélia.\nLeonardo Belinelli (USP) – A esquerda no poder: apogeu e declínio de um experimento constitucional (2002-2016).\nModeração: Christian Lynch (IESP-UERJ)
URL:https://iesp.uerj.br/evento/vetpppb-dia-3/
LOCATION:Defesa: Alexsander Matheus Araújo Costa\, RJ
CATEGORIES:Palestra
END:VEVENT
BEGIN:VEVENT
DTSTART;TZID=America/Sao_Paulo:20220711T100000
DTEND;TZID=America/Sao_Paulo:20220711T140000
DTSTAMP:20260422T060635
CREATED:20220617T185314Z
LAST-MODIFIED:20220617T185314Z
UID:31993-1657533600-1657548000@iesp.uerj.br
SUMMARY:Defesa: André Pimentel Ferreira Leão
DESCRIPTION:O Programa de Pós-Graduação em Ciência Política\nconvida para:\n  \n  \nDefesa de Tese\n  \n  \nOs condicionantes domésticos e internacionais do\nprocesso de difusão internacional da\nagenda social brasileira (1995-2016)\n  \n  \nde\nAndré Pimentel Ferreira Leão\n  \n  \nBanca Examinadora:\nProf.ª Dr.ª Maria Regina Soares de Lima (Orientadora)\nProf.ª Dr.ª Letícia de Abreu Pinheiro (IESP)\nProf. Dr. Paulo Afonso Monteiro Velasco Júnior (UERJ)\nProf. Dr. Osmany Porto de Oliveira (UNIFESP)\nProf. Dr. Carlos Aurélio Pimenta de Faria (PUC-Minas)\n\nDia 11 de Julho de 2022\, segunda-feira\, às 10:00 horas\nRua da Matriz\, 82 – Botafogo
URL:https://iesp.uerj.br/evento/defesa-andre-pimentel-ferreira-leao/
LOCATION:Defesa: Alexsander Matheus Araújo Costa\, RJ
CATEGORIES:Tese
END:VEVENT
BEGIN:VEVENT
DTSTART;TZID=America/Sao_Paulo:20220712T093000
DTEND;TZID=America/Sao_Paulo:20220712T133000
DTSTAMP:20260422T060635
CREATED:20220609T161147Z
LAST-MODIFIED:20220609T161147Z
UID:19482-1657618200-1657632600@iesp.uerj.br
SUMMARY:Defesa: Juliana Pinto Lemos da Silva
DESCRIPTION:O Programa de Pós-Graduação em Ciência Política\nconvida para:\n  \n  \nDefesa de Tese\n  \n  \nCaminhos Paralelos?\nPolítica Externa e Direitos Humanos\nna Argentina e no Brasil no século XXI\n\n  \nde\nJuliana Pinto Lemos da Silva\n  \n  \nBanca Examinadora:\nProf.ª Dr.ª Letícia de Abreu Pinheiro (Orientadora)\nProf. Dr. Carlos Roberto Sanchez Milani (IESP-UERJ)\nProf.ª Dr.ª Miriam Gomes Saraiva (UERJ)\nProf.ª Dr.ª Danielle Costa da Silva (UFRJ)\nProf.ª Dr.ª Janina Onuki (USP)\n\n\nDia 12 de Julho de 2022\, terça-feira\, às 09:30 horas\nRua da Matriz\, 82 – Botafogo
URL:https://iesp.uerj.br/evento/defesa-juliana-pinto-lemos-da-silva/
LOCATION:Defesa: Alexsander Matheus Araújo Costa\, RJ
CATEGORIES:Tese
END:VEVENT
END:VCALENDAR