BEGIN:VCALENDAR
VERSION:2.0
PRODID:-//IESP - ECPv6.0.7.1//NONSGML v1.0//EN
CALSCALE:GREGORIAN
METHOD:PUBLISH
X-ORIGINAL-URL:https://iesp.uerj.br
X-WR-CALDESC:Eventos para IESP
REFRESH-INTERVAL;VALUE=DURATION:PT1H
X-Robots-Tag:noindex
X-PUBLISHED-TTL:PT1H
BEGIN:VTIMEZONE
TZID:America/Sao_Paulo
BEGIN:STANDARD
TZOFFSETFROM:-0200
TZOFFSETTO:-0300
TZNAME:-03
DTSTART:20180218T020000
END:STANDARD
BEGIN:DAYLIGHT
TZOFFSETFROM:-0300
TZOFFSETTO:-0200
TZNAME:-02
DTSTART:20181104T030000
END:DAYLIGHT
END:VTIMEZONE
BEGIN:VEVENT
DTSTART;TZID=America/Sao_Paulo:20181203T090000
DTEND;TZID=America/Sao_Paulo:20181203T120000
DTSTAMP:20260420T121519
CREATED:20181210T173717Z
LAST-MODIFIED:20181210T173717Z
UID:16434-1543827600-1543838400@iesp.uerj.br
SUMMARY:Seminário de Tese: Geni Cecília Figueiredo do Carmo Mello
DESCRIPTION:[:pb] \nO Programa de Pós-Graduação em Ciência Política convida \npara: \nDefesa de Tese \nExplicando a dinâmica das redes sociais de\nassociações agroecológicas: capital social e \ndesenho institucional \nde \nGeni Cecília Figueiredo do Carmo Mello \n  \nBanca Examinadora: \nProf. Dr. Renato Raul Boschi (Orientador)\nProf. Dr. Fabiano Guilherme Mendes Santos (IESP)\nProf. Dr. José Eduardo Leon Szwako (IESP)\nProf. Dr. Carlos Eduardo Santos Pinho (INCT/UFRJ)\nProf. Dr. Flavio Alfredo Gaitán (UNILA) \nDia 03 de Dezembro de 2018\, segunda-feira\, às 9:00 horas\nRua da Matriz\, 82 – Botafogo[:]
URL:https://iesp.uerj.br/evento/seminario-de-tese-geni-cecilia-figueiredo-do-carmo-mello/
LOCATION:Defesa: Alexsander Matheus Araújo Costa\, RJ
END:VEVENT
BEGIN:VEVENT
DTSTART;TZID=America/Sao_Paulo:20181203T090000
DTEND;TZID=America/Sao_Paulo:20181203T120000
DTSTAMP:20260420T121519
CREATED:20181210T173717Z
LAST-MODIFIED:20181210T173717Z
UID:16720-1543827600-1543838400@iesp.uerj.br
SUMMARY:Seminário de Tese: Geni Cecília Figueiredo do Carmo Mello
DESCRIPTION:[:pb] \nO Programa de Pós-Graduação em Ciência Política convida \npara: \nDefesa de Tese \nExplicando a dinâmica das redes sociais de\nassociações agroecológicas: capital social e \ndesenho institucional \nde \nGeni Cecília Figueiredo do Carmo Mello \n  \nBanca Examinadora: \nProf. Dr. Renato Raul Boschi (Orientador)\nProf. Dr. Fabiano Guilherme Mendes Santos (IESP)\nProf. Dr. José Eduardo Leon Szwako (IESP)\nProf. Dr. Carlos Eduardo Santos Pinho (INCT/UFRJ)\nProf. Dr. Flavio Alfredo Gaitán (UNILA) \nDia 03 de Dezembro de 2018\, segunda-feira\, às 9:00 horas\nRua da Matriz\, 82 – Botafogo[:]
URL:https://iesp.uerj.br/evento/seminario-de-tese-geni-cecilia-figueiredo-do-carmo-mello-2/
LOCATION:Defesa: Alexsander Matheus Araújo Costa\, RJ
END:VEVENT
BEGIN:VEVENT
DTSTART;TZID=America/Sao_Paulo:20181207T133000
DTEND;TZID=America/Sao_Paulo:20181207T170000
DTSTAMP:20260420T121519
CREATED:20181029T220558Z
LAST-MODIFIED:20181029T220558Z
UID:16431-1544189400-1544202000@iesp.uerj.br
SUMMARY:Defesa de Tese: Renata Albuquerque Ribeiro
DESCRIPTION:[:pb] \nO Programa de Pós-Graduação em Ciência Política convida\npara:\nDefesa de Tese\nCooperação SUL-SUL em Biocombustíveis:\ninteresses e contradições da Política Externa\nBrasileira em Moçambique (2003-2015)\nde\nRenata Albuquerque Ribeiro \n  \nBanca Examinadora: \nProf. Dr. Carlos Roberto Sanchez Milani (Orientador)\nProf.ª Dr.ª Maria Regina Soares de Lima (IESP)\nProf. Dr. Breno Marques Bringel (IESP)\nProf.ª Dr.ª Melissa Elisabeth Pomeroy (Articulação SUL)\nProf. Dr. Igor Fuser (UFABC) \nDia 07 de Dezembro de 2018\, sexta-feira\, às 13:30 horas \nRua da Matriz\, 82 – Botafogo[:]
URL:https://iesp.uerj.br/evento/defesa-de-tese-renata-albuquerque-ribeiro/
LOCATION:Defesa: Alexsander Matheus Araújo Costa\, RJ
END:VEVENT
BEGIN:VEVENT
DTSTART;TZID=America/Sao_Paulo:20181207T133000
DTEND;TZID=America/Sao_Paulo:20181207T170000
DTSTAMP:20260420T121519
CREATED:20181029T220558Z
LAST-MODIFIED:20181029T220558Z
UID:16717-1544189400-1544202000@iesp.uerj.br
SUMMARY:Defesa de Tese: Renata Albuquerque Ribeiro
DESCRIPTION:[:pb] \nO Programa de Pós-Graduação em Ciência Política convida\npara:\nDefesa de Tese\nCooperação SUL-SUL em Biocombustíveis:\ninteresses e contradições da Política Externa\nBrasileira em Moçambique (2003-2015)\nde\nRenata Albuquerque Ribeiro \n  \nBanca Examinadora: \nProf. Dr. Carlos Roberto Sanchez Milani (Orientador)\nProf.ª Dr.ª Maria Regina Soares de Lima (IESP)\nProf. Dr. Breno Marques Bringel (IESP)\nProf.ª Dr.ª Melissa Elisabeth Pomeroy (Articulação SUL)\nProf. Dr. Igor Fuser (UFABC) \nDia 07 de Dezembro de 2018\, sexta-feira\, às 13:30 horas \nRua da Matriz\, 82 – Botafogo[:]
URL:https://iesp.uerj.br/evento/defesa-de-tese-renata-albuquerque-ribeiro-2/
LOCATION:Defesa: Alexsander Matheus Araújo Costa\, RJ
END:VEVENT
BEGIN:VEVENT
DTSTART;TZID=America/Sao_Paulo:20181212T140000
DTEND;TZID=America/Sao_Paulo:20181212T170000
DTSTAMP:20260420T121519
CREATED:20180829T201054Z
LAST-MODIFIED:20180829T201054Z
UID:16421-1544623200-1544634000@iesp.uerj.br
SUMMARY:Seminário: Ettore Recchi
DESCRIPTION:[:pb]O Ciclo de Palestras IESP-UERJ 2018.2 apresenta Ettore Recchi  com a palestras “Convergences and Divergences in European societes: A Multidimensional Exploration”[:en]The Lecture Series IESP-UERJ 2018.2 presents Ettore Recchi with the lectures “Convergences and Divergences in European Societes: A Multidimensional Exploration”[:es]El Ciclo de Conferencias IESP-UERJ 2018.2 presenta Ettore Recchi con las conferencias “Convergences and Divergences in European Societas: La Multidimensional Exploración”[:]
URL:https://iesp.uerj.br/evento/seminario-ettore-recchi/
LOCATION:Defesa: Alexsander Matheus Araújo Costa\, RJ
END:VEVENT
BEGIN:VEVENT
DTSTART;TZID=America/Sao_Paulo:20181212T140000
DTEND;TZID=America/Sao_Paulo:20181212T170000
DTSTAMP:20260420T121519
CREATED:20180829T201054Z
LAST-MODIFIED:20180829T201054Z
UID:16707-1544623200-1544634000@iesp.uerj.br
SUMMARY:Seminário: Ettore Recchi
DESCRIPTION:[:pb]O Ciclo de Palestras IESP-UERJ 2018.2 apresenta Ettore Recchi  com a palestras “Convergences and Divergences in European societes: A Multidimensional Exploration”[:en]The Lecture Series IESP-UERJ 2018.2 presents Ettore Recchi with the lectures “Convergences and Divergences in European Societes: A Multidimensional Exploration”[:es]El Ciclo de Conferencias IESP-UERJ 2018.2 presenta Ettore Recchi con las conferencias “Convergences and Divergences in European Societas: La Multidimensional Exploración”[:]
URL:https://iesp.uerj.br/evento/seminario-ettore-recchi-2/
LOCATION:Defesa: Alexsander Matheus Araújo Costa\, RJ
END:VEVENT
BEGIN:VEVENT
DTSTART;TZID=America/Sao_Paulo:20181214T140000
DTEND;TZID=America/Sao_Paulo:20181214T170000
DTSTAMP:20260420T121519
CREATED:20181113T162725Z
LAST-MODIFIED:20181113T162725Z
UID:16432-1544796000-1544806800@iesp.uerj.br
SUMMARY:Defesa de Tese: Jefferson Belarmino de Freitas
DESCRIPTION:[:pb] \nO Programa de Pós-Graduação em Sociologia convida para:\nDefesa de Tese\nEm casas distantes de casa. Desigualdades e\nmelhoria de vida entre as brasileiras do ramo da\nlimpeza doméstica na região de São Francisco\,\nCalifórnia (EUA)\nde\nJefferson Belarmino de Freitas \n  \nBanca Examinadora: \nProf. Dr. Adalberto Moreira Cardoso (Orientador)\nProf.Dr.LuizAugustodeSouzaCarneirodeCampos(IESP)\nProf.ª Dr.ª Clara Maria de Oliveira Araújo (UERJ)\nProf. Dr. Helion Póvoa Neto (UFRJ)\nProf. Dr. Bila Sorj (UFRJ) \nDia 14 de Dezembro de 2018\, sexta-feira\, às 14:00 horas \nRua da Matriz\, 82 – Botafogo[:]
URL:https://iesp.uerj.br/evento/defesa-de-tese-jefferson-belarmino-de-freitas/
LOCATION:Defesa: Alexsander Matheus Araújo Costa\, RJ
END:VEVENT
BEGIN:VEVENT
DTSTART;TZID=America/Sao_Paulo:20181214T140000
DTEND;TZID=America/Sao_Paulo:20181214T170000
DTSTAMP:20260420T121519
CREATED:20181113T162725Z
LAST-MODIFIED:20181113T162725Z
UID:16718-1544796000-1544806800@iesp.uerj.br
SUMMARY:Defesa de Tese: Jefferson Belarmino de Freitas
DESCRIPTION:[:pb] \nO Programa de Pós-Graduação em Sociologia convida para:\nDefesa de Tese\nEm casas distantes de casa. Desigualdades e\nmelhoria de vida entre as brasileiras do ramo da\nlimpeza doméstica na região de São Francisco\,\nCalifórnia (EUA)\nde\nJefferson Belarmino de Freitas \n  \nBanca Examinadora: \nProf. Dr. Adalberto Moreira Cardoso (Orientador)\nProf.Dr.LuizAugustodeSouzaCarneirodeCampos(IESP)\nProf.ª Dr.ª Clara Maria de Oliveira Araújo (UERJ)\nProf. Dr. Helion Póvoa Neto (UFRJ)\nProf. Dr. Bila Sorj (UFRJ) \nDia 14 de Dezembro de 2018\, sexta-feira\, às 14:00 horas \nRua da Matriz\, 82 – Botafogo[:]
URL:https://iesp.uerj.br/evento/defesa-de-tese-jefferson-belarmino-de-freitas-2/
LOCATION:Defesa: Alexsander Matheus Araújo Costa\, RJ
END:VEVENT
BEGIN:VEVENT
DTSTART;TZID=America/Sao_Paulo:20181217T093000
DTEND;TZID=America/Sao_Paulo:20181217T130000
DTSTAMP:20260420T121519
CREATED:20181210T173931Z
LAST-MODIFIED:20181210T173931Z
UID:16435-1545039000-1545051600@iesp.uerj.br
SUMMARY:Defesa de Tese: Juliana Ramos Luiz
DESCRIPTION:[:pb] \nDefesa de Tese\nAs “linhas vermelhas” para o desenvolvimento rural: a internacionalização da agenda \nda agricultura familiar e seus impactos na governança global\nde\nJuliana Ramos Luiz \n  \nBanca Examinadora: \nProf. Dr. Carlos Roberto Sanchez Milani (Orientador)\nProf.ª Dr.ª Miriam Gomes Saraiva (UERJ)\nProf. Dr. Paulo Afonso Monteiro Velasco Júnior (UERJ)\nProf.ª Dr.ª Leonilde Servolo de Medeiros (UFRRJ)\nProf.ª Dr.ª Lídia Vilela Cabral (IDS – Univ. of Sussex) \nDia 17 de Dezembro de 2018\, segunda-feira\, às 9:30 horas \nRua da Matriz\, 82 – Botafogo[:]
URL:https://iesp.uerj.br/evento/defesa-de-tese-juliana-ramos-luiz/
LOCATION:Defesa: Alexsander Matheus Araújo Costa\, RJ
END:VEVENT
BEGIN:VEVENT
DTSTART;TZID=America/Sao_Paulo:20181217T093000
DTEND;TZID=America/Sao_Paulo:20181217T130000
DTSTAMP:20260420T121519
CREATED:20181210T173931Z
LAST-MODIFIED:20181210T173931Z
UID:16721-1545039000-1545051600@iesp.uerj.br
SUMMARY:Defesa de Tese: Juliana Ramos Luiz
DESCRIPTION:[:pb] \nDefesa de Tese\nAs “linhas vermelhas” para o desenvolvimento rural: a internacionalização da agenda \nda agricultura familiar e seus impactos na governança global\nde\nJuliana Ramos Luiz \n  \nBanca Examinadora: \nProf. Dr. Carlos Roberto Sanchez Milani (Orientador)\nProf.ª Dr.ª Miriam Gomes Saraiva (UERJ)\nProf. Dr. Paulo Afonso Monteiro Velasco Júnior (UERJ)\nProf.ª Dr.ª Leonilde Servolo de Medeiros (UFRRJ)\nProf.ª Dr.ª Lídia Vilela Cabral (IDS – Univ. of Sussex) \nDia 17 de Dezembro de 2018\, segunda-feira\, às 9:30 horas \nRua da Matriz\, 82 – Botafogo[:]
URL:https://iesp.uerj.br/evento/defesa-de-tese-juliana-ramos-luiz-2/
LOCATION:Defesa: Alexsander Matheus Araújo Costa\, RJ
END:VEVENT
END:VCALENDAR