BEGIN:VCALENDAR
VERSION:2.0
PRODID:-//IESP - ECPv6.0.7.1//NONSGML v1.0//EN
CALSCALE:GREGORIAN
METHOD:PUBLISH
X-ORIGINAL-URL:https://iesp.uerj.br
X-WR-CALDESC:Eventos para IESP
REFRESH-INTERVAL;VALUE=DURATION:PT1H
X-Robots-Tag:noindex
X-PUBLISHED-TTL:PT1H
BEGIN:VTIMEZONE
TZID:America/Sao_Paulo
BEGIN:STANDARD
TZOFFSETFROM:-0200
TZOFFSETTO:-0300
TZNAME:-03
DTSTART:20180218T020000
END:STANDARD
BEGIN:DAYLIGHT
TZOFFSETFROM:-0300
TZOFFSETTO:-0200
TZNAME:-02
DTSTART:20181104T030000
END:DAYLIGHT
END:VTIMEZONE
BEGIN:VEVENT
DTSTART;TZID=America/Sao_Paulo:20181001T093000
DTEND;TZID=America/Sao_Paulo:20181001T180000
DTSTAMP:20260421T230726
CREATED:20180920T203412Z
LAST-MODIFIED:20180920T203412Z
UID:16425-1538386200-1538416800@iesp.uerj.br
SUMMARY:III Seminário Internacional Políticas Públicas\, Capacidades Estatais e Desenvolvimento em Estados Federativos: Brasil e Argentina em perspectiva comparada.
DESCRIPTION:[:pb] \n\nO IESP-UERJ convida a todos para o III Seminário Internacional Políticas Públicas\, Capacidades Estatais e Desenvolvimento em Estados Federativos: Brasil e Argentina em perspectiva comparada.\n\n\n[:]
URL:https://iesp.uerj.br/evento/iii-seminario-internacional-politicas-publicas-capacidades-estatais-e-desenvolvimento-em-estados-federativos-brasil-e-argentina-em-perspectiva-comparada/
LOCATION:Defesa: Alexsander Matheus Araújo Costa\, RJ
END:VEVENT
BEGIN:VEVENT
DTSTART;TZID=America/Sao_Paulo:20181001T093000
DTEND;TZID=America/Sao_Paulo:20181001T180000
DTSTAMP:20260421T230726
CREATED:20180920T203412Z
LAST-MODIFIED:20180920T203412Z
UID:16711-1538386200-1538416800@iesp.uerj.br
SUMMARY:III Seminário Internacional Políticas Públicas\, Capacidades Estatais e Desenvolvimento em Estados Federativos: Brasil e Argentina em perspectiva comparada.
DESCRIPTION:[:pb] \n\nO IESP-UERJ convida a todos para o III Seminário Internacional Políticas Públicas\, Capacidades Estatais e Desenvolvimento em Estados Federativos: Brasil e Argentina em perspectiva comparada.\n\n\n[:]
URL:https://iesp.uerj.br/evento/iii-seminario-internacional-politicas-publicas-capacidades-estatais-e-desenvolvimento-em-estados-federativos-brasil-e-argentina-em-perspectiva-comparada-2/
LOCATION:Defesa: Alexsander Matheus Araújo Costa\, RJ
END:VEVENT
BEGIN:VEVENT
DTSTART;TZID=America/Sao_Paulo:20181001T150000
DTEND;TZID=America/Sao_Paulo:20181001T180000
DTSTAMP:20260421T230726
CREATED:20180829T191003Z
LAST-MODIFIED:20180829T191003Z
UID:16412-1538406000-1538416800@iesp.uerj.br
SUMMARY:Seminário: Jens Borchet
DESCRIPTION:[:pb]O IESP-UERJ convida para a palestra When Populism Came to Europe: Chronichle of a Misunderstandig\, com  Jens Borchet \n[:]
URL:https://iesp.uerj.br/evento/seminario-jens-borchet/
LOCATION:Defesa: Alexsander Matheus Araújo Costa\, RJ
END:VEVENT
BEGIN:VEVENT
DTSTART;TZID=America/Sao_Paulo:20181001T150000
DTEND;TZID=America/Sao_Paulo:20181001T180000
DTSTAMP:20260421T230726
CREATED:20180829T191003Z
LAST-MODIFIED:20180829T191003Z
UID:16698-1538406000-1538416800@iesp.uerj.br
SUMMARY:Seminário: Jens Borchet
DESCRIPTION:[:pb]O IESP-UERJ convida para a palestra When Populism Came to Europe: Chronichle of a Misunderstandig\, com  Jens Borchet \n[:]
URL:https://iesp.uerj.br/evento/seminario-jens-borchet-2/
LOCATION:Defesa: Alexsander Matheus Araújo Costa\, RJ
END:VEVENT
BEGIN:VEVENT
DTSTART;TZID=America/Sao_Paulo:20181001T170000
DTEND;TZID=America/Sao_Paulo:20181001T220000
DTSTAMP:20260421T230726
CREATED:20180924T175358Z
LAST-MODIFIED:20180924T175358Z
UID:16428-1538413200-1538431200@iesp.uerj.br
SUMMARY:Seminário: IESP nas Eleições e COMPOLITICA
DESCRIPTION:[:pb]O IESP nas Eleições e o COMPOLITICA convida a todos para o evento “Eleições 2018\, Comunicação Política e Democracia”\, dia 01 de outubro \, segunda-feira\, a partir das 17 horas no IESP\, rua da Matriz\, 82 – Botafogo. \n[:]
URL:https://iesp.uerj.br/evento/seminario-iesp-nas-eleicoes-e-compolitica/
LOCATION:Defesa: Alexsander Matheus Araújo Costa\, RJ
END:VEVENT
BEGIN:VEVENT
DTSTART;TZID=America/Sao_Paulo:20181001T170000
DTEND;TZID=America/Sao_Paulo:20181001T220000
DTSTAMP:20260421T230726
CREATED:20180924T175358Z
LAST-MODIFIED:20180924T175358Z
UID:16714-1538413200-1538431200@iesp.uerj.br
SUMMARY:Seminário: IESP nas Eleições e COMPOLITICA
DESCRIPTION:[:pb]O IESP nas Eleições e o COMPOLITICA convida a todos para o evento “Eleições 2018\, Comunicação Política e Democracia”\, dia 01 de outubro \, segunda-feira\, a partir das 17 horas no IESP\, rua da Matriz\, 82 – Botafogo. \n[:]
URL:https://iesp.uerj.br/evento/seminario-iesp-nas-eleicoes-e-compolitica-2/
LOCATION:Defesa: Alexsander Matheus Araújo Costa\, RJ
END:VEVENT
BEGIN:VEVENT
DTSTART;TZID=America/Sao_Paulo:20181004T090000
DTEND;TZID=America/Sao_Paulo:20181004T130000
DTSTAMP:20260421T230726
CREATED:20180920T202149Z
LAST-MODIFIED:20180920T202149Z
UID:16424-1538643600-1538658000@iesp.uerj.br
SUMMARY:Defesa de Tese: Roberta Leal Raye Cargnin
DESCRIPTION:[:pb] \nO Programa de Pós-Graduação em Ciência Política convida\npara:\nDefesa de Tese\nTurismo e Imagem Internacional do Brasil no\nGoverno Lula\nde\nRoberta Leal Raye Cargnin \n  \nBanca Examinadora:\nProf.ª Dr.ª Leticia de Abreu Pinheiro (Orientadora)\nProf.ª Dr.ª Maria Regina Soares de Lima (IESP)\nProf. Dr. Carlos Roberto Sanchez Milani (IESP)\nProf. Dr. Aguinaldo César Fratucci (UFF)\nProf. Dr. Rubens de Siqueira Duarte (ECEME) \nDia 04 de Outubro de 2018\, quinta-feira\, às 09:00 horas \nRua da Matriz\, 82 – Botafogo[:]
URL:https://iesp.uerj.br/evento/defesa-de-tese-roberta-leal-raye-cargnin/
LOCATION:Defesa: Alexsander Matheus Araújo Costa\, RJ
END:VEVENT
BEGIN:VEVENT
DTSTART;TZID=America/Sao_Paulo:20181004T090000
DTEND;TZID=America/Sao_Paulo:20181004T130000
DTSTAMP:20260421T230726
CREATED:20180920T202149Z
LAST-MODIFIED:20180920T202149Z
UID:16710-1538643600-1538658000@iesp.uerj.br
SUMMARY:Defesa de Tese: Roberta Leal Raye Cargnin
DESCRIPTION:[:pb] \nO Programa de Pós-Graduação em Ciência Política convida\npara:\nDefesa de Tese\nTurismo e Imagem Internacional do Brasil no\nGoverno Lula\nde\nRoberta Leal Raye Cargnin \n  \nBanca Examinadora:\nProf.ª Dr.ª Leticia de Abreu Pinheiro (Orientadora)\nProf.ª Dr.ª Maria Regina Soares de Lima (IESP)\nProf. Dr. Carlos Roberto Sanchez Milani (IESP)\nProf. Dr. Aguinaldo César Fratucci (UFF)\nProf. Dr. Rubens de Siqueira Duarte (ECEME) \nDia 04 de Outubro de 2018\, quinta-feira\, às 09:00 horas \nRua da Matriz\, 82 – Botafogo[:]
URL:https://iesp.uerj.br/evento/defesa-de-tese-roberta-leal-raye-cargnin-2/
LOCATION:Defesa: Alexsander Matheus Araújo Costa\, RJ
END:VEVENT
BEGIN:VEVENT
DTSTART;TZID=America/Sao_Paulo:20181005T140000
DTEND;TZID=America/Sao_Paulo:20181005T170000
DTSTAMP:20260421T230726
CREATED:20180829T192931Z
LAST-MODIFIED:20180829T192931Z
UID:16413-1538748000-1538758800@iesp.uerj.br
SUMMARY:Seminário: Pedro Heitor e Paula Campos
DESCRIPTION:[:pb]O IESP-UERJ apresenta Pedro Heitor e Paula Campos com a palestra Práticas de estatalidade: um programa de pesquisa para uma sociologia política[:]
URL:https://iesp.uerj.br/evento/seminario-pedro-heitor-e-paula-campos/
LOCATION:Defesa: Alexsander Matheus Araújo Costa\, RJ
END:VEVENT
BEGIN:VEVENT
DTSTART;TZID=America/Sao_Paulo:20181005T140000
DTEND;TZID=America/Sao_Paulo:20181005T170000
DTSTAMP:20260421T230726
CREATED:20180829T192931Z
LAST-MODIFIED:20180829T192931Z
UID:16699-1538748000-1538758800@iesp.uerj.br
SUMMARY:Seminário: Pedro Heitor e Paula Campos
DESCRIPTION:[:pb]O IESP-UERJ apresenta Pedro Heitor e Paula Campos com a palestra Práticas de estatalidade: um programa de pesquisa para uma sociologia política[:]
URL:https://iesp.uerj.br/evento/seminario-pedro-heitor-e-paula-campos-2/
LOCATION:Defesa: Alexsander Matheus Araújo Costa\, RJ
END:VEVENT
BEGIN:VEVENT
DTSTART;TZID=America/Sao_Paulo:20181008T140000
DTEND;TZID=America/Sao_Paulo:20181008T170000
DTSTAMP:20260421T230726
CREATED:20180829T194125Z
LAST-MODIFIED:20180829T194125Z
UID:16414-1539007200-1539018000@iesp.uerj.br
SUMMARY:Seminário: José Vicente Mendonça
DESCRIPTION:[:pb]O Ciclo de Palestras  IESP-UERJ 2018.2  apresenta José Vicente Mendonça com a Palestras “A Administração Pública do Estado do Rio na Constituição Federal de 88”. [:]
URL:https://iesp.uerj.br/evento/seminario-jose-vicente-mendonca/
LOCATION:Defesa: Alexsander Matheus Araújo Costa\, RJ
END:VEVENT
BEGIN:VEVENT
DTSTART;TZID=America/Sao_Paulo:20181008T140000
DTEND;TZID=America/Sao_Paulo:20181008T170000
DTSTAMP:20260421T230726
CREATED:20180829T194125Z
LAST-MODIFIED:20180829T194125Z
UID:16700-1539007200-1539018000@iesp.uerj.br
SUMMARY:Seminário: José Vicente Mendonça
DESCRIPTION:[:pb]O Ciclo de Palestras  IESP-UERJ 2018.2  apresenta José Vicente Mendonça com a Palestras “A Administração Pública do Estado do Rio na Constituição Federal de 88”. [:]
URL:https://iesp.uerj.br/evento/seminario-jose-vicente-mendonca-2/
LOCATION:Defesa: Alexsander Matheus Araújo Costa\, RJ
END:VEVENT
BEGIN:VEVENT
DTSTART;TZID=America/Sao_Paulo:20181019T140000
DTEND;TZID=America/Sao_Paulo:20181019T170000
DTSTAMP:20260421T230726
CREATED:20180829T194620Z
LAST-MODIFIED:20180829T194620Z
UID:16415-1539957600-1539968400@iesp.uerj.br
SUMMARY:Seminário: Jesús Mena Chalco
DESCRIPTION:[:pb]O Ciclo de Palestras IESP-UERJ 2018.2  apresenta Jesús Mena-Chalco: \n \n [:]
URL:https://iesp.uerj.br/evento/seminario-jesus-mena-chalco/
LOCATION:Defesa: Alexsander Matheus Araújo Costa\, RJ
END:VEVENT
BEGIN:VEVENT
DTSTART;TZID=America/Sao_Paulo:20181019T140000
DTEND;TZID=America/Sao_Paulo:20181019T170000
DTSTAMP:20260421T230726
CREATED:20180829T194620Z
LAST-MODIFIED:20180829T194620Z
UID:16701-1539957600-1539968400@iesp.uerj.br
SUMMARY:Seminário: Jesús Mena Chalco
DESCRIPTION:[:pb]O Ciclo de Palestras IESP-UERJ 2018.2  apresenta Jesús Mena-Chalco: \n \n [:]
URL:https://iesp.uerj.br/evento/seminario-jesus-mena-chalco-2/
LOCATION:Defesa: Alexsander Matheus Araújo Costa\, RJ
END:VEVENT
BEGIN:VEVENT
DTSTART;TZID=America/Sao_Paulo:20181029T173000
DTEND;TZID=America/Sao_Paulo:20181029T210000
DTSTAMP:20260421T230726
CREATED:20181016T143119Z
LAST-MODIFIED:20181016T143119Z
UID:16429-1540834200-1540846800@iesp.uerj.br
SUMMARY:Seminário: Michel Cahen
DESCRIPTION:[:pb]O IESP-UERJ convida para a Palestra “Moçambique um ano antes das eleições decisivas (2019)” com Michel Cahen \n  \n[:]
URL:https://iesp.uerj.br/evento/seminario-michel-cahen/
LOCATION:Defesa: Alexsander Matheus Araújo Costa\, RJ
END:VEVENT
BEGIN:VEVENT
DTSTART;TZID=America/Sao_Paulo:20181029T173000
DTEND;TZID=America/Sao_Paulo:20181029T210000
DTSTAMP:20260421T230726
CREATED:20181016T143119Z
LAST-MODIFIED:20181016T143119Z
UID:16715-1540834200-1540846800@iesp.uerj.br
SUMMARY:Seminário: Michel Cahen
DESCRIPTION:[:pb]O IESP-UERJ convida para a Palestra “Moçambique um ano antes das eleições decisivas (2019)” com Michel Cahen \n  \n[:]
URL:https://iesp.uerj.br/evento/seminario-michel-cahen-2/
LOCATION:Defesa: Alexsander Matheus Araújo Costa\, RJ
END:VEVENT
END:VCALENDAR