BEGIN:VCALENDAR
VERSION:2.0
PRODID:-//IESP - ECPv6.0.7.1//NONSGML v1.0//EN
CALSCALE:GREGORIAN
METHOD:PUBLISH
X-ORIGINAL-URL:https://iesp.uerj.br
X-WR-CALDESC:Eventos para IESP
REFRESH-INTERVAL;VALUE=DURATION:PT1H
X-Robots-Tag:noindex
X-PUBLISHED-TTL:PT1H
BEGIN:VTIMEZONE
TZID:America/Sao_Paulo
BEGIN:STANDARD
TZOFFSETFROM:-0200
TZOFFSETTO:-0300
TZNAME:-03
DTSTART:20180218T020000
END:STANDARD
BEGIN:DAYLIGHT
TZOFFSETFROM:-0300
TZOFFSETTO:-0200
TZNAME:-02
DTSTART:20181104T030000
END:DAYLIGHT
END:VTIMEZONE
BEGIN:VEVENT
DTSTART;TZID=America/Sao_Paulo:20180810T090000
DTEND;TZID=America/Sao_Paulo:20180810T130000
DTSTAMP:20260421T230035
CREATED:20180515T142745Z
LAST-MODIFIED:20180515T142745Z
UID:16393-1533891600-1533906000@iesp.uerj.br
SUMMARY:Defesa de Tese: Marco Antonio dos Santos Teixeira
DESCRIPTION:[:pb] \nO Programa de Pós-Graduação em Sociologia convida para:\nDefesa de Tese\nMovimentos sociais\, ações coletivas e reprodução social: a experiência da Contag (1963-2015)\nde\nMarco Antônio dos Santos Teixeira \n  \nBanca Examinadora: \nProf. Dr. Breno Marques Bringel (Orientador)\nProf. Dr. Afrânio Raul Garcia Júnior (UERJ)\nProf. Dr. Paulo Mesquita D`Avila Filho (UERJ)\nProf.ª Dr. Moacir Gracindo Soares Palmeira (UFRJ)\nProf.ª Drª. Leonilde Servolo de Medeiros (UFRRJ) \nDia 10 de Agosto de 2018\, sexta-feira\, às 09:00 horas \nRua da Matriz\, 82 – Botafogo[:]
URL:https://iesp.uerj.br/evento/defesa-de-tese-marcos-paulo-campos-cavalcanti-de-mello/
LOCATION:Defesa: Alexsander Matheus Araújo Costa\, RJ
END:VEVENT
BEGIN:VEVENT
DTSTART;TZID=America/Sao_Paulo:20180810T090000
DTEND;TZID=America/Sao_Paulo:20180810T130000
DTSTAMP:20260421T230035
CREATED:20180515T142745Z
LAST-MODIFIED:20180515T142745Z
UID:16679-1533891600-1533906000@iesp.uerj.br
SUMMARY:Defesa de Tese: Marco Antonio dos Santos Teixeira
DESCRIPTION:[:pb] \nO Programa de Pós-Graduação em Sociologia convida para:\nDefesa de Tese\nMovimentos sociais\, ações coletivas e reprodução social: a experiência da Contag (1963-2015)\nde\nMarco Antônio dos Santos Teixeira \n  \nBanca Examinadora: \nProf. Dr. Breno Marques Bringel (Orientador)\nProf. Dr. Afrânio Raul Garcia Júnior (UERJ)\nProf. Dr. Paulo Mesquita D`Avila Filho (UERJ)\nProf.ª Dr. Moacir Gracindo Soares Palmeira (UFRJ)\nProf.ª Drª. Leonilde Servolo de Medeiros (UFRRJ) \nDia 10 de Agosto de 2018\, sexta-feira\, às 09:00 horas \nRua da Matriz\, 82 – Botafogo[:]
URL:https://iesp.uerj.br/evento/defesa-de-tese-marcos-paulo-campos-cavalcanti-de-mello-3/
LOCATION:Defesa: Alexsander Matheus Araújo Costa\, RJ
END:VEVENT
BEGIN:VEVENT
DTSTART;TZID=America/Sao_Paulo:20180813T140000
DTEND;TZID=America/Sao_Paulo:20180813T170000
DTSTAMP:20260421T230035
CREATED:20180806T182923Z
LAST-MODIFIED:20180806T182923Z
UID:16401-1534168800-1534179600@iesp.uerj.br
SUMMARY:Defesa de Tese: Sérgio Baldinotti
DESCRIPTION:[:pb] \nO Programa de Pós-Graduação em Ciência Política convida\npara:\nDefesa de Tese\nA (Im)Possível Relação entre Conselhos Gestores\nde Políticas Públicas e o Índice de\nDesenvolvimento Humano dos Municípios do\nEstado de Mato Grosso\nde\nSérgio Baldinotti \n  \nBanca Examinadora: \nProf.ª Dr.ª San Romanelli Assumpção (Orientadora)\nProf. Dr. João Feres Júnior (IESP/UERJ)\nProf. Dr. José Eduardo Leon Szwako (IESP/UERJ)\nProf.ª Dr.ª Mônica de Castro Maia Senna (UFF)\nProf. Dr. Tiago Daher Padovezi Borges (UFSC) \nDia 13 de Agosto de 2018\, segunda-feira\, às 14:00 horas\nRua da Matriz\, 82 – Botafogo \n[:]
URL:https://iesp.uerj.br/evento/defesa-de-tese-sergio-baldinotti/
LOCATION:Defesa: Alexsander Matheus Araújo Costa\, RJ
END:VEVENT
BEGIN:VEVENT
DTSTART;TZID=America/Sao_Paulo:20180813T140000
DTEND;TZID=America/Sao_Paulo:20180813T170000
DTSTAMP:20260421T230035
CREATED:20180806T182923Z
LAST-MODIFIED:20180806T182923Z
UID:16687-1534168800-1534179600@iesp.uerj.br
SUMMARY:Defesa de Tese: Sérgio Baldinotti
DESCRIPTION:[:pb] \nO Programa de Pós-Graduação em Ciência Política convida\npara:\nDefesa de Tese\nA (Im)Possível Relação entre Conselhos Gestores\nde Políticas Públicas e o Índice de\nDesenvolvimento Humano dos Municípios do\nEstado de Mato Grosso\nde\nSérgio Baldinotti \n  \nBanca Examinadora: \nProf.ª Dr.ª San Romanelli Assumpção (Orientadora)\nProf. Dr. João Feres Júnior (IESP/UERJ)\nProf. Dr. José Eduardo Leon Szwako (IESP/UERJ)\nProf.ª Dr.ª Mônica de Castro Maia Senna (UFF)\nProf. Dr. Tiago Daher Padovezi Borges (UFSC) \nDia 13 de Agosto de 2018\, segunda-feira\, às 14:00 horas\nRua da Matriz\, 82 – Botafogo \n[:]
URL:https://iesp.uerj.br/evento/defesa-de-tese-sergio-baldinotti-2/
LOCATION:Defesa: Alexsander Matheus Araújo Costa\, RJ
END:VEVENT
BEGIN:VEVENT
DTSTART;TZID=America/Sao_Paulo:20180813T150000
DTEND;TZID=America/Sao_Paulo:20180813T190000
DTSTAMP:20260421T230035
CREATED:20180811T023330Z
LAST-MODIFIED:20180811T023330Z
UID:16403-1534172400-1534186800@iesp.uerj.br
SUMMARY:Seminário: David Samuels\, César Zucco Jr.\, Pedro Floriano e Fabiano Santos
DESCRIPTION:[:pb]Os professores David Samuels da Universidade de Minesota\, César Zucco Jr. da FGV\, Pedro Floriano da UFSCAR e Fabiano Santos do IESP apresentam o seminário Filiação Partidária e a questão do Partidarismo no Brasil \n[:]
URL:https://iesp.uerj.br/evento/seminario-david-samuels-cesar-zucco-jr-pedro-floriano-e-fabiano-santos/
LOCATION:Defesa: Alexsander Matheus Araújo Costa\, RJ
END:VEVENT
BEGIN:VEVENT
DTSTART;TZID=America/Sao_Paulo:20180813T150000
DTEND;TZID=America/Sao_Paulo:20180813T190000
DTSTAMP:20260421T230035
CREATED:20180811T023330Z
LAST-MODIFIED:20180811T023330Z
UID:16689-1534172400-1534186800@iesp.uerj.br
SUMMARY:Seminário: David Samuels\, César Zucco Jr.\, Pedro Floriano e Fabiano Santos
DESCRIPTION:[:pb]Os professores David Samuels da Universidade de Minesota\, César Zucco Jr. da FGV\, Pedro Floriano da UFSCAR e Fabiano Santos do IESP apresentam o seminário Filiação Partidária e a questão do Partidarismo no Brasil \n[:]
URL:https://iesp.uerj.br/evento/seminario-david-samuels-cesar-zucco-jr-pedro-floriano-e-fabiano-santos-2/
LOCATION:Defesa: Alexsander Matheus Araújo Costa\, RJ
END:VEVENT
BEGIN:VEVENT
DTSTART;TZID=America/Sao_Paulo:20180817T140000
DTEND;TZID=America/Sao_Paulo:20180817T140000
DTSTAMP:20260421T230035
CREATED:20180726T152605Z
LAST-MODIFIED:20180726T152605Z
UID:16400-1534514400-1534514400@iesp.uerj.br
SUMMARY:Defesa de Tese: Livia Moreira Alcântara
DESCRIPTION:[:pb] \nO Programa de Pós-Graduação em Sociologia convida para:\nDefesa de Tese\nIndignadas e Indignados do mundo\, uni-vos!: Provas ativistas e os desafios da solidariedade internacionalista com o México na era da individualização\nde\nLivia Moreira Alcântara \n  \nBanca Examinadora: \nProf.  Dr. Breno Marques Bringel (Orientador)\nProf.  Dr. Frédèric Vandenberghe (IESP-UERJ)\nProf.ª Dr.ª Ana Karina Brenner (UERJ)\nProf.ª Dr.ª Cristiana Losekann (Universidade Federal do Espírito Santo – UFES)\nProf.ª Dr.ª Kathya Araújo (USACH) \nDia 17 de Agosto de 2018\, sexta-feira\, às 14:00 horas \nRua da Matriz\, 82 – Botafogo[:]
URL:https://iesp.uerj.br/evento/defesa-de-tese-livia-moreira-alcantara/
LOCATION:Defesa: Alexsander Matheus Araújo Costa\, RJ
END:VEVENT
BEGIN:VEVENT
DTSTART;TZID=America/Sao_Paulo:20180817T140000
DTEND;TZID=America/Sao_Paulo:20180817T140000
DTSTAMP:20260421T230035
CREATED:20180726T152605Z
LAST-MODIFIED:20180726T152605Z
UID:16686-1534514400-1534514400@iesp.uerj.br
SUMMARY:Defesa de Tese: Livia Moreira Alcântara
DESCRIPTION:[:pb] \nO Programa de Pós-Graduação em Sociologia convida para:\nDefesa de Tese\nIndignadas e Indignados do mundo\, uni-vos!: Provas ativistas e os desafios da solidariedade internacionalista com o México na era da individualização\nde\nLivia Moreira Alcântara \n  \nBanca Examinadora: \nProf.  Dr. Breno Marques Bringel (Orientador)\nProf.  Dr. Frédèric Vandenberghe (IESP-UERJ)\nProf.ª Dr.ª Ana Karina Brenner (UERJ)\nProf.ª Dr.ª Cristiana Losekann (Universidade Federal do Espírito Santo – UFES)\nProf.ª Dr.ª Kathya Araújo (USACH) \nDia 17 de Agosto de 2018\, sexta-feira\, às 14:00 horas \nRua da Matriz\, 82 – Botafogo[:]
URL:https://iesp.uerj.br/evento/defesa-de-tese-livia-moreira-alcantara-2/
LOCATION:Defesa: Alexsander Matheus Araújo Costa\, RJ
END:VEVENT
BEGIN:VEVENT
DTSTART;TZID=America/Sao_Paulo:20180820T140000
DTEND;TZID=America/Sao_Paulo:20180820T170000
DTSTAMP:20260421T230035
CREATED:20180815T152131Z
LAST-MODIFIED:20180815T152131Z
UID:16404-1534773600-1534784400@iesp.uerj.br
SUMMARY:Seminário: Kathya Araújo
DESCRIPTION:[:pb]Apresentação de seu mais recente trabalho ” Sostenerse en la vida social como objeto de estudio sociológico” . \n[:]
URL:https://iesp.uerj.br/evento/seminario-kathya-araujo/
LOCATION:Defesa: Alexsander Matheus Araújo Costa\, RJ
END:VEVENT
BEGIN:VEVENT
DTSTART;TZID=America/Sao_Paulo:20180820T140000
DTEND;TZID=America/Sao_Paulo:20180820T170000
DTSTAMP:20260421T230035
CREATED:20180815T152131Z
LAST-MODIFIED:20180815T152131Z
UID:16690-1534773600-1534784400@iesp.uerj.br
SUMMARY:Seminário: Kathya Araújo
DESCRIPTION:[:pb]Apresentação de seu mais recente trabalho ” Sostenerse en la vida social como objeto de estudio sociológico” . \n[:]
URL:https://iesp.uerj.br/evento/seminario-kathya-araujo-2/
LOCATION:Defesa: Alexsander Matheus Araújo Costa\, RJ
END:VEVENT
BEGIN:VEVENT
DTSTART;TZID=America/Sao_Paulo:20180824T090000
DTEND;TZID=America/Sao_Paulo:20180824T130000
DTSTAMP:20260421T230035
CREATED:20180807T182547Z
LAST-MODIFIED:20180807T182547Z
UID:16402-1535101200-1535115600@iesp.uerj.br
SUMMARY:Defesa de Tese: Enzo Mayer Tessarolo
DESCRIPTION:[:pb] \nO Programa de Pós-Graduação em Ciência Política convida\npara:\nDefesa de Tese\nCapacidades estatais para enfrentar a pobreza:\numa análise da implementação estadual de\nprogramas de transferência de renda\ncondicionada\nde\nEnzo Mayer Tessarolo \n  \nBanca Examinadora: \nProf.ª Dr.ª Celina Maria de Souza (Orientadora)\nProf.ª Dr.ª Maria Regina Soares de Lima (IESP)\nProf. Dr. Fabiano Guilherme Mendes Santos (IESP)\nProf.ª Dr.ª Cristiane Corrêa Batista Santos (UNIRIO)\nProf. Dr. Flavio Alfredo Gaitán (UNILA) \nDia 24 de Agosto de 2018\, sexta-feira\, às 09:00 horas \nRua da Matriz\, 82 – Botafogo[:]
URL:https://iesp.uerj.br/evento/defesa-de-tese-enzo-mayer-tessarolo/
LOCATION:Defesa: Alexsander Matheus Araújo Costa\, RJ
END:VEVENT
BEGIN:VEVENT
DTSTART;TZID=America/Sao_Paulo:20180824T090000
DTEND;TZID=America/Sao_Paulo:20180824T130000
DTSTAMP:20260421T230035
CREATED:20180807T182547Z
LAST-MODIFIED:20180807T182547Z
UID:16688-1535101200-1535115600@iesp.uerj.br
SUMMARY:Defesa de Tese: Enzo Mayer Tessarolo
DESCRIPTION:[:pb] \nO Programa de Pós-Graduação em Ciência Política convida\npara:\nDefesa de Tese\nCapacidades estatais para enfrentar a pobreza:\numa análise da implementação estadual de\nprogramas de transferência de renda\ncondicionada\nde\nEnzo Mayer Tessarolo \n  \nBanca Examinadora: \nProf.ª Dr.ª Celina Maria de Souza (Orientadora)\nProf.ª Dr.ª Maria Regina Soares de Lima (IESP)\nProf. Dr. Fabiano Guilherme Mendes Santos (IESP)\nProf.ª Dr.ª Cristiane Corrêa Batista Santos (UNIRIO)\nProf. Dr. Flavio Alfredo Gaitán (UNILA) \nDia 24 de Agosto de 2018\, sexta-feira\, às 09:00 horas \nRua da Matriz\, 82 – Botafogo[:]
URL:https://iesp.uerj.br/evento/defesa-de-tese-enzo-mayer-tessarolo-2/
LOCATION:Defesa: Alexsander Matheus Araújo Costa\, RJ
END:VEVENT
BEGIN:VEVENT
DTSTART;TZID=America/Sao_Paulo:20180824T150000
DTEND;TZID=America/Sao_Paulo:20180824T190000
DTSTAMP:20260421T230035
CREATED:20180815T152532Z
LAST-MODIFIED:20180815T152532Z
UID:16405-1535122800-1535137200@iesp.uerj.br
SUMMARY:Seminário: Amalia Eugenia Fischer Pfaeffle e Humberto Meza
DESCRIPTION:[:pb]Palestra “A rebelião Cívica na Nicarágua:Diagnóstico e Perspectiva \n[:]
URL:https://iesp.uerj.br/evento/seminario-amalia-eugenia-fscher-pfaeffle-e-humberto-meza/
LOCATION:Defesa: Alexsander Matheus Araújo Costa\, RJ
END:VEVENT
BEGIN:VEVENT
DTSTART;TZID=America/Sao_Paulo:20180824T150000
DTEND;TZID=America/Sao_Paulo:20180824T190000
DTSTAMP:20260421T230035
CREATED:20180815T152532Z
LAST-MODIFIED:20180815T152532Z
UID:16691-1535122800-1535137200@iesp.uerj.br
SUMMARY:Seminário: Amalia Eugenia Fischer Pfaeffle e Humberto Meza
DESCRIPTION:[:pb]Palestra “A rebelião Cívica na Nicarágua:Diagnóstico e Perspectiva \n[:]
URL:https://iesp.uerj.br/evento/seminario-amalia-eugenia-fscher-pfaeffle-e-humberto-meza-2/
LOCATION:Defesa: Alexsander Matheus Araújo Costa\, RJ
END:VEVENT
END:VCALENDAR