BEGIN:VCALENDAR
VERSION:2.0
PRODID:-//IESP - ECPv6.0.7.1//NONSGML v1.0//EN
CALSCALE:GREGORIAN
METHOD:PUBLISH
X-ORIGINAL-URL:https://iesp.uerj.br
X-WR-CALDESC:Eventos para IESP
REFRESH-INTERVAL;VALUE=DURATION:PT1H
X-Robots-Tag:noindex
X-PUBLISHED-TTL:PT1H
BEGIN:VTIMEZONE
TZID:America/Sao_Paulo
BEGIN:STANDARD
TZOFFSETFROM:-0200
TZOFFSETTO:-0300
TZNAME:-03
DTSTART:20180218T020000
END:STANDARD
BEGIN:DAYLIGHT
TZOFFSETFROM:-0300
TZOFFSETTO:-0200
TZNAME:-02
DTSTART:20181104T030000
END:DAYLIGHT
END:VTIMEZONE
BEGIN:VEVENT
DTSTART;TZID=America/Sao_Paulo:20180608T140000
DTEND;TZID=America/Sao_Paulo:20180608T170000
DTSTAMP:20260422T051648
CREATED:20180312T194704Z
LAST-MODIFIED:20180312T194704Z
UID:16374-1528466400-1528477200@iesp.uerj.br
SUMMARY:Seminário: Ana Saggioro Garcia
DESCRIPTION:[:pb] \nAna Saggioro apresenta o seminário: Economia Política das relações Sul-Sul: um estudo comparativo dos acordos de proteção de investimentos dos BRICS na África e na América Latina \n \n [:]
URL:https://iesp.uerj.br/evento/seminario-ana-saggioro-garcia/
LOCATION:Defesa: Alexsander Matheus Araújo Costa\, RJ
END:VEVENT
BEGIN:VEVENT
DTSTART;TZID=America/Sao_Paulo:20180608T140000
DTEND;TZID=America/Sao_Paulo:20180608T170000
DTSTAMP:20260422T051648
CREATED:20180312T194704Z
LAST-MODIFIED:20180312T194704Z
UID:16660-1528466400-1528477200@iesp.uerj.br
SUMMARY:Seminário: Ana Saggioro Garcia
DESCRIPTION:[:pb] \nAna Saggioro apresenta o seminário: Economia Política das relações Sul-Sul: um estudo comparativo dos acordos de proteção de investimentos dos BRICS na África e na América Latina \n \n [:]
URL:https://iesp.uerj.br/evento/seminario-ana-saggioro-garcia-2/
LOCATION:Defesa: Alexsander Matheus Araújo Costa\, RJ
END:VEVENT
BEGIN:VEVENT
DTSTART;TZID=America/Sao_Paulo:20180611T140000
DTEND;TZID=America/Sao_Paulo:20180611T170000
DTSTAMP:20260422T051648
CREATED:20180312T202741Z
LAST-MODIFIED:20180312T202741Z
UID:16383-1528725600-1528736400@iesp.uerj.br
SUMMARY:Seminário: Cynthia Hamlin
DESCRIPTION:[:pb] \nCynthia Hamlin (UFPE) apresenta o seminário: “Teoria feminista: o outro lado da teoria social?” \n \n  \n [:]
URL:https://iesp.uerj.br/evento/seminario-cynthia-hamlin/
LOCATION:Defesa: Alexsander Matheus Araújo Costa\, RJ
END:VEVENT
BEGIN:VEVENT
DTSTART;TZID=America/Sao_Paulo:20180611T140000
DTEND;TZID=America/Sao_Paulo:20180611T170000
DTSTAMP:20260422T051648
CREATED:20180312T202741Z
LAST-MODIFIED:20180312T202741Z
UID:16669-1528725600-1528736400@iesp.uerj.br
SUMMARY:Seminário: Cynthia Hamlin
DESCRIPTION:[:pb] \nCynthia Hamlin (UFPE) apresenta o seminário: “Teoria feminista: o outro lado da teoria social?” \n \n  \n [:]
URL:https://iesp.uerj.br/evento/seminario-cynthia-hamlin-2/
LOCATION:Defesa: Alexsander Matheus Araújo Costa\, RJ
END:VEVENT
BEGIN:VEVENT
DTSTART;TZID=America/Sao_Paulo:20180615T140000
DTEND;TZID=America/Sao_Paulo:20180615T170000
DTSTAMP:20260422T051648
CREATED:20180312T195105Z
LAST-MODIFIED:20180312T195105Z
UID:16375-1529071200-1529082000@iesp.uerj.br
SUMMARY:Seminário: Ângela de Castro Gomes
DESCRIPTION:[:pb]Ângela de Castro Gomes (UNIRIO) apresenta o seminário: “A invenção do trabalhismo” \n[:]
URL:https://iesp.uerj.br/evento/seminario-angela-de-castro-gomes/
LOCATION:Defesa: Alexsander Matheus Araújo Costa\, RJ
END:VEVENT
BEGIN:VEVENT
DTSTART;TZID=America/Sao_Paulo:20180615T140000
DTEND;TZID=America/Sao_Paulo:20180615T170000
DTSTAMP:20260422T051648
CREATED:20180312T195105Z
LAST-MODIFIED:20180312T195105Z
UID:16661-1529071200-1529082000@iesp.uerj.br
SUMMARY:Seminário: Ângela de Castro Gomes
DESCRIPTION:[:pb]Ângela de Castro Gomes (UNIRIO) apresenta o seminário: “A invenção do trabalhismo” \n[:]
URL:https://iesp.uerj.br/evento/seminario-angela-de-castro-gomes-2/
LOCATION:Defesa: Alexsander Matheus Araújo Costa\, RJ
END:VEVENT
BEGIN:VEVENT
DTSTART;TZID=America/Sao_Paulo:20180618T140000
DTEND;TZID=America/Sao_Paulo:20180618T170000
DTSTAMP:20260422T051648
CREATED:20180604T170155Z
LAST-MODIFIED:20180604T170155Z
UID:16395-1529330400-1529341200@iesp.uerj.br
SUMMARY:Defesa de Tese: Flávia Bozza Martins
DESCRIPTION:[:pb] \nO Programa de Pós-Graduação em Ciência Política convida\npara:\nDefesa de Tese\nVoto Econômico na América Latina: avaliação de\npolíticas públicas e clareza de responsabilidade\nde\nFlávia Bozza Martins \n  \nBanca Examinadora: \nProf.ªDr.ªArgelinaMariaCheibubFigueiredo (Orientadora)\nProf.ª Dr.ª Luciana Fernandes Veiga (Co-Orientadora)\nProf. Dr. Fernando Henrique Eduardo Guarnieri (IESP)\nProf.ª Dr.ª Celina Maria de Souza (IESP)\nProf. Dr. Steven Dutt-Ross (UNIRIO) \nDia 18 de Junho de 2018\, segunda-feira\, às 14:00 horas \nRua da Matriz\, 82 – Botafogo[:]
URL:https://iesp.uerj.br/evento/defesa-de-tese-flavia-bozza-martins/
LOCATION:Defesa: Alexsander Matheus Araújo Costa\, RJ
END:VEVENT
BEGIN:VEVENT
DTSTART;TZID=America/Sao_Paulo:20180618T140000
DTEND;TZID=America/Sao_Paulo:20180618T170000
DTSTAMP:20260422T051648
CREATED:20180604T170155Z
LAST-MODIFIED:20180604T170155Z
UID:16681-1529330400-1529341200@iesp.uerj.br
SUMMARY:Defesa de Tese: Flávia Bozza Martins
DESCRIPTION:[:pb] \nO Programa de Pós-Graduação em Ciência Política convida\npara:\nDefesa de Tese\nVoto Econômico na América Latina: avaliação de\npolíticas públicas e clareza de responsabilidade\nde\nFlávia Bozza Martins \n  \nBanca Examinadora: \nProf.ªDr.ªArgelinaMariaCheibubFigueiredo (Orientadora)\nProf.ª Dr.ª Luciana Fernandes Veiga (Co-Orientadora)\nProf. Dr. Fernando Henrique Eduardo Guarnieri (IESP)\nProf.ª Dr.ª Celina Maria de Souza (IESP)\nProf. Dr. Steven Dutt-Ross (UNIRIO) \nDia 18 de Junho de 2018\, segunda-feira\, às 14:00 horas \nRua da Matriz\, 82 – Botafogo[:]
URL:https://iesp.uerj.br/evento/defesa-de-tese-flavia-bozza-martins-2/
LOCATION:Defesa: Alexsander Matheus Araújo Costa\, RJ
END:VEVENT
BEGIN:VEVENT
DTSTART;TZID=America/Sao_Paulo:20180622T090000
DTEND;TZID=America/Sao_Paulo:20180622T120000
DTSTAMP:20260422T051648
CREATED:20180427T181112Z
LAST-MODIFIED:20180427T181112Z
UID:16389-1529658000-1529668800@iesp.uerj.br
SUMMARY:Defesa de Tese: Daniel Soares Rumbelsperger Rodrigues
DESCRIPTION:[:pb] \nO Programa de Pós-Graduação em Sociologia convida para:\nDefesa de Tese\nA configuração da informalidade nas margens do Estado: um estudo sobre a trajetória de\ncomerciantes em favelas “pacificadas” \nde \n\nDaniel Soares Rumbelsperger Rodrigues \n  \nBanca Examinadora: \nProf.  Dr. Adalberto Moreira Cardoso (Orientador)\nProf.ª Dr.ª Mariana Cavalcanti Rocha dos Santos (IESP)\nProfª. Dr.ª Márcia da Silva Pereira Leite (UERJ)\nProf.  Dr. Fernando Rabossi (UFRJ)\nProf.  Dr. Daniel Veloso Hirata (UFF) \nDia 22 de Junho de 2018\, sexta-feira\, às 9:00 horas \nRua da Matriz\, 82 – Botafogo[:]
URL:https://iesp.uerj.br/evento/defesa-de-tese-daniel-soares-rumbelsperger-rodrigues/
LOCATION:Defesa: Alexsander Matheus Araújo Costa\, RJ
END:VEVENT
BEGIN:VEVENT
DTSTART;TZID=America/Sao_Paulo:20180622T090000
DTEND;TZID=America/Sao_Paulo:20180622T120000
DTSTAMP:20260422T051648
CREATED:20180427T181112Z
LAST-MODIFIED:20180427T181112Z
UID:16675-1529658000-1529668800@iesp.uerj.br
SUMMARY:Defesa de Tese: Daniel Soares Rumbelsperger Rodrigues
DESCRIPTION:[:pb] \nO Programa de Pós-Graduação em Sociologia convida para:\nDefesa de Tese\nA configuração da informalidade nas margens do Estado: um estudo sobre a trajetória de\ncomerciantes em favelas “pacificadas” \nde \n\nDaniel Soares Rumbelsperger Rodrigues \n  \nBanca Examinadora: \nProf.  Dr. Adalberto Moreira Cardoso (Orientador)\nProf.ª Dr.ª Mariana Cavalcanti Rocha dos Santos (IESP)\nProfª. Dr.ª Márcia da Silva Pereira Leite (UERJ)\nProf.  Dr. Fernando Rabossi (UFRJ)\nProf.  Dr. Daniel Veloso Hirata (UFF) \nDia 22 de Junho de 2018\, sexta-feira\, às 9:00 horas \nRua da Matriz\, 82 – Botafogo[:]
URL:https://iesp.uerj.br/evento/defesa-de-tese-daniel-soares-rumbelsperger-rodrigues-2/
LOCATION:Defesa: Alexsander Matheus Araújo Costa\, RJ
END:VEVENT
BEGIN:VEVENT
DTSTART;TZID=America/Sao_Paulo:20180625T140000
DTEND;TZID=America/Sao_Paulo:20180625T170000
DTSTAMP:20260422T051648
CREATED:20180312T195348Z
LAST-MODIFIED:20180312T195348Z
UID:16376-1529935200-1529946000@iesp.uerj.br
SUMMARY:Seminário: Thiago Moreira
DESCRIPTION:[:pb] \nO mal-estar da representação no Brasil: uma análise de congruência entre representantes e representados \n \n  \n  \n [:]
URL:https://iesp.uerj.br/evento/seminario-thiago-moreira/
LOCATION:Defesa: Alexsander Matheus Araújo Costa\, RJ
END:VEVENT
BEGIN:VEVENT
DTSTART;TZID=America/Sao_Paulo:20180625T140000
DTEND;TZID=America/Sao_Paulo:20180625T170000
DTSTAMP:20260422T051648
CREATED:20180312T195348Z
LAST-MODIFIED:20180312T195348Z
UID:16662-1529935200-1529946000@iesp.uerj.br
SUMMARY:Seminário: Thiago Moreira
DESCRIPTION:[:pb] \nO mal-estar da representação no Brasil: uma análise de congruência entre representantes e representados \n \n  \n  \n [:]
URL:https://iesp.uerj.br/evento/seminario-thiago-moreira-2/
LOCATION:Defesa: Alexsander Matheus Araújo Costa\, RJ
END:VEVENT
BEGIN:VEVENT
DTSTART;TZID=America/Sao_Paulo:20180629T093000
DTEND;TZID=America/Sao_Paulo:20180629T130000
DTSTAMP:20260422T051648
CREATED:20180607T151209Z
LAST-MODIFIED:20180607T151209Z
UID:16396-1530264600-1530277200@iesp.uerj.br
SUMMARY:Defesa de Tese: Kaio Felipe Mendes de Oliveira Santos
DESCRIPTION:[:pb] \nO Programa de Pós-Graduação em Sociologia convida para:\nDefesa de Tese\n“A crise da cultura moderna segundo José\nGuilherme Merquior”\nde\nKaio Felipe Mendes de Oliveira Santos \n  \nBanca Examinadora:\nProf.ª Dr.ª Alba Maria Zaluar (Orientadora)\nProf. Dr. Cesar Augusto Coelho Guimarães (Co-Orientador)\nProf. Dr. Christian Edward Cyril Lynch (IESP)\nProf.Dr.Pedro Hermílio Villas Bôas Castelo Branco (IESP)\nProf. Dr. João Cezar de Castro Rocha (UERJ)\nProf. Dr. Roberto Romano da Silva (Unicamp) \nDia 29 de Junho de 2018\, sexta-feira\, às 9:30 horas \nRua da Matriz\, 82 – Botafogo[:]
URL:https://iesp.uerj.br/evento/defesa-de-tese-kaio-felipe-mendes-de-oliveira-santos/
LOCATION:Defesa: Alexsander Matheus Araújo Costa\, RJ
END:VEVENT
BEGIN:VEVENT
DTSTART;TZID=America/Sao_Paulo:20180629T093000
DTEND;TZID=America/Sao_Paulo:20180629T130000
DTSTAMP:20260422T051648
CREATED:20180607T151209Z
LAST-MODIFIED:20180607T151209Z
UID:16682-1530264600-1530277200@iesp.uerj.br
SUMMARY:Defesa de Tese: Kaio Felipe Mendes de Oliveira Santos
DESCRIPTION:[:pb] \nO Programa de Pós-Graduação em Sociologia convida para:\nDefesa de Tese\n“A crise da cultura moderna segundo José\nGuilherme Merquior”\nde\nKaio Felipe Mendes de Oliveira Santos \n  \nBanca Examinadora:\nProf.ª Dr.ª Alba Maria Zaluar (Orientadora)\nProf. Dr. Cesar Augusto Coelho Guimarães (Co-Orientador)\nProf. Dr. Christian Edward Cyril Lynch (IESP)\nProf.Dr.Pedro Hermílio Villas Bôas Castelo Branco (IESP)\nProf. Dr. João Cezar de Castro Rocha (UERJ)\nProf. Dr. Roberto Romano da Silva (Unicamp) \nDia 29 de Junho de 2018\, sexta-feira\, às 9:30 horas \nRua da Matriz\, 82 – Botafogo[:]
URL:https://iesp.uerj.br/evento/defesa-de-tese-kaio-felipe-mendes-de-oliveira-santos-2/
LOCATION:Defesa: Alexsander Matheus Araújo Costa\, RJ
END:VEVENT
END:VCALENDAR