BEGIN:VCALENDAR
VERSION:2.0
PRODID:-//IESP - ECPv6.0.7.1//NONSGML v1.0//EN
CALSCALE:GREGORIAN
METHOD:PUBLISH
X-WR-CALNAME:IESP
X-ORIGINAL-URL:https://iesp.uerj.br
X-WR-CALDESC:Eventos para IESP
REFRESH-INTERVAL;VALUE=DURATION:PT1H
X-Robots-Tag:noindex
X-PUBLISHED-TTL:PT1H
BEGIN:VTIMEZONE
TZID:America/Sao_Paulo
BEGIN:STANDARD
TZOFFSETFROM:-0200
TZOFFSETTO:-0300
TZNAME:-03
DTSTART:20180218T020000
END:STANDARD
BEGIN:DAYLIGHT
TZOFFSETFROM:-0300
TZOFFSETTO:-0200
TZNAME:-02
DTSTART:20181104T030000
END:DAYLIGHT
END:VTIMEZONE
BEGIN:VEVENT
DTSTART;TZID=America/Sao_Paulo:20180504T140000
DTEND;TZID=America/Sao_Paulo:20180504T170000
DTSTAMP:20260422T145949
CREATED:20180312T202204Z
LAST-MODIFIED:20180312T202204Z
UID:16381-1525442400-1525453200@iesp.uerj.br
SUMMARY:Seminário: Diego Werneck
DESCRIPTION:[:pb] \nDiego Werneck (FGV) apresenta o seminário: “Ministrocracia? O Supremo Tribunal Individual na democracia brasileira” \n \n [:]
URL:https://iesp.uerj.br/evento/seminario-diego-werneck/
LOCATION:Defesa: Alexsander Matheus Araújo Costa\, RJ
END:VEVENT
BEGIN:VEVENT
DTSTART;TZID=America/Sao_Paulo:20180504T140000
DTEND;TZID=America/Sao_Paulo:20180504T170000
DTSTAMP:20260422T145949
CREATED:20180312T202204Z
LAST-MODIFIED:20180312T202204Z
UID:16667-1525442400-1525453200@iesp.uerj.br
SUMMARY:Seminário: Diego Werneck
DESCRIPTION:[:pb] \nDiego Werneck (FGV) apresenta o seminário: “Ministrocracia? O Supremo Tribunal Individual na democracia brasileira” \n \n [:]
URL:https://iesp.uerj.br/evento/seminario-diego-werneck-2/
LOCATION:Defesa: Alexsander Matheus Araújo Costa\, RJ
END:VEVENT
BEGIN:VEVENT
DTSTART;TZID=America/Sao_Paulo:20180507T140000
DTEND;TZID=America/Sao_Paulo:20180507T170000
DTSTAMP:20260422T145949
CREATED:20180308T205805Z
LAST-MODIFIED:20180308T205805Z
UID:16365-1525701600-1525712400@iesp.uerj.br
SUMMARY:Defesa de Tese: Isabel Cristina Veloso de Oliveira
DESCRIPTION:[:pb] \nO Programa de Pós-Graduação em Ciência Política convida\npara:\nDefesa de Tese\nDos púlpitos aos palanques: a trajetória dos\nevangélicos na política institucional brasileira\nde\nIsabel Cristina Veloso de Oliveira \n  \nBanca Examinadora:\nProf. Dr. Fernando Henrique Eduardo Guarnieri (Orientador)\nProf. Dr. Fabiano Guilherme Mendes Santos (IESP)\nProf.ª Dr.ª Cecília Loreto Mariz (UERJ)\nProf. Dr. Vinícius Werneck Barbosa Diniz (FUNDAJ)\nProf. Dr. Ricardo Mariano (USP) \nDia 07 de Maio de 2018\, segunda–feira\, às 14:00 horas \nRua da Matriz\, 82 – Botafogo[:]
URL:https://iesp.uerj.br/evento/defesa-de-tese-isabel-cristina-veloso-de-oliveira/
LOCATION:Defesa: Alexsander Matheus Araújo Costa\, RJ
END:VEVENT
BEGIN:VEVENT
DTSTART;TZID=America/Sao_Paulo:20180507T140000
DTEND;TZID=America/Sao_Paulo:20180507T170000
DTSTAMP:20260422T145949
CREATED:20180308T205805Z
LAST-MODIFIED:20180308T205805Z
UID:16651-1525701600-1525712400@iesp.uerj.br
SUMMARY:Defesa de Tese: Isabel Cristina Veloso de Oliveira
DESCRIPTION:[:pb] \nO Programa de Pós-Graduação em Ciência Política convida\npara:\nDefesa de Tese\nDos púlpitos aos palanques: a trajetória dos\nevangélicos na política institucional brasileira\nde\nIsabel Cristina Veloso de Oliveira \n  \nBanca Examinadora:\nProf. Dr. Fernando Henrique Eduardo Guarnieri (Orientador)\nProf. Dr. Fabiano Guilherme Mendes Santos (IESP)\nProf.ª Dr.ª Cecília Loreto Mariz (UERJ)\nProf. Dr. Vinícius Werneck Barbosa Diniz (FUNDAJ)\nProf. Dr. Ricardo Mariano (USP) \nDia 07 de Maio de 2018\, segunda–feira\, às 14:00 horas \nRua da Matriz\, 82 – Botafogo[:]
URL:https://iesp.uerj.br/evento/defesa-de-tese-isabel-cristina-veloso-de-oliveira-2/
LOCATION:Defesa: Alexsander Matheus Araújo Costa\, RJ
END:VEVENT
BEGIN:VEVENT
DTSTART;TZID=America/Sao_Paulo:20180507T140000
DTEND;TZID=America/Sao_Paulo:20180507T170000
DTSTAMP:20260422T145949
CREATED:20180503T135011Z
LAST-MODIFIED:20180503T135011Z
UID:16390-1525701600-1525712400@iesp.uerj.br
SUMMARY:Defesa de Tese: Alexander David Anton Couto Englander
DESCRIPTION:[:pb] \nO Programa de Pós-Graduação em Sociologia convida para:\nDefesa de Tese\n“Democratização\, demofobia e conflitos sociais:\num estudo teórico e histórico-sociológico sobre a\n4ª República brasileira 1946-1964”\nde\nAlexander David Anton Couto Englander \nBanca Examinadora: \nProf.  Dr. Adalberto Moreira Cardoso (Orientador)\nProf.  Dr. Cesar Augusto Coelho Guimarães (IESP)\nProf.  Dr. Christian Edward Cyril Lynch (IESP)\nProf.ª Dr.ª Elina Gonçalves da Fonte Pessanha (UFRJ)\nProf.  Dr. José Ricardo Garcia Pereira Ramalho (UFRJ) \nDia 07 de Maio de 2018\, segunda-feira\, às 14:00 horas \nRua da Matriz\, 82 – Botafogo[:]
URL:https://iesp.uerj.br/evento/defesa-de-tese-alexander-david-anton-couto-englander/
LOCATION:Defesa: Alexsander Matheus Araújo Costa\, RJ
END:VEVENT
BEGIN:VEVENT
DTSTART;TZID=America/Sao_Paulo:20180507T140000
DTEND;TZID=America/Sao_Paulo:20180507T170000
DTSTAMP:20260422T145949
CREATED:20180503T135011Z
LAST-MODIFIED:20180503T135011Z
UID:16676-1525701600-1525712400@iesp.uerj.br
SUMMARY:Defesa de Tese: Alexander David Anton Couto Englander
DESCRIPTION:[:pb] \nO Programa de Pós-Graduação em Sociologia convida para:\nDefesa de Tese\n“Democratização\, demofobia e conflitos sociais:\num estudo teórico e histórico-sociológico sobre a\n4ª República brasileira 1946-1964”\nde\nAlexander David Anton Couto Englander \nBanca Examinadora: \nProf.  Dr. Adalberto Moreira Cardoso (Orientador)\nProf.  Dr. Cesar Augusto Coelho Guimarães (IESP)\nProf.  Dr. Christian Edward Cyril Lynch (IESP)\nProf.ª Dr.ª Elina Gonçalves da Fonte Pessanha (UFRJ)\nProf.  Dr. José Ricardo Garcia Pereira Ramalho (UFRJ) \nDia 07 de Maio de 2018\, segunda-feira\, às 14:00 horas \nRua da Matriz\, 82 – Botafogo[:]
URL:https://iesp.uerj.br/evento/defesa-de-tese-alexander-david-anton-couto-englander-2/
LOCATION:Defesa: Alexsander Matheus Araújo Costa\, RJ
END:VEVENT
BEGIN:VEVENT
DTSTART;TZID=America/Sao_Paulo:20180511T090000
DTEND;TZID=America/Sao_Paulo:20180511T120000
DTSTAMP:20260422T145949
CREATED:20180504T174714Z
LAST-MODIFIED:20180504T174714Z
UID:16391-1526029200-1526040000@iesp.uerj.br
SUMMARY:Defesa de Tese: Acir dos Santos Almeida
DESCRIPTION:[:pb] \nO Programa de Pós-Graduação em Ciência Política convida\npara:\nDefesa de Tese\nGoverno presidencial condicionado: delegação e\nparticipação legislativa na Câmara dos  Deputados\nde\nAcir dos Santos Almeida \n  \nBanca Examinadora: \nProf. Dr. Fabiano Guilherme Mendes Santos (Orientador)\nProf.ª Dr.ª Argelina Maria Cheibub Figueiredo (IESP)\nProf. Dr. Fernando Henrique Eduardo Guarnieri (IESP)\nProf.Dr.FernandodeMagalhãesPapaterraLimongi(USP)\nProf. Dr. Timothy J. Power (Universidade de Oxford) \nDia 11 de Maio de 2018\, sexta-feira\, às 09:00 horas \nRua da Matriz\, 82 – Botafogo[:]
URL:https://iesp.uerj.br/evento/defesa-de-tese-acir-dos-santos-almeida/
LOCATION:Defesa: Alexsander Matheus Araújo Costa\, RJ
END:VEVENT
BEGIN:VEVENT
DTSTART;TZID=America/Sao_Paulo:20180511T090000
DTEND;TZID=America/Sao_Paulo:20180511T120000
DTSTAMP:20260422T145949
CREATED:20180504T174714Z
LAST-MODIFIED:20180504T174714Z
UID:16677-1526029200-1526040000@iesp.uerj.br
SUMMARY:Defesa de Tese: Acir dos Santos Almeida
DESCRIPTION:[:pb] \nO Programa de Pós-Graduação em Ciência Política convida\npara:\nDefesa de Tese\nGoverno presidencial condicionado: delegação e\nparticipação legislativa na Câmara dos  Deputados\nde\nAcir dos Santos Almeida \n  \nBanca Examinadora: \nProf. Dr. Fabiano Guilherme Mendes Santos (Orientador)\nProf.ª Dr.ª Argelina Maria Cheibub Figueiredo (IESP)\nProf. Dr. Fernando Henrique Eduardo Guarnieri (IESP)\nProf.Dr.FernandodeMagalhãesPapaterraLimongi(USP)\nProf. Dr. Timothy J. Power (Universidade de Oxford) \nDia 11 de Maio de 2018\, sexta-feira\, às 09:00 horas \nRua da Matriz\, 82 – Botafogo[:]
URL:https://iesp.uerj.br/evento/defesa-de-tese-acir-dos-santos-almeida-2/
LOCATION:Defesa: Alexsander Matheus Araújo Costa\, RJ
END:VEVENT
BEGIN:VEVENT
DTSTART;TZID=America/Sao_Paulo:20180511T090000
DTEND;TZID=America/Sao_Paulo:20180511T120000
DTSTAMP:20260422T145949
CREATED:20180507T191801Z
LAST-MODIFIED:20180507T191801Z
UID:16392-1526029200-1526040000@iesp.uerj.br
SUMMARY:Debate e Lançamento de livro: Roberta Soromenho Nicolete (UFF)\, João Feres Júnior (IESP) e Luís Falcão (UFF)
DESCRIPTION:[:pb] \n                  \n [:]
URL:https://iesp.uerj.br/evento/debate-e-lancamento-de-livro-roberta-soromenho-nicolete-uff-joao-feres-junior-iesp-e-luis-falcao-uff/
LOCATION:Defesa: Alexsander Matheus Araújo Costa\, RJ
END:VEVENT
BEGIN:VEVENT
DTSTART;TZID=America/Sao_Paulo:20180511T090000
DTEND;TZID=America/Sao_Paulo:20180511T120000
DTSTAMP:20260422T145949
CREATED:20180507T191801Z
LAST-MODIFIED:20180507T191801Z
UID:16678-1526029200-1526040000@iesp.uerj.br
SUMMARY:Debate e Lançamento de livro: Roberta Soromenho Nicolete (UFF)\, João Feres Júnior (IESP) e Luís Falcão (UFF)
DESCRIPTION:[:pb] \n                  \n [:]
URL:https://iesp.uerj.br/evento/debate-e-lancamento-de-livro-roberta-soromenho-nicolete-uff-joao-feres-junior-iesp-e-luis-falcao-uff-2/
LOCATION:Defesa: Alexsander Matheus Araújo Costa\, RJ
END:VEVENT
BEGIN:VEVENT
DTSTART;TZID=America/Sao_Paulo:20180511T140000
DTEND;TZID=America/Sao_Paulo:20180511T170000
DTSTAMP:20260422T145949
CREATED:20180312T202338Z
LAST-MODIFIED:20180312T202338Z
UID:16382-1526047200-1526058000@iesp.uerj.br
SUMMARY:Seminário: Jaqueline Muniz
DESCRIPTION:[:pb] \nJaqueline Muniz (UFF) apresenta o seminário: “Segurança e suas razões: sob o regime do medo” \n \n [:]
URL:https://iesp.uerj.br/evento/seminario-jaqueline-muniz/
LOCATION:Defesa: Alexsander Matheus Araújo Costa\, RJ
END:VEVENT
BEGIN:VEVENT
DTSTART;TZID=America/Sao_Paulo:20180511T140000
DTEND;TZID=America/Sao_Paulo:20180511T170000
DTSTAMP:20260422T145949
CREATED:20180312T202338Z
LAST-MODIFIED:20180312T202338Z
UID:16668-1526047200-1526058000@iesp.uerj.br
SUMMARY:Seminário: Jaqueline Muniz
DESCRIPTION:[:pb] \nJaqueline Muniz (UFF) apresenta o seminário: “Segurança e suas razões: sob o regime do medo” \n \n [:]
URL:https://iesp.uerj.br/evento/seminario-jaqueline-muniz-2/
LOCATION:Defesa: Alexsander Matheus Araújo Costa\, RJ
END:VEVENT
BEGIN:VEVENT
DTSTART;TZID=America/Sao_Paulo:20180514T140000
DTEND;TZID=America/Sao_Paulo:20180514T170000
DTSTAMP:20260422T145949
CREATED:20180312T193441Z
LAST-MODIFIED:20180312T193441Z
UID:16371-1526306400-1526317200@iesp.uerj.br
SUMMARY:Seminário: Arthur Trindade
DESCRIPTION:[:pb] \nArthur Trindade (UnB) apresenta o seminário: “O Risco e o medo do Crime” \n \n [:]
URL:https://iesp.uerj.br/evento/seminario-arthur-trindade/
LOCATION:Defesa: Alexsander Matheus Araújo Costa\, RJ
END:VEVENT
BEGIN:VEVENT
DTSTART;TZID=America/Sao_Paulo:20180514T140000
DTEND;TZID=America/Sao_Paulo:20180514T170000
DTSTAMP:20260422T145949
CREATED:20180312T193441Z
LAST-MODIFIED:20180312T193441Z
UID:16657-1526306400-1526317200@iesp.uerj.br
SUMMARY:Seminário: Arthur Trindade
DESCRIPTION:[:pb] \nArthur Trindade (UnB) apresenta o seminário: “O Risco e o medo do Crime” \n \n [:]
URL:https://iesp.uerj.br/evento/seminario-arthur-trindade-2/
LOCATION:Defesa: Alexsander Matheus Araújo Costa\, RJ
END:VEVENT
BEGIN:VEVENT
DTSTART;TZID=America/Sao_Paulo:20180518T140000
DTEND;TZID=America/Sao_Paulo:20180518T170000
DTSTAMP:20260422T145949
CREATED:20180312T193937Z
LAST-MODIFIED:20180312T193937Z
UID:16372-1526652000-1526662800@iesp.uerj.br
SUMMARY:Seminário: Eunice Ostrensky
DESCRIPTION:[:pb] \nEunice Ostrensky (USP)  apresenta o seminário: “Como manipular as emoções: Maquiavel entre a retórica e o teatro” \n \n [:]
URL:https://iesp.uerj.br/evento/seminario-eunice-ostrensky/
LOCATION:Defesa: Alexsander Matheus Araújo Costa\, RJ
END:VEVENT
BEGIN:VEVENT
DTSTART;TZID=America/Sao_Paulo:20180518T140000
DTEND;TZID=America/Sao_Paulo:20180518T170000
DTSTAMP:20260422T145949
CREATED:20180312T193937Z
LAST-MODIFIED:20180312T193937Z
UID:16658-1526652000-1526662800@iesp.uerj.br
SUMMARY:Seminário: Eunice Ostrensky
DESCRIPTION:[:pb] \nEunice Ostrensky (USP)  apresenta o seminário: “Como manipular as emoções: Maquiavel entre a retórica e o teatro” \n \n [:]
URL:https://iesp.uerj.br/evento/seminario-eunice-ostrensky-2/
LOCATION:Defesa: Alexsander Matheus Araújo Costa\, RJ
END:VEVENT
BEGIN:VEVENT
DTSTART;TZID=America/Sao_Paulo:20180521T170000
DTEND;TZID=America/Sao_Paulo:20180521T200000
DTSTAMP:20260422T145949
CREATED:20180517T171336Z
LAST-MODIFIED:20180517T171336Z
UID:16394-1526922000-1526932800@iesp.uerj.br
SUMMARY:Seminário: Painéis Necon 2018
DESCRIPTION:[:pb] \nPainéis Necon 2018 \nSentimentos e Percepções do Eleitores “indecisos progressistas” \nsobre a eleição presidencial de 2018 \nde \nCarolina de Paula (IESP-UERJ) \n[:]
URL:https://iesp.uerj.br/evento/seminario-paineis-necon-2018/
LOCATION:Defesa: Alexsander Matheus Araújo Costa\, RJ
END:VEVENT
BEGIN:VEVENT
DTSTART;TZID=America/Sao_Paulo:20180521T170000
DTEND;TZID=America/Sao_Paulo:20180521T200000
DTSTAMP:20260422T145949
CREATED:20180517T171336Z
LAST-MODIFIED:20180517T171336Z
UID:16680-1526922000-1526932800@iesp.uerj.br
SUMMARY:Seminário: Painéis Necon 2018
DESCRIPTION:[:pb] \nPainéis Necon 2018 \nSentimentos e Percepções do Eleitores “indecisos progressistas” \nsobre a eleição presidencial de 2018 \nde \nCarolina de Paula (IESP-UERJ) \n[:]
URL:https://iesp.uerj.br/evento/seminario-paineis-necon-2018-2/
LOCATION:Defesa: Alexsander Matheus Araújo Costa\, RJ
END:VEVENT
BEGIN:VEVENT
DTSTART;TZID=America/Sao_Paulo:20180525T140000
DTEND;TZID=America/Sao_Paulo:20180525T170000
DTSTAMP:20260422T145949
CREATED:20180312T194414Z
LAST-MODIFIED:20180312T194414Z
UID:16373-1527256800-1527267600@iesp.uerj.br
SUMMARY:Seminário: Paulo Neves
DESCRIPTION:[:pb] \nPaulo Neves (Universidade Federal de Sergipe)  apresenta o seminário: “Desigualdades e Narrativas Nacionais: Debates sobre Justiça e Direitos no Brasil e na África so Sul” \n[:]
URL:https://iesp.uerj.br/evento/seminario-paulo-neves/
LOCATION:Defesa: Alexsander Matheus Araújo Costa\, RJ
END:VEVENT
BEGIN:VEVENT
DTSTART;TZID=America/Sao_Paulo:20180525T140000
DTEND;TZID=America/Sao_Paulo:20180525T170000
DTSTAMP:20260422T145949
CREATED:20180312T194414Z
LAST-MODIFIED:20180312T194414Z
UID:16659-1527256800-1527267600@iesp.uerj.br
SUMMARY:Seminário: Paulo Neves
DESCRIPTION:[:pb] \nPaulo Neves (Universidade Federal de Sergipe)  apresenta o seminário: “Desigualdades e Narrativas Nacionais: Debates sobre Justiça e Direitos no Brasil e na África so Sul” \n[:]
URL:https://iesp.uerj.br/evento/seminario-paulo-neves-2/
LOCATION:Defesa: Alexsander Matheus Araújo Costa\, RJ
END:VEVENT
END:VCALENDAR