BEGIN:VCALENDAR
VERSION:2.0
PRODID:-//IESP - ECPv6.0.7.1//NONSGML v1.0//EN
CALSCALE:GREGORIAN
METHOD:PUBLISH
X-ORIGINAL-URL:https://iesp.uerj.br
X-WR-CALDESC:Eventos para IESP
REFRESH-INTERVAL;VALUE=DURATION:PT1H
X-Robots-Tag:noindex
X-PUBLISHED-TTL:PT1H
BEGIN:VTIMEZONE
TZID:America/Sao_Paulo
BEGIN:STANDARD
TZOFFSETFROM:-0200
TZOFFSETTO:-0300
TZNAME:-03
DTSTART:20180218T020000
END:STANDARD
BEGIN:DAYLIGHT
TZOFFSETFROM:-0300
TZOFFSETTO:-0200
TZNAME:-02
DTSTART:20181104T030000
END:DAYLIGHT
END:VTIMEZONE
BEGIN:VEVENT
DTSTART;TZID=America/Sao_Paulo:20180312T140000
DTEND;TZID=America/Sao_Paulo:20180312T170000
DTSTAMP:20260422T231244
CREATED:20180307T203332Z
LAST-MODIFIED:20180307T203332Z
UID:16363-1520863200-1520874000@iesp.uerj.br
SUMMARY:Seminário: Sharrelle Barber
DESCRIPTION:[:pb][:]
URL:https://iesp.uerj.br/evento/seminario-sharrelle-barber/
LOCATION:Defesa: Alexsander Matheus Araújo Costa\, RJ
END:VEVENT
BEGIN:VEVENT
DTSTART;TZID=America/Sao_Paulo:20180312T140000
DTEND;TZID=America/Sao_Paulo:20180312T170000
DTSTAMP:20260422T231244
CREATED:20180307T203332Z
LAST-MODIFIED:20180307T203332Z
UID:16649-1520863200-1520874000@iesp.uerj.br
SUMMARY:Seminário: Sharrelle Barber
DESCRIPTION:[:pb][:]
URL:https://iesp.uerj.br/evento/seminario-sharrelle-barber-2/
LOCATION:Defesa: Alexsander Matheus Araújo Costa\, RJ
END:VEVENT
BEGIN:VEVENT
DTSTART;TZID=America/Sao_Paulo:20180316T140000
DTEND;TZID=America/Sao_Paulo:20180316T170000
DTSTAMP:20260422T231244
CREATED:20180305T150656Z
LAST-MODIFIED:20180305T150656Z
UID:16360-1521208800-1521219600@iesp.uerj.br
SUMMARY:Defesa de Tese: Eric Monné Fraga de Oliveira
DESCRIPTION:[:pb] \nO Programa de Pós–Graduação em Sociologia convida para::\nDefesa de Tese\n“A Paixão como Confronto:: disputas discursivas sobre o ato de torcer”\nEric Monné Fraga de Oliveira \n  \nBanca Examinadora::\nProf. Dr. Luiz Antônio Machado da Silva (Orientador)\nProf. Dr. Adalberto Moreira Cardoso (IESP)\nProf.ª Dr.ª Mariana Cavalcanti Rocha dos Santos (IESP)\nProf.ª Dr.ª Letícia Helena Medeiros Veloso (UFF)\nProf. Dr.. Jair de Souza Ramos (UFF) \nDia 16 de Março de 2018\, sexta-feira\, às 14:00 horas \nLocal:Rua da Matriz\,\, 82 – Botafogo[:]
URL:https://iesp.uerj.br/evento/defesa-de-tese-eric-monne-fraga-de-oliveira/
LOCATION:Defesa: Alexsander Matheus Araújo Costa\, RJ
END:VEVENT
BEGIN:VEVENT
DTSTART;TZID=America/Sao_Paulo:20180316T140000
DTEND;TZID=America/Sao_Paulo:20180316T170000
DTSTAMP:20260422T231244
CREATED:20180305T150656Z
LAST-MODIFIED:20180305T150656Z
UID:16646-1521208800-1521219600@iesp.uerj.br
SUMMARY:Defesa de Tese: Eric Monné Fraga de Oliveira
DESCRIPTION:[:pb] \nO Programa de Pós–Graduação em Sociologia convida para::\nDefesa de Tese\n“A Paixão como Confronto:: disputas discursivas sobre o ato de torcer”\nEric Monné Fraga de Oliveira \n  \nBanca Examinadora::\nProf. Dr. Luiz Antônio Machado da Silva (Orientador)\nProf. Dr. Adalberto Moreira Cardoso (IESP)\nProf.ª Dr.ª Mariana Cavalcanti Rocha dos Santos (IESP)\nProf.ª Dr.ª Letícia Helena Medeiros Veloso (UFF)\nProf. Dr.. Jair de Souza Ramos (UFF) \nDia 16 de Março de 2018\, sexta-feira\, às 14:00 horas \nLocal:Rua da Matriz\,\, 82 – Botafogo[:]
URL:https://iesp.uerj.br/evento/defesa-de-tese-eric-monne-fraga-de-oliveira-2/
LOCATION:Defesa: Alexsander Matheus Araújo Costa\, RJ
END:VEVENT
BEGIN:VEVENT
DTSTART;TZID=America/Sao_Paulo:20180316T140000
DTEND;TZID=America/Sao_Paulo:20180316T170000
DTSTAMP:20260422T231244
CREATED:20180305T163637Z
LAST-MODIFIED:20180305T163637Z
UID:16361-1521208800-1521219600@iesp.uerj.br
SUMMARY:Defesa de Tese: Humberto Machado Lima Junior
DESCRIPTION:[:pb] \nO Programa de Pós–Graduação em Sociologia convida para::\nDefesa de Tese\n“O ‘Direito à Cidade’ entre a Ideologia e a\nUtopia: o caso do Movimento Passe Livre”\nde\nHumberto Machado Lima Junior \n  \nBanca Examinadora:\nProf. Dr. José Eduardo Leon Szwako (Orientador)\nProf. Dr. Luiz Augusto de Souza Carneiro de Campos (IESP)\nProf.ª Dr.ª San Romanelli Assumpção (IESP)\nProf.ª Dr.ª Felícia Silva Picanço ((UFRJ)\nProf.ª Dr.ª Ana Paula Soares Carvalho (PUC–Rio) \nDia 16 de Março de 2018\, sexta–feira\, às 14:00 horas \nRua da Matriz\, 82 – Botafogo[:]
URL:https://iesp.uerj.br/evento/defesa-de-tese-o-direito-a-cidade-entre-a-ideologia-e-a-utopia-o-caso-do-movimento-passe-livre/
LOCATION:Defesa: Alexsander Matheus Araújo Costa\, RJ
END:VEVENT
BEGIN:VEVENT
DTSTART;TZID=America/Sao_Paulo:20180316T140000
DTEND;TZID=America/Sao_Paulo:20180316T170000
DTSTAMP:20260422T231244
CREATED:20180305T163637Z
LAST-MODIFIED:20180305T163637Z
UID:16647-1521208800-1521219600@iesp.uerj.br
SUMMARY:Defesa de Tese: Humberto Machado Lima Junior
DESCRIPTION:[:pb] \nO Programa de Pós–Graduação em Sociologia convida para::\nDefesa de Tese\n“O ‘Direito à Cidade’ entre a Ideologia e a\nUtopia: o caso do Movimento Passe Livre”\nde\nHumberto Machado Lima Junior \n  \nBanca Examinadora:\nProf. Dr. José Eduardo Leon Szwako (Orientador)\nProf. Dr. Luiz Augusto de Souza Carneiro de Campos (IESP)\nProf.ª Dr.ª San Romanelli Assumpção (IESP)\nProf.ª Dr.ª Felícia Silva Picanço ((UFRJ)\nProf.ª Dr.ª Ana Paula Soares Carvalho (PUC–Rio) \nDia 16 de Março de 2018\, sexta–feira\, às 14:00 horas \nRua da Matriz\, 82 – Botafogo[:]
URL:https://iesp.uerj.br/evento/defesa-de-tese-o-direito-a-cidade-entre-a-ideologia-e-a-utopia-o-caso-do-movimento-passe-livre-2/
LOCATION:Defesa: Alexsander Matheus Araújo Costa\, RJ
END:VEVENT
BEGIN:VEVENT
DTSTART;TZID=America/Sao_Paulo:20180322T150000
DTEND;TZID=America/Sao_Paulo:20180322T180000
DTSTAMP:20260422T231244
CREATED:20180312T203104Z
LAST-MODIFIED:20180312T203104Z
UID:16384-1521730800-1521741600@iesp.uerj.br
SUMMARY:Homenagem: Luiz Antonio Machado da Silva
DESCRIPTION:[:pb]Homenagem a Luiz Antonio Machado da Silva \n \n  \n  \n  \nDias 22 e 23 de março \n15h às 18h \nIesp/Uerj \n  \nDia 1 – 22/03 (às 15h) \nAbertura \nMariana Cavalcanti (UERJ)\, José Szwako (UERJ) \nMesa 1 Economia  \nCoordenação: Eugênia Motta (UERJ) \nParticipantes: Marcella Araujo (UFRJ)\, Daniel Hirata (UFF) e Moacir Palmeira (UFRJ) \n  \nMesa 2 Moradia  \nCoordenação: Mariana Cavalcanti (UERJ) \nParticipantes: Dulce Pandolfi (Ibase)\, Marco Antonio Mello (UFF) e Luiz Cesar Ribeiro (UFRJ) \n  \nDia 2 – 23/03 (às 15h) \nMesa 3 Política \nCoordenação: Márcia Leite (UERJ) \nParticipantes: Lia Rocha (UERJ)\, Jussara Freire (UFF) e Itamar Silva (Ibase) \n  \nMesa 4 Violência \nCoordenação: Michel Misse (UFRJ) \nParticipantes: Palloma Menezes (UFF)\, Gabriel Feltran (UFSCar) e Alba Zaluar (UERJ)[:]
URL:https://iesp.uerj.br/evento/homenagem-professor-machado/
LOCATION:Defesa: Alexsander Matheus Araújo Costa\, RJ
END:VEVENT
BEGIN:VEVENT
DTSTART;TZID=America/Sao_Paulo:20180322T150000
DTEND;TZID=America/Sao_Paulo:20180322T180000
DTSTAMP:20260422T231244
CREATED:20180312T203104Z
LAST-MODIFIED:20180312T203104Z
UID:16670-1521730800-1521741600@iesp.uerj.br
SUMMARY:Homenagem: Luiz Antonio Machado da Silva
DESCRIPTION:[:pb]Homenagem a Luiz Antonio Machado da Silva \n \n  \n  \n  \nDias 22 e 23 de março \n15h às 18h \nIesp/Uerj \n  \nDia 1 – 22/03 (às 15h) \nAbertura \nMariana Cavalcanti (UERJ)\, José Szwako (UERJ) \nMesa 1 Economia  \nCoordenação: Eugênia Motta (UERJ) \nParticipantes: Marcella Araujo (UFRJ)\, Daniel Hirata (UFF) e Moacir Palmeira (UFRJ) \n  \nMesa 2 Moradia  \nCoordenação: Mariana Cavalcanti (UERJ) \nParticipantes: Dulce Pandolfi (Ibase)\, Marco Antonio Mello (UFF) e Luiz Cesar Ribeiro (UFRJ) \n  \nDia 2 – 23/03 (às 15h) \nMesa 3 Política \nCoordenação: Márcia Leite (UERJ) \nParticipantes: Lia Rocha (UERJ)\, Jussara Freire (UFF) e Itamar Silva (Ibase) \n  \nMesa 4 Violência \nCoordenação: Michel Misse (UFRJ) \nParticipantes: Palloma Menezes (UFF)\, Gabriel Feltran (UFSCar) e Alba Zaluar (UERJ)[:]
URL:https://iesp.uerj.br/evento/homenagem-professor-machado-2/
LOCATION:Defesa: Alexsander Matheus Araújo Costa\, RJ
END:VEVENT
BEGIN:VEVENT
DTSTART;TZID=America/Sao_Paulo:20180326T140000
DTEND;TZID=America/Sao_Paulo:20180326T170000
DTSTAMP:20260422T231244
CREATED:20180308T174608Z
LAST-MODIFIED:20180308T174608Z
UID:16364-1522072800-1522083600@iesp.uerj.br
SUMMARY:Defesa de Tese: Vanessa Rodrigues de Macedo
DESCRIPTION:[:pb] \nO Programa de Pós-Graduação em Ciência Política convida para: \n\nDefesa de Tese \n\nTransparência: uma agenda da sociedade ou de\n governo? A difusão do acesso à informação no\n Brasil e no México \n\nde\nVanessa Rodrigues de Macedo \n  \n\nBanca Examinadora:\nProf.ª Dr.ª Maria Regina Soares de Lima (Orientadora)\nProf.ª Dr.ª Leticia de Abreu Pinheiro (IESP)\nProf. Dr. Maurício Santoro Rocha (UERJ)\nProf.ª Dr.ª Ana Amelia Campos Toni (ICS)\nProf. Dr. Osmany Porto de Oliveira (UNIFESP) \n\nDia 26 de Março de 2018\, segunda-feira\, às 14:00 horas\nRua da Matriz\, 82 – Botafogo \n[:en]O Programa de Pós–Graduação em Ciiênciia Pollííttiica conviida\npara::\nDeffesa de Tese\nTransparênciia:: uma agenda da sociiedade ou de\ngoverno? A diiffusão do acesso à iinfformação no\nBrasiill e no Méxiico\nde\nVanessa Rodrigues de Macedo\nBanca Examiinadora::\nProff..ª Dr..ª Mariia Regiina Soares de Liima ((Oriienttadora))\nProff..ª Dr..ª Lettiiciia de Abreu Piinheiiro ((IESP))\nProff.. Dr.. Maurííciio Santtoro Rocha ((UERJ))\nProff..ª Dr..ª Ana Amelliia Campos Tonii ((ICS))\nProff.. Dr.. Osmany Portto de Olliiveiira ((UNIFESP))\nDiia 26 de Março de 2018\,\, segunda–ffeiira\,\, às 14::00 horas\nRua da Mattriiz\,\, 82 – Bottaffogo[:]
URL:https://iesp.uerj.br/evento/defesa-de-tese-vanessa-rodrigues-de-macedo/
LOCATION:Defesa: Alexsander Matheus Araújo Costa\, RJ
END:VEVENT
BEGIN:VEVENT
DTSTART;TZID=America/Sao_Paulo:20180326T140000
DTEND;TZID=America/Sao_Paulo:20180326T170000
DTSTAMP:20260422T231244
CREATED:20180308T174608Z
LAST-MODIFIED:20180308T174608Z
UID:16650-1522072800-1522083600@iesp.uerj.br
SUMMARY:Defesa de Tese: Vanessa Rodrigues de Macedo
DESCRIPTION:[:pb] \nO Programa de Pós-Graduação em Ciência Política convida para: \n\nDefesa de Tese \n\nTransparência: uma agenda da sociedade ou de\n governo? A difusão do acesso à informação no\n Brasil e no México \n\nde\nVanessa Rodrigues de Macedo \n  \n\nBanca Examinadora:\nProf.ª Dr.ª Maria Regina Soares de Lima (Orientadora)\nProf.ª Dr.ª Leticia de Abreu Pinheiro (IESP)\nProf. Dr. Maurício Santoro Rocha (UERJ)\nProf.ª Dr.ª Ana Amelia Campos Toni (ICS)\nProf. Dr. Osmany Porto de Oliveira (UNIFESP) \n\nDia 26 de Março de 2018\, segunda-feira\, às 14:00 horas\nRua da Matriz\, 82 – Botafogo \n[:en]O Programa de Pós–Graduação em Ciiênciia Pollííttiica conviida\npara::\nDeffesa de Tese\nTransparênciia:: uma agenda da sociiedade ou de\ngoverno? A diiffusão do acesso à iinfformação no\nBrasiill e no Méxiico\nde\nVanessa Rodrigues de Macedo\nBanca Examiinadora::\nProff..ª Dr..ª Mariia Regiina Soares de Liima ((Oriienttadora))\nProff..ª Dr..ª Lettiiciia de Abreu Piinheiiro ((IESP))\nProff.. Dr.. Maurííciio Santtoro Rocha ((UERJ))\nProff..ª Dr..ª Ana Amelliia Campos Tonii ((ICS))\nProff.. Dr.. Osmany Portto de Olliiveiira ((UNIFESP))\nDiia 26 de Março de 2018\,\, segunda–ffeiira\,\, às 14::00 horas\nRua da Mattriiz\,\, 82 – Bottaffogo[:]
URL:https://iesp.uerj.br/evento/defesa-de-tese-vanessa-rodrigues-de-macedo-2/
LOCATION:Defesa: Alexsander Matheus Araújo Costa\, RJ
END:VEVENT
BEGIN:VEVENT
DTSTART;TZID=America/Sao_Paulo:20180326T160000
DTEND;TZID=America/Sao_Paulo:20180326T170000
DTSTAMP:20260422T231244
CREATED:20180312T192711Z
LAST-MODIFIED:20180312T192711Z
UID:16368-1522080000-1522083600@iesp.uerj.br
SUMMARY:Seminário: Christian Azaïs e Sayonara Grilo
DESCRIPTION:[:pb] \nChristian Azaïs (CNAM /LISE UMR 332) e Sayonara Grilo (PPGD/UFRJ) apresentam o seminário: “A ‘Zona Cinzenta’ do trabalho: dinâmicas de emprego e negociação no Sul e no Norte” \n  \n  \n \n\n[:]
URL:https://iesp.uerj.br/evento/seminario-chritian-azais-e-sayonara-grilo/
LOCATION:RJ
END:VEVENT
BEGIN:VEVENT
DTSTART;TZID=America/Sao_Paulo:20180326T160000
DTEND;TZID=America/Sao_Paulo:20180326T170000
DTSTAMP:20260422T231244
CREATED:20180312T192711Z
LAST-MODIFIED:20180312T192711Z
UID:16654-1522080000-1522083600@iesp.uerj.br
SUMMARY:Seminário: Christian Azaïs e Sayonara Grilo
DESCRIPTION:[:pb] \nChristian Azaïs (CNAM /LISE UMR 332) e Sayonara Grilo (PPGD/UFRJ) apresentam o seminário: “A ‘Zona Cinzenta’ do trabalho: dinâmicas de emprego e negociação no Sul e no Norte” \n  \n  \n \n\n[:]
URL:https://iesp.uerj.br/evento/seminario-chritian-azais-e-sayonara-grilo-2/
LOCATION:RJ
END:VEVENT
END:VCALENDAR