BEGIN:VCALENDAR
VERSION:2.0
PRODID:-//IESP - ECPv6.0.7.1//NONSGML v1.0//EN
CALSCALE:GREGORIAN
METHOD:PUBLISH
X-WR-CALNAME:IESP
X-ORIGINAL-URL:https://iesp.uerj.br
X-WR-CALDESC:Eventos para IESP
REFRESH-INTERVAL;VALUE=DURATION:PT1H
X-Robots-Tag:noindex
X-PUBLISHED-TTL:PT1H
BEGIN:VTIMEZONE
TZID:America/Sao_Paulo
BEGIN:STANDARD
TZOFFSETFROM:-0200
TZOFFSETTO:-0300
TZNAME:-03
DTSTART:20170219T020000
END:STANDARD
BEGIN:DAYLIGHT
TZOFFSETFROM:-0300
TZOFFSETTO:-0200
TZNAME:-02
DTSTART:20171015T030000
END:DAYLIGHT
END:VTIMEZONE
BEGIN:VEVENT
DTSTART;TZID=America/Sao_Paulo:20170809T080000
DTEND;TZID=America/Sao_Paulo:20170811T190000
DTSTAMP:20260424T094710
CREATED:20170801T161510Z
LAST-MODIFIED:20170801T161510Z
UID:16327-1502265600-1502478000@iesp.uerj.br
SUMMARY:II Jornada do Pensamento Político Brasileiro
DESCRIPTION:[:pb] \n2a Jornada do Pensamento Político Brasileiro\, 2017 \nDe 9 a 11 de agosto de 2017 \nIESP-UERJ\, Rio de Janeiro\, RJ \n  \nPara acessar a programação completa\, clique aqui \nEdital de convocação e demais informações acerca de inscrições\, aqui. \n [:]
URL:https://iesp.uerj.br/evento/ii-jornada-do-pensamento-politico-brasileiro/
LOCATION:Defesa: Alexsander Matheus Araújo Costa\, RJ
END:VEVENT
BEGIN:VEVENT
DTSTART;TZID=America/Sao_Paulo:20170809T080000
DTEND;TZID=America/Sao_Paulo:20170811T190000
DTSTAMP:20260424T094710
CREATED:20170801T161510Z
LAST-MODIFIED:20170801T161510Z
UID:16613-1502265600-1502478000@iesp.uerj.br
SUMMARY:II Jornada do Pensamento Político Brasileiro
DESCRIPTION:[:pb] \n2a Jornada do Pensamento Político Brasileiro\, 2017 \nDe 9 a 11 de agosto de 2017 \nIESP-UERJ\, Rio de Janeiro\, RJ \n  \nPara acessar a programação completa\, clique aqui \nEdital de convocação e demais informações acerca de inscrições\, aqui. \n [:]
URL:https://iesp.uerj.br/evento/ii-jornada-do-pensamento-politico-brasileiro-2/
LOCATION:Defesa: Alexsander Matheus Araújo Costa\, RJ
END:VEVENT
BEGIN:VEVENT
DTSTART;TZID=America/Sao_Paulo:20170811T140000
DTEND;TZID=America/Sao_Paulo:20170811T170000
DTSTAMP:20260424T094710
CREATED:20170525T211752Z
LAST-MODIFIED:20170525T211752Z
UID:16322-1502460000-1502470800@iesp.uerj.br
SUMMARY:Defesa de Tese: Uvanderson Vitor da Silva
DESCRIPTION:[:pb] \nO Programa de Pós-Graduação em Sociologia convida para: \nDefesa de Tese \nCidadania em negro e branco: racialização e (luta contra a) violência de Estado no Brasil \nde \nUvanderson Vitor da Silva \nBanca Examinadora: \nBreno Bringel (Orientador) \nAdalberto Cardoso (IESP-UERJ) \nLuiz Augusto Campos (IESP-UERJ) \nLeilah Landim (UFRJ) \nMarcia Lima (USP) \nDia 11 de Agosto de 2017\, sexta-feira\, às 14 horas \nRua da Matriz\, 82 – Botafogo \n[:en] \nO Programa de Pós-Graduação em Sociologia convida para: \nDefesa de Tese \nCidadania em negro e branco: racialização e (luta contra a) violência de Estado no Brasil  \nde \nUvanderson Vitor da Silva \n\nBanca Examinadora: \nBreno Bringel (Orientador) \nAdalberto Cardoso (IESP-UERJ) \nLuiz Augusto Campos (IESP-UERJ) \nLeilah Landim (UFRJ) \nMarcia Lima (USP) \n\nDia 07 de Julho de 2017\, sexta-feira\, às 14 horas \nRua da Matriz\, 82 – Botafogo \n [:]
URL:https://iesp.uerj.br/evento/defesa-de-tese-uvanderson-vitor-da-silva/
LOCATION:Defesa: Alexsander Matheus Araújo Costa\, RJ
END:VEVENT
BEGIN:VEVENT
DTSTART;TZID=America/Sao_Paulo:20170811T140000
DTEND;TZID=America/Sao_Paulo:20170811T170000
DTSTAMP:20260424T094710
CREATED:20170525T211752Z
LAST-MODIFIED:20170525T211752Z
UID:16608-1502460000-1502470800@iesp.uerj.br
SUMMARY:Defesa de Tese: Uvanderson Vitor da Silva
DESCRIPTION:[:pb] \nO Programa de Pós-Graduação em Sociologia convida para: \nDefesa de Tese \nCidadania em negro e branco: racialização e (luta contra a) violência de Estado no Brasil \nde \nUvanderson Vitor da Silva \nBanca Examinadora: \nBreno Bringel (Orientador) \nAdalberto Cardoso (IESP-UERJ) \nLuiz Augusto Campos (IESP-UERJ) \nLeilah Landim (UFRJ) \nMarcia Lima (USP) \nDia 11 de Agosto de 2017\, sexta-feira\, às 14 horas \nRua da Matriz\, 82 – Botafogo \n[:en] \nO Programa de Pós-Graduação em Sociologia convida para: \nDefesa de Tese \nCidadania em negro e branco: racialização e (luta contra a) violência de Estado no Brasil  \nde \nUvanderson Vitor da Silva \n\nBanca Examinadora: \nBreno Bringel (Orientador) \nAdalberto Cardoso (IESP-UERJ) \nLuiz Augusto Campos (IESP-UERJ) \nLeilah Landim (UFRJ) \nMarcia Lima (USP) \n\nDia 07 de Julho de 2017\, sexta-feira\, às 14 horas \nRua da Matriz\, 82 – Botafogo \n [:]
URL:https://iesp.uerj.br/evento/defesa-de-tese-uvanderson-vitor-da-silva-2/
LOCATION:Defesa: Alexsander Matheus Araújo Costa\, RJ
END:VEVENT
BEGIN:VEVENT
DTSTART;TZID=America/Sao_Paulo:20170814T140000
DTEND;TZID=America/Sao_Paulo:20170814T170000
DTSTAMP:20260424T094710
CREATED:20170810T190931Z
LAST-MODIFIED:20170810T190931Z
UID:16331-1502719200-1502730000@iesp.uerj.br
SUMMARY:Palestra: Horacio González
DESCRIPTION:[:pb][:]
URL:https://iesp.uerj.br/evento/palestra-horacio-gonzalez/
LOCATION:Defesa: Alexsander Matheus Araújo Costa\, RJ
END:VEVENT
BEGIN:VEVENT
DTSTART;TZID=America/Sao_Paulo:20170814T140000
DTEND;TZID=America/Sao_Paulo:20170814T170000
DTSTAMP:20260424T094710
CREATED:20170810T190931Z
LAST-MODIFIED:20170810T190931Z
UID:16617-1502719200-1502730000@iesp.uerj.br
SUMMARY:Palestra: Horacio González
DESCRIPTION:[:pb][:]
URL:https://iesp.uerj.br/evento/palestra-horacio-gonzalez-2/
LOCATION:Defesa: Alexsander Matheus Araújo Costa\, RJ
END:VEVENT
BEGIN:VEVENT
DTSTART;TZID=America/Sao_Paulo:20170821T140000
DTEND;TZID=America/Sao_Paulo:20170821T170000
DTSTAMP:20260424T094710
CREATED:20170809T210323Z
LAST-MODIFIED:20170809T210323Z
UID:16328-1503324000-1503334800@iesp.uerj.br
SUMMARY:Palestra: Bila Sorj
DESCRIPTION:[:pb][:]
URL:https://iesp.uerj.br/evento/palestra-bila-sorj/
LOCATION:Defesa: Alexsander Matheus Araújo Costa\, RJ
END:VEVENT
BEGIN:VEVENT
DTSTART;TZID=America/Sao_Paulo:20170821T140000
DTEND;TZID=America/Sao_Paulo:20170821T170000
DTSTAMP:20260424T094710
CREATED:20170809T210323Z
LAST-MODIFIED:20170809T210323Z
UID:16614-1503324000-1503334800@iesp.uerj.br
SUMMARY:Palestra: Bila Sorj
DESCRIPTION:[:pb][:]
URL:https://iesp.uerj.br/evento/palestra-bila-sorj-2/
LOCATION:Defesa: Alexsander Matheus Araújo Costa\, RJ
END:VEVENT
BEGIN:VEVENT
DTSTART;TZID=America/Sao_Paulo:20170825T140000
DTEND;TZID=America/Sao_Paulo:20170825T170000
DTSTAMP:20260424T094710
CREATED:20170809T210658Z
LAST-MODIFIED:20170809T210658Z
UID:16329-1503669600-1503680400@iesp.uerj.br
SUMMARY:Palestra: Rubens Duarte
DESCRIPTION:[:pb][:]
URL:https://iesp.uerj.br/evento/palestra-rubens-duarte/
LOCATION:Defesa: Alexsander Matheus Araújo Costa\, RJ
END:VEVENT
BEGIN:VEVENT
DTSTART;TZID=America/Sao_Paulo:20170825T140000
DTEND;TZID=America/Sao_Paulo:20170825T170000
DTSTAMP:20260424T094710
CREATED:20170809T210658Z
LAST-MODIFIED:20170809T210658Z
UID:16615-1503669600-1503680400@iesp.uerj.br
SUMMARY:Palestra: Rubens Duarte
DESCRIPTION:[:pb][:]
URL:https://iesp.uerj.br/evento/palestra-rubens-duarte-2/
LOCATION:Defesa: Alexsander Matheus Araújo Costa\, RJ
END:VEVENT
BEGIN:VEVENT
DTSTART;TZID=America/Sao_Paulo:20170828T140000
DTEND;TZID=America/Sao_Paulo:20170828T170000
DTSTAMP:20260424T094710
CREATED:20170809T211936Z
LAST-MODIFIED:20170809T211936Z
UID:16330-1503928800-1503939600@iesp.uerj.br
SUMMARY:Palestra: Dany-Robert Dufour
DESCRIPTION:[:pb][:]
URL:https://iesp.uerj.br/evento/palestra-dany-robert-dufour/
LOCATION:Defesa: Alexsander Matheus Araújo Costa\, RJ
END:VEVENT
BEGIN:VEVENT
DTSTART;TZID=America/Sao_Paulo:20170828T140000
DTEND;TZID=America/Sao_Paulo:20170828T170000
DTSTAMP:20260424T094710
CREATED:20170809T211936Z
LAST-MODIFIED:20170809T211936Z
UID:16616-1503928800-1503939600@iesp.uerj.br
SUMMARY:Palestra: Dany-Robert Dufour
DESCRIPTION:[:pb][:]
URL:https://iesp.uerj.br/evento/palestra-dany-robert-dufour-2/
LOCATION:Defesa: Alexsander Matheus Araújo Costa\, RJ
END:VEVENT
END:VCALENDAR