BEGIN:VCALENDAR
VERSION:2.0
PRODID:-//IESP - ECPv6.0.7.1//NONSGML v1.0//EN
CALSCALE:GREGORIAN
METHOD:PUBLISH
X-WR-CALNAME:IESP
X-ORIGINAL-URL:https://iesp.uerj.br
X-WR-CALDESC:Eventos para IESP
REFRESH-INTERVAL;VALUE=DURATION:PT1H
X-Robots-Tag:noindex
X-PUBLISHED-TTL:PT1H
BEGIN:VTIMEZONE
TZID:America/Sao_Paulo
BEGIN:STANDARD
TZOFFSETFROM:-0200
TZOFFSETTO:-0300
TZNAME:-03
DTSTART:20170219T020000
END:STANDARD
BEGIN:DAYLIGHT
TZOFFSETFROM:-0300
TZOFFSETTO:-0200
TZNAME:-02
DTSTART:20171015T030000
END:DAYLIGHT
END:VTIMEZONE
BEGIN:VEVENT
DTSTART;TZID=America/Sao_Paulo:20170703T090000
DTEND;TZID=America/Sao_Paulo:20170703T170000
DTSTAMP:20260424T223400
CREATED:20170606T182826Z
LAST-MODIFIED:20170606T182826Z
UID:16323-1499072400-1499101200@iesp.uerj.br
SUMMARY:Defesa de Tese: Antonio Armando Ulian do Lago Albuquerque
DESCRIPTION:[:pb] \nO Programa de Pós-Graduação em Ciência Política convida para: \n\nDefesa de Tese \n\nComparação entre a participação indígenaboliviana e brasileira: a inserção da atuação\nindígena brasileira no debate democrático e descolonial latino-americano\nde\nAntonio Armando Ulian do Lago Albuquerque \n\nBanca Examinadora:\nProf.ª Dr.ª Thamy Pogrebinschi (Orientadora)\nProf. Dr. Fabrício Pereira da Silva (Co-Orientador)\nProf. Dr. Fabiano Guilherme Mendes Santos (IESP)\nProf. Dr. Breno Marques Bringel (IESP)\nProf. Dr. Alvaro Reinaldo de Souza (UNIRIO) \n\nDia 03 de Julho de 2017\, segunda-feira\, às 9 horas\nRua da Matriz\, 82 – Botafogo \n[:]
URL:https://iesp.uerj.br/evento/defesa-de-tese-antonio-armando-ulian-do-lago-albuquerque/
LOCATION:Defesa: Alexsander Matheus Araújo Costa\, RJ
END:VEVENT
BEGIN:VEVENT
DTSTART;TZID=America/Sao_Paulo:20170703T090000
DTEND;TZID=America/Sao_Paulo:20170703T170000
DTSTAMP:20260424T223400
CREATED:20170606T182826Z
LAST-MODIFIED:20170606T182826Z
UID:16609-1499072400-1499101200@iesp.uerj.br
SUMMARY:Defesa de Tese: Antonio Armando Ulian do Lago Albuquerque
DESCRIPTION:[:pb] \nO Programa de Pós-Graduação em Ciência Política convida para: \n\nDefesa de Tese \n\nComparação entre a participação indígenaboliviana e brasileira: a inserção da atuação\nindígena brasileira no debate democrático e descolonial latino-americano\nde\nAntonio Armando Ulian do Lago Albuquerque \n\nBanca Examinadora:\nProf.ª Dr.ª Thamy Pogrebinschi (Orientadora)\nProf. Dr. Fabrício Pereira da Silva (Co-Orientador)\nProf. Dr. Fabiano Guilherme Mendes Santos (IESP)\nProf. Dr. Breno Marques Bringel (IESP)\nProf. Dr. Alvaro Reinaldo de Souza (UNIRIO) \n\nDia 03 de Julho de 2017\, segunda-feira\, às 9 horas\nRua da Matriz\, 82 – Botafogo \n[:]
URL:https://iesp.uerj.br/evento/defesa-de-tese-antonio-armando-ulian-do-lago-albuquerque-2/
LOCATION:Defesa: Alexsander Matheus Araújo Costa\, RJ
END:VEVENT
BEGIN:VEVENT
DTSTART;TZID=America/Sao_Paulo:20170731T090000
DTEND;TZID=America/Sao_Paulo:20170731T170000
DTSTAMP:20260424T223400
CREATED:20170712T145253Z
LAST-MODIFIED:20170712T145253Z
UID:16326-1501491600-1501520400@iesp.uerj.br
SUMMARY:Defesa de Tese: Pedro Vieira Abramovay
DESCRIPTION:[:pb] \nO Programa de Pós-Graduação em Ciência Política convida\npara: \n\nDefesa de Tese\nSistemas Deliberativos e Processo Decisório\nCongressual: Um estudo sobre a aprovação do\nMarco Civil da Internet\nde\nPedro Vieira Abramovay \n\nBanca Examinadora:\nProf. Dr. Fabiano Guilherme Mendes Santos (Orientador)\nProf. Dr. Fernando Henrique Eduardo Guarnieri (IESP)\nProf. Dr. Ronaldo Lemos (UERJ)\nProf.ª Dr.ª Thamy Pogrebinschi (WZB)\nProf. Dr. Ricardo Fabrino Mendonça (UFMG)\nDia 31 de Julho de 2017\, segunda-feira\, às 9 horas\nRua da Matriz\, 82 – Botafogo \n[:]
URL:https://iesp.uerj.br/evento/defesa-de-tese-pedro-vieira-abramovay/
LOCATION:Defesa: Alexsander Matheus Araújo Costa\, RJ
END:VEVENT
BEGIN:VEVENT
DTSTART;TZID=America/Sao_Paulo:20170731T090000
DTEND;TZID=America/Sao_Paulo:20170731T170000
DTSTAMP:20260424T223400
CREATED:20170712T145253Z
LAST-MODIFIED:20170712T145253Z
UID:16612-1501491600-1501520400@iesp.uerj.br
SUMMARY:Defesa de Tese: Pedro Vieira Abramovay
DESCRIPTION:[:pb] \nO Programa de Pós-Graduação em Ciência Política convida\npara: \n\nDefesa de Tese\nSistemas Deliberativos e Processo Decisório\nCongressual: Um estudo sobre a aprovação do\nMarco Civil da Internet\nde\nPedro Vieira Abramovay \n\nBanca Examinadora:\nProf. Dr. Fabiano Guilherme Mendes Santos (Orientador)\nProf. Dr. Fernando Henrique Eduardo Guarnieri (IESP)\nProf. Dr. Ronaldo Lemos (UERJ)\nProf.ª Dr.ª Thamy Pogrebinschi (WZB)\nProf. Dr. Ricardo Fabrino Mendonça (UFMG)\nDia 31 de Julho de 2017\, segunda-feira\, às 9 horas\nRua da Matriz\, 82 – Botafogo \n[:]
URL:https://iesp.uerj.br/evento/defesa-de-tese-pedro-vieira-abramovay-2/
LOCATION:Defesa: Alexsander Matheus Araújo Costa\, RJ
END:VEVENT
END:VCALENDAR