BEGIN:VCALENDAR
VERSION:2.0
PRODID:-//IESP - ECPv6.0.7.1//NONSGML v1.0//EN
CALSCALE:GREGORIAN
METHOD:PUBLISH
X-ORIGINAL-URL:https://iesp.uerj.br
X-WR-CALDESC:Eventos para IESP
REFRESH-INTERVAL;VALUE=DURATION:PT1H
X-Robots-Tag:noindex
X-PUBLISHED-TTL:PT1H
BEGIN:VTIMEZONE
TZID:America/Sao_Paulo
BEGIN:STANDARD
TZOFFSETFROM:-0200
TZOFFSETTO:-0300
TZNAME:-03
DTSTART:20180218T020000
END:STANDARD
BEGIN:DAYLIGHT
TZOFFSETFROM:-0300
TZOFFSETTO:-0200
TZNAME:-02
DTSTART:20181104T030000
END:DAYLIGHT
END:VTIMEZONE
BEGIN:VEVENT
DTSTART;TZID=America/Sao_Paulo:20180322T150000
DTEND;TZID=America/Sao_Paulo:20180322T180000
DTSTAMP:20260423T023950
CREATED:20180312T203104Z
LAST-MODIFIED:20180312T203104Z
UID:16384-1521730800-1521741600@iesp.uerj.br
SUMMARY:Homenagem: Luiz Antonio Machado da Silva
DESCRIPTION:[:pb]Homenagem a Luiz Antonio Machado da Silva \n \n  \n  \n  \nDias 22 e 23 de março \n15h às 18h \nIesp/Uerj \n  \nDia 1 – 22/03 (às 15h) \nAbertura \nMariana Cavalcanti (UERJ)\, José Szwako (UERJ) \nMesa 1 Economia  \nCoordenação: Eugênia Motta (UERJ) \nParticipantes: Marcella Araujo (UFRJ)\, Daniel Hirata (UFF) e Moacir Palmeira (UFRJ) \n  \nMesa 2 Moradia  \nCoordenação: Mariana Cavalcanti (UERJ) \nParticipantes: Dulce Pandolfi (Ibase)\, Marco Antonio Mello (UFF) e Luiz Cesar Ribeiro (UFRJ) \n  \nDia 2 – 23/03 (às 15h) \nMesa 3 Política \nCoordenação: Márcia Leite (UERJ) \nParticipantes: Lia Rocha (UERJ)\, Jussara Freire (UFF) e Itamar Silva (Ibase) \n  \nMesa 4 Violência \nCoordenação: Michel Misse (UFRJ) \nParticipantes: Palloma Menezes (UFF)\, Gabriel Feltran (UFSCar) e Alba Zaluar (UERJ)[:]
URL:https://iesp.uerj.br/evento/homenagem-professor-machado/
LOCATION:Defesa: Alexsander Matheus Araújo Costa\, RJ
END:VEVENT
BEGIN:VEVENT
DTSTART;TZID=America/Sao_Paulo:20180322T150000
DTEND;TZID=America/Sao_Paulo:20180322T180000
DTSTAMP:20260423T023950
CREATED:20180312T203104Z
LAST-MODIFIED:20180312T203104Z
UID:16670-1521730800-1521741600@iesp.uerj.br
SUMMARY:Homenagem: Luiz Antonio Machado da Silva
DESCRIPTION:[:pb]Homenagem a Luiz Antonio Machado da Silva \n \n  \n  \n  \nDias 22 e 23 de março \n15h às 18h \nIesp/Uerj \n  \nDia 1 – 22/03 (às 15h) \nAbertura \nMariana Cavalcanti (UERJ)\, José Szwako (UERJ) \nMesa 1 Economia  \nCoordenação: Eugênia Motta (UERJ) \nParticipantes: Marcella Araujo (UFRJ)\, Daniel Hirata (UFF) e Moacir Palmeira (UFRJ) \n  \nMesa 2 Moradia  \nCoordenação: Mariana Cavalcanti (UERJ) \nParticipantes: Dulce Pandolfi (Ibase)\, Marco Antonio Mello (UFF) e Luiz Cesar Ribeiro (UFRJ) \n  \nDia 2 – 23/03 (às 15h) \nMesa 3 Política \nCoordenação: Márcia Leite (UERJ) \nParticipantes: Lia Rocha (UERJ)\, Jussara Freire (UFF) e Itamar Silva (Ibase) \n  \nMesa 4 Violência \nCoordenação: Michel Misse (UFRJ) \nParticipantes: Palloma Menezes (UFF)\, Gabriel Feltran (UFSCar) e Alba Zaluar (UERJ)[:]
URL:https://iesp.uerj.br/evento/homenagem-professor-machado-2/
LOCATION:Defesa: Alexsander Matheus Araújo Costa\, RJ
END:VEVENT
BEGIN:VEVENT
DTSTART;TZID=America/Sao_Paulo:20180326T140000
DTEND;TZID=America/Sao_Paulo:20180326T170000
DTSTAMP:20260423T023950
CREATED:20180308T174608Z
LAST-MODIFIED:20180308T174608Z
UID:16364-1522072800-1522083600@iesp.uerj.br
SUMMARY:Defesa de Tese: Vanessa Rodrigues de Macedo
DESCRIPTION:[:pb] \nO Programa de Pós-Graduação em Ciência Política convida para: \n\nDefesa de Tese \n\nTransparência: uma agenda da sociedade ou de\n governo? A difusão do acesso à informação no\n Brasil e no México \n\nde\nVanessa Rodrigues de Macedo \n  \n\nBanca Examinadora:\nProf.ª Dr.ª Maria Regina Soares de Lima (Orientadora)\nProf.ª Dr.ª Leticia de Abreu Pinheiro (IESP)\nProf. Dr. Maurício Santoro Rocha (UERJ)\nProf.ª Dr.ª Ana Amelia Campos Toni (ICS)\nProf. Dr. Osmany Porto de Oliveira (UNIFESP) \n\nDia 26 de Março de 2018\, segunda-feira\, às 14:00 horas\nRua da Matriz\, 82 – Botafogo \n[:en]O Programa de Pós–Graduação em Ciiênciia Pollííttiica conviida\npara::\nDeffesa de Tese\nTransparênciia:: uma agenda da sociiedade ou de\ngoverno? A diiffusão do acesso à iinfformação no\nBrasiill e no Méxiico\nde\nVanessa Rodrigues de Macedo\nBanca Examiinadora::\nProff..ª Dr..ª Mariia Regiina Soares de Liima ((Oriienttadora))\nProff..ª Dr..ª Lettiiciia de Abreu Piinheiiro ((IESP))\nProff.. Dr.. Maurííciio Santtoro Rocha ((UERJ))\nProff..ª Dr..ª Ana Amelliia Campos Tonii ((ICS))\nProff.. Dr.. Osmany Portto de Olliiveiira ((UNIFESP))\nDiia 26 de Março de 2018\,\, segunda–ffeiira\,\, às 14::00 horas\nRua da Mattriiz\,\, 82 – Bottaffogo[:]
URL:https://iesp.uerj.br/evento/defesa-de-tese-vanessa-rodrigues-de-macedo/
LOCATION:Defesa: Alexsander Matheus Araújo Costa\, RJ
END:VEVENT
BEGIN:VEVENT
DTSTART;TZID=America/Sao_Paulo:20180326T140000
DTEND;TZID=America/Sao_Paulo:20180326T170000
DTSTAMP:20260423T023950
CREATED:20180308T174608Z
LAST-MODIFIED:20180308T174608Z
UID:16650-1522072800-1522083600@iesp.uerj.br
SUMMARY:Defesa de Tese: Vanessa Rodrigues de Macedo
DESCRIPTION:[:pb] \nO Programa de Pós-Graduação em Ciência Política convida para: \n\nDefesa de Tese \n\nTransparência: uma agenda da sociedade ou de\n governo? A difusão do acesso à informação no\n Brasil e no México \n\nde\nVanessa Rodrigues de Macedo \n  \n\nBanca Examinadora:\nProf.ª Dr.ª Maria Regina Soares de Lima (Orientadora)\nProf.ª Dr.ª Leticia de Abreu Pinheiro (IESP)\nProf. Dr. Maurício Santoro Rocha (UERJ)\nProf.ª Dr.ª Ana Amelia Campos Toni (ICS)\nProf. Dr. Osmany Porto de Oliveira (UNIFESP) \n\nDia 26 de Março de 2018\, segunda-feira\, às 14:00 horas\nRua da Matriz\, 82 – Botafogo \n[:en]O Programa de Pós–Graduação em Ciiênciia Pollííttiica conviida\npara::\nDeffesa de Tese\nTransparênciia:: uma agenda da sociiedade ou de\ngoverno? A diiffusão do acesso à iinfformação no\nBrasiill e no Méxiico\nde\nVanessa Rodrigues de Macedo\nBanca Examiinadora::\nProff..ª Dr..ª Mariia Regiina Soares de Liima ((Oriienttadora))\nProff..ª Dr..ª Lettiiciia de Abreu Piinheiiro ((IESP))\nProff.. Dr.. Maurííciio Santtoro Rocha ((UERJ))\nProff..ª Dr..ª Ana Amelliia Campos Tonii ((ICS))\nProff.. Dr.. Osmany Portto de Olliiveiira ((UNIFESP))\nDiia 26 de Março de 2018\,\, segunda–ffeiira\,\, às 14::00 horas\nRua da Mattriiz\,\, 82 – Bottaffogo[:]
URL:https://iesp.uerj.br/evento/defesa-de-tese-vanessa-rodrigues-de-macedo-2/
LOCATION:Defesa: Alexsander Matheus Araújo Costa\, RJ
END:VEVENT
BEGIN:VEVENT
DTSTART;TZID=America/Sao_Paulo:20180326T160000
DTEND;TZID=America/Sao_Paulo:20180326T170000
DTSTAMP:20260423T023950
CREATED:20180312T192711Z
LAST-MODIFIED:20180312T192711Z
UID:16368-1522080000-1522083600@iesp.uerj.br
SUMMARY:Seminário: Christian Azaïs e Sayonara Grilo
DESCRIPTION:[:pb] \nChristian Azaïs (CNAM /LISE UMR 332) e Sayonara Grilo (PPGD/UFRJ) apresentam o seminário: “A ‘Zona Cinzenta’ do trabalho: dinâmicas de emprego e negociação no Sul e no Norte” \n  \n  \n \n\n[:]
URL:https://iesp.uerj.br/evento/seminario-chritian-azais-e-sayonara-grilo/
LOCATION:RJ
END:VEVENT
BEGIN:VEVENT
DTSTART;TZID=America/Sao_Paulo:20180326T160000
DTEND;TZID=America/Sao_Paulo:20180326T170000
DTSTAMP:20260423T023950
CREATED:20180312T192711Z
LAST-MODIFIED:20180312T192711Z
UID:16654-1522080000-1522083600@iesp.uerj.br
SUMMARY:Seminário: Christian Azaïs e Sayonara Grilo
DESCRIPTION:[:pb] \nChristian Azaïs (CNAM /LISE UMR 332) e Sayonara Grilo (PPGD/UFRJ) apresentam o seminário: “A ‘Zona Cinzenta’ do trabalho: dinâmicas de emprego e negociação no Sul e no Norte” \n  \n  \n \n\n[:]
URL:https://iesp.uerj.br/evento/seminario-chritian-azais-e-sayonara-grilo-2/
LOCATION:RJ
END:VEVENT
BEGIN:VEVENT
DTSTART;TZID=America/Sao_Paulo:20180404T190000
DTEND;TZID=America/Sao_Paulo:20180404T210000
DTSTAMP:20260423T023950
CREATED:20180312T195744Z
LAST-MODIFIED:20180312T195744Z
UID:16377-1522868400-1522875600@iesp.uerj.br
SUMMARY:Aula Inaugural: Rachel Meneguello
DESCRIPTION:[:pb] \n\nRachel Meneguello (UNICAMP) apresenta a aula inaugural: “A crise de representação na democracia contemporânea”\n\n[:]
URL:https://iesp.uerj.br/evento/aula-inaugural-rachel-meneguello/
LOCATION:Defesa: Alexsander Matheus Araújo Costa\, RJ
END:VEVENT
BEGIN:VEVENT
DTSTART;TZID=America/Sao_Paulo:20180404T190000
DTEND;TZID=America/Sao_Paulo:20180404T210000
DTSTAMP:20260423T023950
CREATED:20180312T195744Z
LAST-MODIFIED:20180312T195744Z
UID:16663-1522868400-1522875600@iesp.uerj.br
SUMMARY:Aula Inaugural: Rachel Meneguello
DESCRIPTION:[:pb] \n\nRachel Meneguello (UNICAMP) apresenta a aula inaugural: “A crise de representação na democracia contemporânea”\n\n[:]
URL:https://iesp.uerj.br/evento/aula-inaugural-rachel-meneguello-2/
LOCATION:Defesa: Alexsander Matheus Araújo Costa\, RJ
END:VEVENT
BEGIN:VEVENT
DTSTART;TZID=America/Sao_Paulo:20180405T140000
DTEND;TZID=America/Sao_Paulo:20180405T170000
DTSTAMP:20260423T023950
CREATED:20180306T181808Z
LAST-MODIFIED:20180306T181808Z
UID:16362-1522936800-1522947600@iesp.uerj.br
SUMMARY:Defesa de Tese: Bruno Coutinho de Souza Oliveira
DESCRIPTION:[:pb] \nO Programa de Pós-Graduação em Sociologia convida para:\nDefesa de Tese\n““Não tem essa de separação\, aqui é tudo\nComplexo do Alemão!” Uma etnografia dos\nespaços urbanos em um conjunto residencial no\nRio de Janeiro”\nde\nBruno Coutinho de Souza Oliveira \n  \nBanca Examinadora:\nProf. Dr. Luiz Antonio Machado da Silva (Orientador)\nProf.ª Dr.ª Mariana Cavalcanti Rocha dos Santos (IESP)\nProf.ª Dr.ª Eugênia de Souza Mello Guimarães Motta (IESP)\nProf.ª Dr.ª Márcia da Silva Pereira Leite (UERJ)\nProf.ª Dr.ª Adriana Facina Gurgel do Amaral (UFRJ)\nProf. Dr. Sean T. Mitchell (Rutgers University – Newark) \nDia 5 de Abril de 2018\, quinta-feira\, às 14:00 horas \nRua da Matriz\, 82 – Botafogo[:]
URL:https://iesp.uerj.br/evento/defesa-de-tese-bruno-coutinho-de-souza-oliveira/
LOCATION:Defesa: Alexsander Matheus Araújo Costa\, RJ
END:VEVENT
BEGIN:VEVENT
DTSTART;TZID=America/Sao_Paulo:20180405T140000
DTEND;TZID=America/Sao_Paulo:20180405T170000
DTSTAMP:20260423T023950
CREATED:20180306T181808Z
LAST-MODIFIED:20180306T181808Z
UID:16648-1522936800-1522947600@iesp.uerj.br
SUMMARY:Defesa de Tese: Bruno Coutinho de Souza Oliveira
DESCRIPTION:[:pb] \nO Programa de Pós-Graduação em Sociologia convida para:\nDefesa de Tese\n““Não tem essa de separação\, aqui é tudo\nComplexo do Alemão!” Uma etnografia dos\nespaços urbanos em um conjunto residencial no\nRio de Janeiro”\nde\nBruno Coutinho de Souza Oliveira \n  \nBanca Examinadora:\nProf. Dr. Luiz Antonio Machado da Silva (Orientador)\nProf.ª Dr.ª Mariana Cavalcanti Rocha dos Santos (IESP)\nProf.ª Dr.ª Eugênia de Souza Mello Guimarães Motta (IESP)\nProf.ª Dr.ª Márcia da Silva Pereira Leite (UERJ)\nProf.ª Dr.ª Adriana Facina Gurgel do Amaral (UFRJ)\nProf. Dr. Sean T. Mitchell (Rutgers University – Newark) \nDia 5 de Abril de 2018\, quinta-feira\, às 14:00 horas \nRua da Matriz\, 82 – Botafogo[:]
URL:https://iesp.uerj.br/evento/defesa-de-tese-bruno-coutinho-de-souza-oliveira-2/
LOCATION:Defesa: Alexsander Matheus Araújo Costa\, RJ
END:VEVENT
BEGIN:VEVENT
DTSTART;TZID=America/Sao_Paulo:20180406T093000
DTEND;TZID=America/Sao_Paulo:20180406T170000
DTSTAMP:20260423T023950
CREATED:20180319T140204Z
LAST-MODIFIED:20180319T140204Z
UID:16385-1523007000-1523034000@iesp.uerj.br
SUMMARY:Defesa de Tese: Saulo Maia Said
DESCRIPTION:[:pb] \nO Programa de Pós-Graduação em Ciência Política convida para: \nDefesa de Tese \nReforma Agrária\, Consolidação partidária e crisepolítica: Brasil (1951-1964)\nde\nSaulo Maia Said \nBanca Examinadora:\nProf.ª Dr.ª Argelina Maria Cheibub Figueiredo (Orientadora)\nProf. Dr. Fabiano Guilherme Mendes Santos (IESP)\nProf. Dr. Fernando Henrique Eduardo Guarnieri (IESP)\nProf.ª Dr.ª Maria Celina Soares D’Araújo (PUC-RJ)\nProf.Dr.FernandodeMagalhãesPapaterraLimongi(USP) \nDia 06 de Abril de 2018\, sexta-feira\, às 09:30 horas\nRua da Matriz\, 82 – Botafogo \n[:]
URL:https://iesp.uerj.br/evento/defesa-de-tese-saulo-maia-said/
LOCATION:Defesa: Alexsander Matheus Araújo Costa\, RJ
END:VEVENT
BEGIN:VEVENT
DTSTART;TZID=America/Sao_Paulo:20180406T093000
DTEND;TZID=America/Sao_Paulo:20180406T170000
DTSTAMP:20260423T023950
CREATED:20180319T140204Z
LAST-MODIFIED:20180319T140204Z
UID:16671-1523007000-1523034000@iesp.uerj.br
SUMMARY:Defesa de Tese: Saulo Maia Said
DESCRIPTION:[:pb] \nO Programa de Pós-Graduação em Ciência Política convida para: \nDefesa de Tese \nReforma Agrária\, Consolidação partidária e crisepolítica: Brasil (1951-1964)\nde\nSaulo Maia Said \nBanca Examinadora:\nProf.ª Dr.ª Argelina Maria Cheibub Figueiredo (Orientadora)\nProf. Dr. Fabiano Guilherme Mendes Santos (IESP)\nProf. Dr. Fernando Henrique Eduardo Guarnieri (IESP)\nProf.ª Dr.ª Maria Celina Soares D’Araújo (PUC-RJ)\nProf.Dr.FernandodeMagalhãesPapaterraLimongi(USP) \nDia 06 de Abril de 2018\, sexta-feira\, às 09:30 horas\nRua da Matriz\, 82 – Botafogo \n[:]
URL:https://iesp.uerj.br/evento/defesa-de-tese-saulo-maia-said-2/
LOCATION:Defesa: Alexsander Matheus Araújo Costa\, RJ
END:VEVENT
BEGIN:VEVENT
DTSTART;TZID=America/Sao_Paulo:20180409T140000
DTEND;TZID=America/Sao_Paulo:20180409T170000
DTSTAMP:20260423T023950
CREATED:20180312T165638Z
LAST-MODIFIED:20180312T165638Z
UID:16367-1523282400-1523293200@iesp.uerj.br
SUMMARY:Defesa de Tese: Leonardo Seiichi Sasada Sato
DESCRIPTION:[:pb] \nO Programa de Pós-Graduação em Ciência Política convida\npara:\nDefesa de Tese\nUm poder da moderação? Política e História no\nSupremo Tribunal Federal da Primeira\nRepública\nde\nLeonardo Seiichi Sasada Sato \nBanca Examinadora:\nProf.Dr.Christian Edward Cyril Lynch(Orientador)\nProf. Dr. Fernando de Castro Fontainha (IESP)\nProf. Dr. Gustavo Silveira Siqueira (UERJ)\nProf. Dr. Arno Wehling (IHGB)\nProf. Dr. Andrei Koerner (Unicamp) \nDia 09 de Abril de 2018\, segunda-feira\, às 14:00 horas \nRua da Matriz\, 82 – Botafogo[:]
URL:https://iesp.uerj.br/evento/defesa-de-tese-leonardo-seiichi-sasada-sato/
LOCATION:Defesa: Alexsander Matheus Araújo Costa\, RJ
END:VEVENT
BEGIN:VEVENT
DTSTART;TZID=America/Sao_Paulo:20180409T140000
DTEND;TZID=America/Sao_Paulo:20180409T170000
DTSTAMP:20260423T023950
CREATED:20180312T165638Z
LAST-MODIFIED:20180312T165638Z
UID:16653-1523282400-1523293200@iesp.uerj.br
SUMMARY:Defesa de Tese: Leonardo Seiichi Sasada Sato
DESCRIPTION:[:pb] \nO Programa de Pós-Graduação em Ciência Política convida\npara:\nDefesa de Tese\nUm poder da moderação? Política e História no\nSupremo Tribunal Federal da Primeira\nRepública\nde\nLeonardo Seiichi Sasada Sato \nBanca Examinadora:\nProf.Dr.Christian Edward Cyril Lynch(Orientador)\nProf. Dr. Fernando de Castro Fontainha (IESP)\nProf. Dr. Gustavo Silveira Siqueira (UERJ)\nProf. Dr. Arno Wehling (IHGB)\nProf. Dr. Andrei Koerner (Unicamp) \nDia 09 de Abril de 2018\, segunda-feira\, às 14:00 horas \nRua da Matriz\, 82 – Botafogo[:]
URL:https://iesp.uerj.br/evento/defesa-de-tese-leonardo-seiichi-sasada-sato-2/
LOCATION:Defesa: Alexsander Matheus Araújo Costa\, RJ
END:VEVENT
BEGIN:VEVENT
DTSTART;TZID=America/Sao_Paulo:20180409T140000
DTEND;TZID=America/Sao_Paulo:20180409T170000
DTSTAMP:20260423T023950
CREATED:20180312T193014Z
LAST-MODIFIED:20180312T193014Z
UID:16369-1523282400-1523293200@iesp.uerj.br
SUMMARY:Seminário: Silvia Ramos e Pablo Nunes
DESCRIPTION:[:pb] \nSilvia Ramos e Pablo Nunes (CESeC/ Cândido Mendes) apresentam o seminário: “Mídia e violência no Rio de Janeiro: mudanças em dez anos e as páginas hiperlocais no Facebook” \n  \n [:]
URL:https://iesp.uerj.br/evento/silvia-ramos/
LOCATION:Defesa: Alexsander Matheus Araújo Costa\, RJ
END:VEVENT
BEGIN:VEVENT
DTSTART;TZID=America/Sao_Paulo:20180409T140000
DTEND;TZID=America/Sao_Paulo:20180409T170000
DTSTAMP:20260423T023950
CREATED:20180312T193014Z
LAST-MODIFIED:20180312T193014Z
UID:16655-1523282400-1523293200@iesp.uerj.br
SUMMARY:Seminário: Silvia Ramos e Pablo Nunes
DESCRIPTION:[:pb] \nSilvia Ramos e Pablo Nunes (CESeC/ Cândido Mendes) apresentam o seminário: “Mídia e violência no Rio de Janeiro: mudanças em dez anos e as páginas hiperlocais no Facebook” \n  \n [:]
URL:https://iesp.uerj.br/evento/silvia-ramos-2/
LOCATION:Defesa: Alexsander Matheus Araújo Costa\, RJ
END:VEVENT
BEGIN:VEVENT
DTSTART;TZID=America/Sao_Paulo:20180413T100000
DTEND;TZID=America/Sao_Paulo:20180413T130000
DTSTAMP:20260423T023950
CREATED:20180321T144853Z
LAST-MODIFIED:20180321T144853Z
UID:16386-1523613600-1523624400@iesp.uerj.br
SUMMARY:Defesa de Tese: Marina Basso Lacerda
DESCRIPTION:[:pb] \nO Programa de Pós-Graduação em Ciência Política convida para: \nDefesa de Tese \nNeoconservadorismo: articulação pró-família\,\npunitivista e neoliberal na Câmara dos Deputados\nde\nMarina Basso Lacerda \nBanca Examinadora:\nProf. Dr. Luiz Augusto Campos (Orientador)\nProf. Dr. Fabiano Guilherme Mendes Santos (IESP)\nProf. Dr. José Eduardo Leon Szwako (IESP)\nProf. Dr. Ricardo Mariano (USP)\nProf.ª Dr.ª Flávia Millena Biroli Tokarski (UnB) \nDia 13 de Abril de 2018\, sexta-feira\, às 10:00 horas\nRua da Matriz\, 82 – Botafogo \n[:]
URL:https://iesp.uerj.br/evento/defesa-de-tese-marina-basso-lacerda/
LOCATION:Defesa: Alexsander Matheus Araújo Costa\, RJ
END:VEVENT
BEGIN:VEVENT
DTSTART;TZID=America/Sao_Paulo:20180413T100000
DTEND;TZID=America/Sao_Paulo:20180413T130000
DTSTAMP:20260423T023950
CREATED:20180321T144853Z
LAST-MODIFIED:20180321T144853Z
UID:16672-1523613600-1523624400@iesp.uerj.br
SUMMARY:Defesa de Tese: Marina Basso Lacerda
DESCRIPTION:[:pb] \nO Programa de Pós-Graduação em Ciência Política convida para: \nDefesa de Tese \nNeoconservadorismo: articulação pró-família\,\npunitivista e neoliberal na Câmara dos Deputados\nde\nMarina Basso Lacerda \nBanca Examinadora:\nProf. Dr. Luiz Augusto Campos (Orientador)\nProf. Dr. Fabiano Guilherme Mendes Santos (IESP)\nProf. Dr. José Eduardo Leon Szwako (IESP)\nProf. Dr. Ricardo Mariano (USP)\nProf.ª Dr.ª Flávia Millena Biroli Tokarski (UnB) \nDia 13 de Abril de 2018\, sexta-feira\, às 10:00 horas\nRua da Matriz\, 82 – Botafogo \n[:]
URL:https://iesp.uerj.br/evento/defesa-de-tese-marina-basso-lacerda-2/
LOCATION:Defesa: Alexsander Matheus Araújo Costa\, RJ
END:VEVENT
BEGIN:VEVENT
DTSTART;TZID=America/Sao_Paulo:20180413T160000
DTEND;TZID=America/Sao_Paulo:20180413T190000
DTSTAMP:20260423T023950
CREATED:20180312T193226Z
LAST-MODIFIED:20180312T193226Z
UID:16370-1523635200-1523646000@iesp.uerj.br
SUMMARY:Seminário: Flávia Biroli
DESCRIPTION:[:pb] \nFlávia Biroli (UnB) apresenta o seminário e lançamento do livro: “Gênero e Desigualdades: limites da democracia no Brasil” \n[:]
URL:https://iesp.uerj.br/evento/seminario-flavia-biroli/
LOCATION:Defesa: Alexsander Matheus Araújo Costa\, RJ
END:VEVENT
BEGIN:VEVENT
DTSTART;TZID=America/Sao_Paulo:20180413T160000
DTEND;TZID=America/Sao_Paulo:20180413T190000
DTSTAMP:20260423T023950
CREATED:20180312T193226Z
LAST-MODIFIED:20180312T193226Z
UID:16656-1523635200-1523646000@iesp.uerj.br
SUMMARY:Seminário: Flávia Biroli
DESCRIPTION:[:pb] \nFlávia Biroli (UnB) apresenta o seminário e lançamento do livro: “Gênero e Desigualdades: limites da democracia no Brasil” \n[:]
URL:https://iesp.uerj.br/evento/seminario-flavia-biroli-2/
LOCATION:Defesa: Alexsander Matheus Araújo Costa\, RJ
END:VEVENT
BEGIN:VEVENT
DTSTART;TZID=America/Sao_Paulo:20180416T140000
DTEND;TZID=America/Sao_Paulo:20180416T170000
DTSTAMP:20260423T023950
CREATED:20180312T201255Z
LAST-MODIFIED:20180312T201255Z
UID:16378-1523887200-1523898000@iesp.uerj.br
SUMMARY:Seminário: Félix Lopez
DESCRIPTION:[:pb] \nFélix Lopez (IPEA) apresenta o seminário: “Perfil das Organizações da sociedade civil brasileiras” \n[:]
URL:https://iesp.uerj.br/evento/seminario-felix-lopez/
LOCATION:Defesa: Alexsander Matheus Araújo Costa\, RJ
END:VEVENT
BEGIN:VEVENT
DTSTART;TZID=America/Sao_Paulo:20180416T140000
DTEND;TZID=America/Sao_Paulo:20180416T170000
DTSTAMP:20260423T023950
CREATED:20180312T201255Z
LAST-MODIFIED:20180312T201255Z
UID:16664-1523887200-1523898000@iesp.uerj.br
SUMMARY:Seminário: Félix Lopez
DESCRIPTION:[:pb] \nFélix Lopez (IPEA) apresenta o seminário: “Perfil das Organizações da sociedade civil brasileiras” \n[:]
URL:https://iesp.uerj.br/evento/seminario-felix-lopez-2/
LOCATION:Defesa: Alexsander Matheus Araújo Costa\, RJ
END:VEVENT
BEGIN:VEVENT
DTSTART;TZID=America/Sao_Paulo:20180420T140000
DTEND;TZID=America/Sao_Paulo:20180420T170000
DTSTAMP:20260423T023950
CREATED:20180312T201744Z
LAST-MODIFIED:20180312T201744Z
UID:16379-1524232800-1524243600@iesp.uerj.br
SUMMARY:Seminário: Samira Bueno
DESCRIPTION:[:pb] \nSamira Bueno (FBSP) apresenta o seminário: “Riscos para intervenção federal-militar no Rio de Janeiro para o campo da segurança pública” \n[:]
URL:https://iesp.uerj.br/evento/seminario-samira-bueno/
LOCATION:Defesa: Alexsander Matheus Araújo Costa\, RJ
END:VEVENT
BEGIN:VEVENT
DTSTART;TZID=America/Sao_Paulo:20180420T140000
DTEND;TZID=America/Sao_Paulo:20180420T170000
DTSTAMP:20260423T023950
CREATED:20180312T201744Z
LAST-MODIFIED:20180312T201744Z
UID:16665-1524232800-1524243600@iesp.uerj.br
SUMMARY:Seminário: Samira Bueno
DESCRIPTION:[:pb] \nSamira Bueno (FBSP) apresenta o seminário: “Riscos para intervenção federal-militar no Rio de Janeiro para o campo da segurança pública” \n[:]
URL:https://iesp.uerj.br/evento/seminario-samira-bueno-2/
LOCATION:Defesa: Alexsander Matheus Araújo Costa\, RJ
END:VEVENT
BEGIN:VEVENT
DTSTART;TZID=America/Sao_Paulo:20180427T093000
DTEND;TZID=America/Sao_Paulo:20180427T120000
DTSTAMP:20260423T023950
CREATED:20180309T145915Z
LAST-MODIFIED:20180309T145915Z
UID:16366-1524821400-1524830400@iesp.uerj.br
SUMMARY:Defesa de Tese: Walkiria Zambrzycki Dutra
DESCRIPTION:[:pb] \nO Programa de Pós-Graduação em Ciência Política convida\npara:\nDefesa de Tese\nA vez do governo estadual nas estratégias de\ncoordenação em políticas públicas: O caso de\nMinas Gerais nas áreas de Habitação de Interesse\nSocial e Segurança Pública\nde\nWalkiria Zambrzycki Dutra \nBanca Examinadora:\nProf. Dr. Ricardo Ceneviva (Orientador)\nProf. Dr. Fernando Henrique Eduardo Guarnieri (Co-Orientador)\nProf.ª Dr.ª Argelina Maria Cheibub Figueiredo (IESP)\nProf. Dr. Fabiano Guilherme Mendes Santos (IESP)\nProf. Dr. Paulo Ricardo Diniz Filho (UFMG)\nProf. Dr. Carlos Alberto de Vasconcelos Rocha (PUC-Minas) \nDia 27 de Abril de 2018\, sexta-feira\, às 9:30 horas \nRua da Matriz\, 82 – Botafogo[:]
URL:https://iesp.uerj.br/evento/defesa-de-tese-walkiria-zambrzycki-dutra/
LOCATION:Defesa: Alexsander Matheus Araújo Costa\, RJ
END:VEVENT
BEGIN:VEVENT
DTSTART;TZID=America/Sao_Paulo:20180427T093000
DTEND;TZID=America/Sao_Paulo:20180427T120000
DTSTAMP:20260423T023950
CREATED:20180309T145915Z
LAST-MODIFIED:20180309T145915Z
UID:16652-1524821400-1524830400@iesp.uerj.br
SUMMARY:Defesa de Tese: Walkiria Zambrzycki Dutra
DESCRIPTION:[:pb] \nO Programa de Pós-Graduação em Ciência Política convida\npara:\nDefesa de Tese\nA vez do governo estadual nas estratégias de\ncoordenação em políticas públicas: O caso de\nMinas Gerais nas áreas de Habitação de Interesse\nSocial e Segurança Pública\nde\nWalkiria Zambrzycki Dutra \nBanca Examinadora:\nProf. Dr. Ricardo Ceneviva (Orientador)\nProf. Dr. Fernando Henrique Eduardo Guarnieri (Co-Orientador)\nProf.ª Dr.ª Argelina Maria Cheibub Figueiredo (IESP)\nProf. Dr. Fabiano Guilherme Mendes Santos (IESP)\nProf. Dr. Paulo Ricardo Diniz Filho (UFMG)\nProf. Dr. Carlos Alberto de Vasconcelos Rocha (PUC-Minas) \nDia 27 de Abril de 2018\, sexta-feira\, às 9:30 horas \nRua da Matriz\, 82 – Botafogo[:]
URL:https://iesp.uerj.br/evento/defesa-de-tese-walkiria-zambrzycki-dutra-2/
LOCATION:Defesa: Alexsander Matheus Araújo Costa\, RJ
END:VEVENT
BEGIN:VEVENT
DTSTART;TZID=America/Sao_Paulo:20180427T140000
DTEND;TZID=America/Sao_Paulo:20180427T170000
DTSTAMP:20260423T023950
CREATED:20180312T201943Z
LAST-MODIFIED:20180312T201943Z
UID:16380-1524837600-1524848400@iesp.uerj.br
SUMMARY:Seminário: Adriano Codato
DESCRIPTION:[:pb] \nAdriano Codato (UFPR) apresenta o seminário: “Oligarcas e plutocratas na classe política brasileira” \n[:]
URL:https://iesp.uerj.br/evento/seminario-adriano-codato/
LOCATION:Defesa: Alexsander Matheus Araújo Costa\, RJ
END:VEVENT
BEGIN:VEVENT
DTSTART;TZID=America/Sao_Paulo:20180427T140000
DTEND;TZID=America/Sao_Paulo:20180427T170000
DTSTAMP:20260423T023950
CREATED:20180312T201943Z
LAST-MODIFIED:20180312T201943Z
UID:16666-1524837600-1524848400@iesp.uerj.br
SUMMARY:Seminário: Adriano Codato
DESCRIPTION:[:pb] \nAdriano Codato (UFPR) apresenta o seminário: “Oligarcas e plutocratas na classe política brasileira” \n[:]
URL:https://iesp.uerj.br/evento/seminario-adriano-codato-2/
LOCATION:Defesa: Alexsander Matheus Araújo Costa\, RJ
END:VEVENT
BEGIN:VEVENT
DTSTART;TZID=America/Sao_Paulo:20180427T140000
DTEND;TZID=America/Sao_Paulo:20180427T170000
DTSTAMP:20260423T023950
CREATED:20180412T180950Z
LAST-MODIFIED:20180412T180950Z
UID:16388-1524837600-1524848400@iesp.uerj.br
SUMMARY:Defesa de Tese: Leonardo de Oliveira Fontes
DESCRIPTION:[:pb] \nO Programa de Pós-Graduação em Sociologia convida para: \nDefesa de Tese \nO direito à periferia: experiências de mobilidade\nsocial e luta por cidadania entre trabalhadores \nperiféricos de São Paulo \nde \nLeonardo de Oliveira Fontes \n  \nBanca Examinadora: \nProf.a Dr.a Alba Maria Zaluar (Orientadora)\nProf. Dr. Carlos Antonio Costa Ribeiro (IESP)\nProf.a Dr.a Mariana Cavalcanti Rocha dos Santos (IESP)\nProf. Dr. Gabriel de Santis Feltran (UFSCar)\nProf. Dr. Edmond Préteceille (CNRS) \n  \nDia 27 de Abril de 2018\, sexta-feira\, às 14:00 horas \nRua da Matriz\, 82 – Botafogo[:]
URL:https://iesp.uerj.br/evento/defesa-de-tese-leonardo-de-oliveira-fontes/
LOCATION:Defesa: Alexsander Matheus Araújo Costa\, RJ
END:VEVENT
BEGIN:VEVENT
DTSTART;TZID=America/Sao_Paulo:20180427T140000
DTEND;TZID=America/Sao_Paulo:20180427T170000
DTSTAMP:20260423T023950
CREATED:20180412T180950Z
LAST-MODIFIED:20180412T180950Z
UID:16674-1524837600-1524848400@iesp.uerj.br
SUMMARY:Defesa de Tese: Leonardo de Oliveira Fontes
DESCRIPTION:[:pb] \nO Programa de Pós-Graduação em Sociologia convida para: \nDefesa de Tese \nO direito à periferia: experiências de mobilidade\nsocial e luta por cidadania entre trabalhadores \nperiféricos de São Paulo \nde \nLeonardo de Oliveira Fontes \n  \nBanca Examinadora: \nProf.a Dr.a Alba Maria Zaluar (Orientadora)\nProf. Dr. Carlos Antonio Costa Ribeiro (IESP)\nProf.a Dr.a Mariana Cavalcanti Rocha dos Santos (IESP)\nProf. Dr. Gabriel de Santis Feltran (UFSCar)\nProf. Dr. Edmond Préteceille (CNRS) \n  \nDia 27 de Abril de 2018\, sexta-feira\, às 14:00 horas \nRua da Matriz\, 82 – Botafogo[:]
URL:https://iesp.uerj.br/evento/defesa-de-tese-leonardo-de-oliveira-fontes-2/
LOCATION:Defesa: Alexsander Matheus Araújo Costa\, RJ
END:VEVENT
END:VCALENDAR