BEGIN:VCALENDAR
VERSION:2.0
PRODID:-//IESP - ECPv6.0.7.1//NONSGML v1.0//EN
CALSCALE:GREGORIAN
METHOD:PUBLISH
X-WR-CALNAME:IESP
X-ORIGINAL-URL:https://iesp.uerj.br
X-WR-CALDESC:Eventos para IESP
REFRESH-INTERVAL;VALUE=DURATION:PT1H
X-Robots-Tag:noindex
X-PUBLISHED-TTL:PT1H
BEGIN:VTIMEZONE
TZID:America/Sao_Paulo
BEGIN:STANDARD
TZOFFSETFROM:-0200
TZOFFSETTO:-0300
TZNAME:-03
DTSTART:20180218T020000
END:STANDARD
BEGIN:DAYLIGHT
TZOFFSETFROM:-0300
TZOFFSETTO:-0200
TZNAME:-02
DTSTART:20181104T030000
END:DAYLIGHT
BEGIN:STANDARD
TZOFFSETFROM:-0200
TZOFFSETTO:-0300
TZNAME:-03
DTSTART:20190217T020000
END:STANDARD
END:VTIMEZONE
BEGIN:VEVENT
DTSTART;TZID=America/Sao_Paulo:20181029T173000
DTEND;TZID=America/Sao_Paulo:20181029T210000
DTSTAMP:20260421T184105
CREATED:20181016T143119Z
LAST-MODIFIED:20181016T143119Z
UID:16429-1540834200-1540846800@iesp.uerj.br
SUMMARY:Seminário: Michel Cahen
DESCRIPTION:[:pb]O IESP-UERJ convida para a Palestra “Moçambique um ano antes das eleições decisivas (2019)” com Michel Cahen \n  \n[:]
URL:https://iesp.uerj.br/evento/seminario-michel-cahen/
LOCATION:Defesa: Alexsander Matheus Araújo Costa\, RJ
END:VEVENT
BEGIN:VEVENT
DTSTART;TZID=America/Sao_Paulo:20181029T173000
DTEND;TZID=America/Sao_Paulo:20181029T210000
DTSTAMP:20260421T184105
CREATED:20181016T143119Z
LAST-MODIFIED:20181016T143119Z
UID:16715-1540834200-1540846800@iesp.uerj.br
SUMMARY:Seminário: Michel Cahen
DESCRIPTION:[:pb]O IESP-UERJ convida para a Palestra “Moçambique um ano antes das eleições decisivas (2019)” com Michel Cahen \n  \n[:]
URL:https://iesp.uerj.br/evento/seminario-michel-cahen-2/
LOCATION:Defesa: Alexsander Matheus Araújo Costa\, RJ
END:VEVENT
BEGIN:VEVENT
DTSTART;TZID=America/Sao_Paulo:20181105T140000
DTEND;TZID=America/Sao_Paulo:20181105T170000
DTSTAMP:20260421T184105
CREATED:20180829T195052Z
LAST-MODIFIED:20180829T195052Z
UID:16416-1541426400-1541437200@iesp.uerj.br
SUMMARY:Seminário: Paulo Fontes
DESCRIPTION:[:pb]O Ciclo de Palestras  IESP-UERJ 2018.2 apresenta Paulo Fontes com a Palestra “História do Trabalho No Brasil: desafios e perspectivas”. [:]
URL:https://iesp.uerj.br/evento/seminario-paulo-fontes/
LOCATION:Defesa: Alexsander Matheus Araújo Costa\, RJ
END:VEVENT
BEGIN:VEVENT
DTSTART;TZID=America/Sao_Paulo:20181105T140000
DTEND;TZID=America/Sao_Paulo:20181105T170000
DTSTAMP:20260421T184105
CREATED:20180829T195052Z
LAST-MODIFIED:20180829T195052Z
UID:16702-1541426400-1541437200@iesp.uerj.br
SUMMARY:Seminário: Paulo Fontes
DESCRIPTION:[:pb]O Ciclo de Palestras  IESP-UERJ 2018.2 apresenta Paulo Fontes com a Palestra “História do Trabalho No Brasil: desafios e perspectivas”. [:]
URL:https://iesp.uerj.br/evento/seminario-paulo-fontes-2/
LOCATION:Defesa: Alexsander Matheus Araújo Costa\, RJ
END:VEVENT
BEGIN:VEVENT
DTSTART;TZID=America/Sao_Paulo:20181109T100000
DTEND;TZID=America/Sao_Paulo:20181109T170000
DTSTAMP:20260421T184105
CREATED:20180829T195246Z
LAST-MODIFIED:20180829T195246Z
UID:16417-1541757600-1541782800@iesp.uerj.br
SUMMARY:Seminário OPSA
DESCRIPTION:[:pb]O Ciclo de Palestra IESP-UERJ 2018.2 convida a todos para o Seminário do Observatório Político Sul-Americano[:]
URL:https://iesp.uerj.br/evento/seminario-opsa/
LOCATION:Defesa: Alexsander Matheus Araújo Costa\, RJ
END:VEVENT
BEGIN:VEVENT
DTSTART;TZID=America/Sao_Paulo:20181109T100000
DTEND;TZID=America/Sao_Paulo:20181109T170000
DTSTAMP:20260421T184105
CREATED:20180829T195246Z
LAST-MODIFIED:20180829T195246Z
UID:16703-1541757600-1541782800@iesp.uerj.br
SUMMARY:Seminário OPSA
DESCRIPTION:[:pb]O Ciclo de Palestra IESP-UERJ 2018.2 convida a todos para o Seminário do Observatório Político Sul-Americano[:]
URL:https://iesp.uerj.br/evento/seminario-opsa-2/
LOCATION:Defesa: Alexsander Matheus Araújo Costa\, RJ
END:VEVENT
BEGIN:VEVENT
DTSTART;TZID=America/Sao_Paulo:20181109T140000
DTEND;TZID=America/Sao_Paulo:20181109T170000
DTSTAMP:20260421T184105
CREATED:20181019T174937Z
LAST-MODIFIED:20181019T174937Z
UID:16430-1541772000-1541782800@iesp.uerj.br
SUMMARY:Defesa de Tese: Bernardino Essau Bilério
DESCRIPTION:[:pb] \nDefesa de Tese \nDinâmica da accountability no contexto da governação local em Moçambique entre 1998-2016: Um estudo dos municípios da Matola e Beira \nde \nBernardino Essau Bilério \nBanca Examinadora: \nProf. Dr. Fabiano Guilherme Mendes Santos (Orientador)\nProf.ª Dr.ª Argelina Maria Cheibub Figueiredo (IESP)\nProf. Dr. Fernando Henrique Eduardo Guarnieri (IESP)\nProf.ª Dr.ª Marcia Ribeiro Dias (UNIRIO)\nProf. Dr. José Jaime Macuane (UEM) \nDia 09 de Novembro de 2018\, sexta-feira\, às 14:00 horas \nRua da Matriz\, 82 – Botafogo[:]
URL:https://iesp.uerj.br/evento/defesa-de-tese-bernardino-essau-bilerio/
LOCATION:Defesa: Alexsander Matheus Araújo Costa\, RJ
END:VEVENT
BEGIN:VEVENT
DTSTART;TZID=America/Sao_Paulo:20181109T140000
DTEND;TZID=America/Sao_Paulo:20181109T170000
DTSTAMP:20260421T184105
CREATED:20181019T174937Z
LAST-MODIFIED:20181019T174937Z
UID:16716-1541772000-1541782800@iesp.uerj.br
SUMMARY:Defesa de Tese: Bernardino Essau Bilério
DESCRIPTION:[:pb] \nDefesa de Tese \nDinâmica da accountability no contexto da governação local em Moçambique entre 1998-2016: Um estudo dos municípios da Matola e Beira \nde \nBernardino Essau Bilério \nBanca Examinadora: \nProf. Dr. Fabiano Guilherme Mendes Santos (Orientador)\nProf.ª Dr.ª Argelina Maria Cheibub Figueiredo (IESP)\nProf. Dr. Fernando Henrique Eduardo Guarnieri (IESP)\nProf.ª Dr.ª Marcia Ribeiro Dias (UNIRIO)\nProf. Dr. José Jaime Macuane (UEM) \nDia 09 de Novembro de 2018\, sexta-feira\, às 14:00 horas \nRua da Matriz\, 82 – Botafogo[:]
URL:https://iesp.uerj.br/evento/defesa-de-tese-bernardino-essau-bilerio-2/
LOCATION:Defesa: Alexsander Matheus Araújo Costa\, RJ
END:VEVENT
BEGIN:VEVENT
DTSTART;TZID=America/Sao_Paulo:20181121T140000
DTEND;TZID=America/Sao_Paulo:20181121T170000
DTSTAMP:20260421T184105
CREATED:20181113T163105Z
LAST-MODIFIED:20181113T163105Z
UID:16433-1542808800-1542819600@iesp.uerj.br
SUMMARY:Defesa de Tese: Claiton Pazzini Goulart
DESCRIPTION:[:pb] \nO Programa de Pós-Graduação em Ciência Política convida\npara:\nDefesa de Tese\nO voto econômico: o comportamento eleitoral nas\neleições municipais mato-grossenses (2004-2008)\nde\nClaiton Pazzini Goulart \n  \nBanca Examinadora: \nProf. Dr. Fabiano Guilherme Mendes Santos (Orientador)\nProf. Dr. Fernando Henrique Eduardo Guarnieri (IESP)\nProf. Dr. Thiago Moreira da Silva (IESP)\nProf. Dr. Felipe de Moraes Borba (UNIRIO)\nProf. Dr. Vitor de Moraes Peixoto (UENF) \nDia 21 de Novembro de 2018\, quarta-feira\, às 14:00 horas \nRua da Matriz\, 82 – Botafogo[:]
URL:https://iesp.uerj.br/evento/defesa-de-tese-claiton-pazzini-goulart/
LOCATION:Defesa: Alexsander Matheus Araújo Costa\, RJ
END:VEVENT
BEGIN:VEVENT
DTSTART;TZID=America/Sao_Paulo:20181121T140000
DTEND;TZID=America/Sao_Paulo:20181121T170000
DTSTAMP:20260421T184105
CREATED:20181113T163105Z
LAST-MODIFIED:20181113T163105Z
UID:16719-1542808800-1542819600@iesp.uerj.br
SUMMARY:Defesa de Tese: Claiton Pazzini Goulart
DESCRIPTION:[:pb] \nO Programa de Pós-Graduação em Ciência Política convida\npara:\nDefesa de Tese\nO voto econômico: o comportamento eleitoral nas\neleições municipais mato-grossenses (2004-2008)\nde\nClaiton Pazzini Goulart \n  \nBanca Examinadora: \nProf. Dr. Fabiano Guilherme Mendes Santos (Orientador)\nProf. Dr. Fernando Henrique Eduardo Guarnieri (IESP)\nProf. Dr. Thiago Moreira da Silva (IESP)\nProf. Dr. Felipe de Moraes Borba (UNIRIO)\nProf. Dr. Vitor de Moraes Peixoto (UENF) \nDia 21 de Novembro de 2018\, quarta-feira\, às 14:00 horas \nRua da Matriz\, 82 – Botafogo[:]
URL:https://iesp.uerj.br/evento/defesa-de-tese-claiton-pazzini-goulart-2/
LOCATION:Defesa: Alexsander Matheus Araújo Costa\, RJ
END:VEVENT
BEGIN:VEVENT
DTSTART;TZID=America/Sao_Paulo:20181123T140000
DTEND;TZID=America/Sao_Paulo:20181123T170000
DTSTAMP:20260421T184105
CREATED:20180829T195732Z
LAST-MODIFIED:20180829T195732Z
UID:16418-1542981600-1542992400@iesp.uerj.br
SUMMARY:Seminário: Bernardo Ferreira
DESCRIPTION:[:pb]O Ciclo de Palestras IESP-UERJ 2018.2 apresenta Bernardo Ferreira com a palestra “Sobre a areia movediça: reflexões sobre livre arbítrio\, soberania e poder a partir de Hannah Arendt”. [:]
URL:https://iesp.uerj.br/evento/seminario-bernardo-ferreira/
LOCATION:Defesa: Alexsander Matheus Araújo Costa\, RJ
END:VEVENT
BEGIN:VEVENT
DTSTART;TZID=America/Sao_Paulo:20181123T140000
DTEND;TZID=America/Sao_Paulo:20181123T170000
DTSTAMP:20260421T184105
CREATED:20180829T195732Z
LAST-MODIFIED:20180829T195732Z
UID:16704-1542981600-1542992400@iesp.uerj.br
SUMMARY:Seminário: Bernardo Ferreira
DESCRIPTION:[:pb]O Ciclo de Palestras IESP-UERJ 2018.2 apresenta Bernardo Ferreira com a palestra “Sobre a areia movediça: reflexões sobre livre arbítrio\, soberania e poder a partir de Hannah Arendt”. [:]
URL:https://iesp.uerj.br/evento/seminario-bernardo-ferreira-2/
LOCATION:Defesa: Alexsander Matheus Araújo Costa\, RJ
END:VEVENT
BEGIN:VEVENT
DTSTART;TZID=America/Sao_Paulo:20181126T140000
DTEND;TZID=America/Sao_Paulo:20181126T170000
DTSTAMP:20260421T184105
CREATED:20180829T200214Z
LAST-MODIFIED:20180829T200214Z
UID:16419-1543240800-1543251600@iesp.uerj.br
SUMMARY:Seminário: Diogo Cunha
DESCRIPTION:[:pb]O Ciclo de Palestras IESP-UERJ 2018.2 apresenta Diogo Cunha com a palestra  “Os intelectuais conservadores entre cultura e política: a Academia Brasileira de Letras durante o regime militar (1964-1979)”. [:]
URL:https://iesp.uerj.br/evento/seminario-diogo-cunha/
LOCATION:Defesa: Alexsander Matheus Araújo Costa\, RJ
END:VEVENT
BEGIN:VEVENT
DTSTART;TZID=America/Sao_Paulo:20181126T140000
DTEND;TZID=America/Sao_Paulo:20181126T170000
DTSTAMP:20260421T184105
CREATED:20180829T200214Z
LAST-MODIFIED:20180829T200214Z
UID:16705-1543240800-1543251600@iesp.uerj.br
SUMMARY:Seminário: Diogo Cunha
DESCRIPTION:[:pb]O Ciclo de Palestras IESP-UERJ 2018.2 apresenta Diogo Cunha com a palestra  “Os intelectuais conservadores entre cultura e política: a Academia Brasileira de Letras durante o regime militar (1964-1979)”. [:]
URL:https://iesp.uerj.br/evento/seminario-diogo-cunha-2/
LOCATION:Defesa: Alexsander Matheus Araújo Costa\, RJ
END:VEVENT
BEGIN:VEVENT
DTSTART;TZID=America/Sao_Paulo:20181129T100000
DTEND;TZID=America/Sao_Paulo:20181129T170000
DTSTAMP:20260421T184106
CREATED:20180829T200538Z
LAST-MODIFIED:20180829T200538Z
UID:16420-1543485600-1543510800@iesp.uerj.br
SUMMARY:Seminário: I Encontro Fluminense de Núcleos e Pesquisadoras de Gênero e Feminismos
DESCRIPTION:[:pb]O Ciclo de Palestras IESP-UERJ convida a todos para o I Encontro Fluminense de Núcleos e Pesquisadoras de Gênero e Feminismos:Dias 29 e 30 de novembro: \nDia 29/11 – IFCS \nDia 30/11 – IESP[:]
URL:https://iesp.uerj.br/evento/seminario-i-encontro-fluminense-de-nucleos-e-pesquisadoras-de-genero-e-feminismos/
LOCATION:Defesa: Alexsander Matheus Araújo Costa\, RJ
END:VEVENT
BEGIN:VEVENT
DTSTART;TZID=America/Sao_Paulo:20181129T100000
DTEND;TZID=America/Sao_Paulo:20181129T170000
DTSTAMP:20260421T184106
CREATED:20180829T200538Z
LAST-MODIFIED:20180829T200538Z
UID:16706-1543485600-1543510800@iesp.uerj.br
SUMMARY:Seminário: I Encontro Fluminense de Núcleos e Pesquisadoras de Gênero e Feminismos
DESCRIPTION:[:pb]O Ciclo de Palestras IESP-UERJ convida a todos para o I Encontro Fluminense de Núcleos e Pesquisadoras de Gênero e Feminismos:Dias 29 e 30 de novembro: \nDia 29/11 – IFCS \nDia 30/11 – IESP[:]
URL:https://iesp.uerj.br/evento/seminario-i-encontro-fluminense-de-nucleos-e-pesquisadoras-de-genero-e-feminismos-2/
LOCATION:Defesa: Alexsander Matheus Araújo Costa\, RJ
END:VEVENT
BEGIN:VEVENT
DTSTART;TZID=America/Sao_Paulo:20181203T090000
DTEND;TZID=America/Sao_Paulo:20181203T120000
DTSTAMP:20260421T184106
CREATED:20181210T173717Z
LAST-MODIFIED:20181210T173717Z
UID:16434-1543827600-1543838400@iesp.uerj.br
SUMMARY:Seminário de Tese: Geni Cecília Figueiredo do Carmo Mello
DESCRIPTION:[:pb] \nO Programa de Pós-Graduação em Ciência Política convida \npara: \nDefesa de Tese \nExplicando a dinâmica das redes sociais de\nassociações agroecológicas: capital social e \ndesenho institucional \nde \nGeni Cecília Figueiredo do Carmo Mello \n  \nBanca Examinadora: \nProf. Dr. Renato Raul Boschi (Orientador)\nProf. Dr. Fabiano Guilherme Mendes Santos (IESP)\nProf. Dr. José Eduardo Leon Szwako (IESP)\nProf. Dr. Carlos Eduardo Santos Pinho (INCT/UFRJ)\nProf. Dr. Flavio Alfredo Gaitán (UNILA) \nDia 03 de Dezembro de 2018\, segunda-feira\, às 9:00 horas\nRua da Matriz\, 82 – Botafogo[:]
URL:https://iesp.uerj.br/evento/seminario-de-tese-geni-cecilia-figueiredo-do-carmo-mello/
LOCATION:Defesa: Alexsander Matheus Araújo Costa\, RJ
END:VEVENT
BEGIN:VEVENT
DTSTART;TZID=America/Sao_Paulo:20181203T090000
DTEND;TZID=America/Sao_Paulo:20181203T120000
DTSTAMP:20260421T184106
CREATED:20181210T173717Z
LAST-MODIFIED:20181210T173717Z
UID:16720-1543827600-1543838400@iesp.uerj.br
SUMMARY:Seminário de Tese: Geni Cecília Figueiredo do Carmo Mello
DESCRIPTION:[:pb] \nO Programa de Pós-Graduação em Ciência Política convida \npara: \nDefesa de Tese \nExplicando a dinâmica das redes sociais de\nassociações agroecológicas: capital social e \ndesenho institucional \nde \nGeni Cecília Figueiredo do Carmo Mello \n  \nBanca Examinadora: \nProf. Dr. Renato Raul Boschi (Orientador)\nProf. Dr. Fabiano Guilherme Mendes Santos (IESP)\nProf. Dr. José Eduardo Leon Szwako (IESP)\nProf. Dr. Carlos Eduardo Santos Pinho (INCT/UFRJ)\nProf. Dr. Flavio Alfredo Gaitán (UNILA) \nDia 03 de Dezembro de 2018\, segunda-feira\, às 9:00 horas\nRua da Matriz\, 82 – Botafogo[:]
URL:https://iesp.uerj.br/evento/seminario-de-tese-geni-cecilia-figueiredo-do-carmo-mello-2/
LOCATION:Defesa: Alexsander Matheus Araújo Costa\, RJ
END:VEVENT
BEGIN:VEVENT
DTSTART;TZID=America/Sao_Paulo:20181207T133000
DTEND;TZID=America/Sao_Paulo:20181207T170000
DTSTAMP:20260421T184106
CREATED:20181029T220558Z
LAST-MODIFIED:20181029T220558Z
UID:16431-1544189400-1544202000@iesp.uerj.br
SUMMARY:Defesa de Tese: Renata Albuquerque Ribeiro
DESCRIPTION:[:pb] \nO Programa de Pós-Graduação em Ciência Política convida\npara:\nDefesa de Tese\nCooperação SUL-SUL em Biocombustíveis:\ninteresses e contradições da Política Externa\nBrasileira em Moçambique (2003-2015)\nde\nRenata Albuquerque Ribeiro \n  \nBanca Examinadora: \nProf. Dr. Carlos Roberto Sanchez Milani (Orientador)\nProf.ª Dr.ª Maria Regina Soares de Lima (IESP)\nProf. Dr. Breno Marques Bringel (IESP)\nProf.ª Dr.ª Melissa Elisabeth Pomeroy (Articulação SUL)\nProf. Dr. Igor Fuser (UFABC) \nDia 07 de Dezembro de 2018\, sexta-feira\, às 13:30 horas \nRua da Matriz\, 82 – Botafogo[:]
URL:https://iesp.uerj.br/evento/defesa-de-tese-renata-albuquerque-ribeiro/
LOCATION:Defesa: Alexsander Matheus Araújo Costa\, RJ
END:VEVENT
BEGIN:VEVENT
DTSTART;TZID=America/Sao_Paulo:20181207T133000
DTEND;TZID=America/Sao_Paulo:20181207T170000
DTSTAMP:20260421T184106
CREATED:20181029T220558Z
LAST-MODIFIED:20181029T220558Z
UID:16717-1544189400-1544202000@iesp.uerj.br
SUMMARY:Defesa de Tese: Renata Albuquerque Ribeiro
DESCRIPTION:[:pb] \nO Programa de Pós-Graduação em Ciência Política convida\npara:\nDefesa de Tese\nCooperação SUL-SUL em Biocombustíveis:\ninteresses e contradições da Política Externa\nBrasileira em Moçambique (2003-2015)\nde\nRenata Albuquerque Ribeiro \n  \nBanca Examinadora: \nProf. Dr. Carlos Roberto Sanchez Milani (Orientador)\nProf.ª Dr.ª Maria Regina Soares de Lima (IESP)\nProf. Dr. Breno Marques Bringel (IESP)\nProf.ª Dr.ª Melissa Elisabeth Pomeroy (Articulação SUL)\nProf. Dr. Igor Fuser (UFABC) \nDia 07 de Dezembro de 2018\, sexta-feira\, às 13:30 horas \nRua da Matriz\, 82 – Botafogo[:]
URL:https://iesp.uerj.br/evento/defesa-de-tese-renata-albuquerque-ribeiro-2/
LOCATION:Defesa: Alexsander Matheus Araújo Costa\, RJ
END:VEVENT
BEGIN:VEVENT
DTSTART;TZID=America/Sao_Paulo:20181212T140000
DTEND;TZID=America/Sao_Paulo:20181212T170000
DTSTAMP:20260421T184106
CREATED:20180829T201054Z
LAST-MODIFIED:20180829T201054Z
UID:16421-1544623200-1544634000@iesp.uerj.br
SUMMARY:Seminário: Ettore Recchi
DESCRIPTION:[:pb]O Ciclo de Palestras IESP-UERJ 2018.2 apresenta Ettore Recchi  com a palestras “Convergences and Divergences in European societes: A Multidimensional Exploration”[:en]The Lecture Series IESP-UERJ 2018.2 presents Ettore Recchi with the lectures “Convergences and Divergences in European Societes: A Multidimensional Exploration”[:es]El Ciclo de Conferencias IESP-UERJ 2018.2 presenta Ettore Recchi con las conferencias “Convergences and Divergences in European Societas: La Multidimensional Exploración”[:]
URL:https://iesp.uerj.br/evento/seminario-ettore-recchi/
LOCATION:Defesa: Alexsander Matheus Araújo Costa\, RJ
END:VEVENT
BEGIN:VEVENT
DTSTART;TZID=America/Sao_Paulo:20181212T140000
DTEND;TZID=America/Sao_Paulo:20181212T170000
DTSTAMP:20260421T184106
CREATED:20180829T201054Z
LAST-MODIFIED:20180829T201054Z
UID:16707-1544623200-1544634000@iesp.uerj.br
SUMMARY:Seminário: Ettore Recchi
DESCRIPTION:[:pb]O Ciclo de Palestras IESP-UERJ 2018.2 apresenta Ettore Recchi  com a palestras “Convergences and Divergences in European societes: A Multidimensional Exploration”[:en]The Lecture Series IESP-UERJ 2018.2 presents Ettore Recchi with the lectures “Convergences and Divergences in European Societes: A Multidimensional Exploration”[:es]El Ciclo de Conferencias IESP-UERJ 2018.2 presenta Ettore Recchi con las conferencias “Convergences and Divergences in European Societas: La Multidimensional Exploración”[:]
URL:https://iesp.uerj.br/evento/seminario-ettore-recchi-2/
LOCATION:Defesa: Alexsander Matheus Araújo Costa\, RJ
END:VEVENT
BEGIN:VEVENT
DTSTART;TZID=America/Sao_Paulo:20181214T140000
DTEND;TZID=America/Sao_Paulo:20181214T170000
DTSTAMP:20260421T184106
CREATED:20181113T162725Z
LAST-MODIFIED:20181113T162725Z
UID:16432-1544796000-1544806800@iesp.uerj.br
SUMMARY:Defesa de Tese: Jefferson Belarmino de Freitas
DESCRIPTION:[:pb] \nO Programa de Pós-Graduação em Sociologia convida para:\nDefesa de Tese\nEm casas distantes de casa. Desigualdades e\nmelhoria de vida entre as brasileiras do ramo da\nlimpeza doméstica na região de São Francisco\,\nCalifórnia (EUA)\nde\nJefferson Belarmino de Freitas \n  \nBanca Examinadora: \nProf. Dr. Adalberto Moreira Cardoso (Orientador)\nProf.Dr.LuizAugustodeSouzaCarneirodeCampos(IESP)\nProf.ª Dr.ª Clara Maria de Oliveira Araújo (UERJ)\nProf. Dr. Helion Póvoa Neto (UFRJ)\nProf. Dr. Bila Sorj (UFRJ) \nDia 14 de Dezembro de 2018\, sexta-feira\, às 14:00 horas \nRua da Matriz\, 82 – Botafogo[:]
URL:https://iesp.uerj.br/evento/defesa-de-tese-jefferson-belarmino-de-freitas/
LOCATION:Defesa: Alexsander Matheus Araújo Costa\, RJ
END:VEVENT
BEGIN:VEVENT
DTSTART;TZID=America/Sao_Paulo:20181214T140000
DTEND;TZID=America/Sao_Paulo:20181214T170000
DTSTAMP:20260421T184106
CREATED:20181113T162725Z
LAST-MODIFIED:20181113T162725Z
UID:16718-1544796000-1544806800@iesp.uerj.br
SUMMARY:Defesa de Tese: Jefferson Belarmino de Freitas
DESCRIPTION:[:pb] \nO Programa de Pós-Graduação em Sociologia convida para:\nDefesa de Tese\nEm casas distantes de casa. Desigualdades e\nmelhoria de vida entre as brasileiras do ramo da\nlimpeza doméstica na região de São Francisco\,\nCalifórnia (EUA)\nde\nJefferson Belarmino de Freitas \n  \nBanca Examinadora: \nProf. Dr. Adalberto Moreira Cardoso (Orientador)\nProf.Dr.LuizAugustodeSouzaCarneirodeCampos(IESP)\nProf.ª Dr.ª Clara Maria de Oliveira Araújo (UERJ)\nProf. Dr. Helion Póvoa Neto (UFRJ)\nProf. Dr. Bila Sorj (UFRJ) \nDia 14 de Dezembro de 2018\, sexta-feira\, às 14:00 horas \nRua da Matriz\, 82 – Botafogo[:]
URL:https://iesp.uerj.br/evento/defesa-de-tese-jefferson-belarmino-de-freitas-2/
LOCATION:Defesa: Alexsander Matheus Araújo Costa\, RJ
END:VEVENT
BEGIN:VEVENT
DTSTART;TZID=America/Sao_Paulo:20181217T093000
DTEND;TZID=America/Sao_Paulo:20181217T130000
DTSTAMP:20260421T184106
CREATED:20181210T173931Z
LAST-MODIFIED:20181210T173931Z
UID:16435-1545039000-1545051600@iesp.uerj.br
SUMMARY:Defesa de Tese: Juliana Ramos Luiz
DESCRIPTION:[:pb] \nDefesa de Tese\nAs “linhas vermelhas” para o desenvolvimento rural: a internacionalização da agenda \nda agricultura familiar e seus impactos na governança global\nde\nJuliana Ramos Luiz \n  \nBanca Examinadora: \nProf. Dr. Carlos Roberto Sanchez Milani (Orientador)\nProf.ª Dr.ª Miriam Gomes Saraiva (UERJ)\nProf. Dr. Paulo Afonso Monteiro Velasco Júnior (UERJ)\nProf.ª Dr.ª Leonilde Servolo de Medeiros (UFRRJ)\nProf.ª Dr.ª Lídia Vilela Cabral (IDS – Univ. of Sussex) \nDia 17 de Dezembro de 2018\, segunda-feira\, às 9:30 horas \nRua da Matriz\, 82 – Botafogo[:]
URL:https://iesp.uerj.br/evento/defesa-de-tese-juliana-ramos-luiz/
LOCATION:Defesa: Alexsander Matheus Araújo Costa\, RJ
END:VEVENT
BEGIN:VEVENT
DTSTART;TZID=America/Sao_Paulo:20181217T093000
DTEND;TZID=America/Sao_Paulo:20181217T130000
DTSTAMP:20260421T184106
CREATED:20181210T173931Z
LAST-MODIFIED:20181210T173931Z
UID:16721-1545039000-1545051600@iesp.uerj.br
SUMMARY:Defesa de Tese: Juliana Ramos Luiz
DESCRIPTION:[:pb] \nDefesa de Tese\nAs “linhas vermelhas” para o desenvolvimento rural: a internacionalização da agenda \nda agricultura familiar e seus impactos na governança global\nde\nJuliana Ramos Luiz \n  \nBanca Examinadora: \nProf. Dr. Carlos Roberto Sanchez Milani (Orientador)\nProf.ª Dr.ª Miriam Gomes Saraiva (UERJ)\nProf. Dr. Paulo Afonso Monteiro Velasco Júnior (UERJ)\nProf.ª Dr.ª Leonilde Servolo de Medeiros (UFRRJ)\nProf.ª Dr.ª Lídia Vilela Cabral (IDS – Univ. of Sussex) \nDia 17 de Dezembro de 2018\, segunda-feira\, às 9:30 horas \nRua da Matriz\, 82 – Botafogo[:]
URL:https://iesp.uerj.br/evento/defesa-de-tese-juliana-ramos-luiz-2/
LOCATION:Defesa: Alexsander Matheus Araújo Costa\, RJ
END:VEVENT
BEGIN:VEVENT
DTSTART;TZID=America/Sao_Paulo:20190129T010000
DTEND;TZID=America/Sao_Paulo:20190201T005959
DTSTAMP:20260421T184106
CREATED:20181220T190736Z
LAST-MODIFIED:20181220T190736Z
UID:16436-1548723600-1548982799@iesp.uerj.br
SUMMARY:Sociologia Hoje: temas e debates
DESCRIPTION:[:pb]Para a programação completa em PDF\, clique aqui. \n[:]
URL:https://iesp.uerj.br/evento/sociologia-hoje-temas-e-debates/
LOCATION:Defesa: Alexsander Matheus Araújo Costa\, RJ
END:VEVENT
BEGIN:VEVENT
DTSTART;TZID=America/Sao_Paulo:20190129T010000
DTEND;TZID=America/Sao_Paulo:20190201T005959
DTSTAMP:20260421T184106
CREATED:20181220T190736Z
LAST-MODIFIED:20181220T190736Z
UID:16722-1548723600-1548982799@iesp.uerj.br
SUMMARY:Sociologia Hoje: temas e debates
DESCRIPTION:[:pb]Para a programação completa em PDF\, clique aqui. \n[:]
URL:https://iesp.uerj.br/evento/sociologia-hoje-temas-e-debates-2/
LOCATION:Defesa: Alexsander Matheus Araújo Costa\, RJ
END:VEVENT
BEGIN:VEVENT
DTSTART;TZID=America/Sao_Paulo:20190311T160000
DTEND;TZID=America/Sao_Paulo:20190311T190000
DTSTAMP:20260421T184106
CREATED:20190227T184919Z
LAST-MODIFIED:20190227T184919Z
UID:5609-1552320000-1552330800@iesp.uerj.br
SUMMARY:Seminário: Thamy Pogrebinschi
DESCRIPTION:[:pb]O IESP- UERJ convida todas e todos para a palestra “Participação e Democracia na América Latina: Ainda há Espaço para Inovação?” de Thamy Pogrebinschi\, do WZB/Berlin. \n  \nMuita pesquisa se produziu nos últimos anos sobre instituições participativas e inovações democráticas na América Latina. A maior parte dessa produção\, contudo\, consiste em estudos de casos com foco em poucos países da região. São raros os estudos comparados sobre este tema\, limitando o conhecimento sobre o potencial e os limites dos mecanismos participativos\, assim como sobre a possibilidade de impactarem as políticas públicas e a democracia.\nO projeto LATINNO (Inovações para a Democracia na América Latina) mapeou e analisou mais de 2.500 inovações democráticas em 18 países\, criando e tornando público o mais abrangente banco de dados sobre participação social e inovações institucionais na região. Esta palestra visa apresentar o LATINNO\, explicar seu marco teórico e analítico\, discutir alguns de seus principais resultados\, além de debater o futuro da participação social na América Latina. \n  \nThamy Pogrebinschi é pesquisadora senior do Centro de Ciências Sociais de Berlim (WZB)\, docente da Escola de Doutorado em Ciências Sociais da Universidade Humboldt em Berlin (BGSS-HU) e professora colaboradora do IESP\, onde trabalhou até 2011. No WZB em Berlin\, ela coordena o projeto LATINNO (Inovações para a Democracia na América Latina)\, que construiu o mais abrangente banco de dados sobre instituições participativas na América Latina. Os resultados de suas pesquisas recentes sobre democracia e participação no Brasil e na América Latina foram publicados em mais de vinte capítulos de livros e artigos em periódicos internacionais\, entre eles Comparative Politics e European Journal of Political Research.[:en]The 2019.1 IESP-UERJ Lecture Series presents Thamy Pogrebinschi with the lecture “Instituições Participativas na América Latina: Uma Comparação de 18 Países“.[:es]El Ciclo de Conferencias IESP-UERJ 2019.1 presenta Thamy Pogrebinschi con la conferencia “Instituições Participativas na América Latina: Uma Comparação de 18 Países“.[:]
URL:https://iesp.uerj.br/evento/seminario-thamy-pogrebinschi/
LOCATION:Defesa: Alexsander Matheus Araújo Costa\, RJ
CATEGORIES:Palestra
END:VEVENT
BEGIN:VEVENT
DTSTART;TZID=America/Sao_Paulo:20190311T160000
DTEND;TZID=America/Sao_Paulo:20190311T190000
DTSTAMP:20260421T184106
CREATED:20190227T184919Z
LAST-MODIFIED:20190227T184919Z
UID:16727-1552320000-1552330800@iesp.uerj.br
SUMMARY:Seminário: Thamy Pogrebinschi
DESCRIPTION:[:pb]O IESP- UERJ convida todas e todos para a palestra “Participação e Democracia na América Latina: Ainda há Espaço para Inovação?” de Thamy Pogrebinschi\, do WZB/Berlin. \n  \nMuita pesquisa se produziu nos últimos anos sobre instituições participativas e inovações democráticas na América Latina. A maior parte dessa produção\, contudo\, consiste em estudos de casos com foco em poucos países da região. São raros os estudos comparados sobre este tema\, limitando o conhecimento sobre o potencial e os limites dos mecanismos participativos\, assim como sobre a possibilidade de impactarem as políticas públicas e a democracia.\nO projeto LATINNO (Inovações para a Democracia na América Latina) mapeou e analisou mais de 2.500 inovações democráticas em 18 países\, criando e tornando público o mais abrangente banco de dados sobre participação social e inovações institucionais na região. Esta palestra visa apresentar o LATINNO\, explicar seu marco teórico e analítico\, discutir alguns de seus principais resultados\, além de debater o futuro da participação social na América Latina. \n  \nThamy Pogrebinschi é pesquisadora senior do Centro de Ciências Sociais de Berlim (WZB)\, docente da Escola de Doutorado em Ciências Sociais da Universidade Humboldt em Berlin (BGSS-HU) e professora colaboradora do IESP\, onde trabalhou até 2011. No WZB em Berlin\, ela coordena o projeto LATINNO (Inovações para a Democracia na América Latina)\, que construiu o mais abrangente banco de dados sobre instituições participativas na América Latina. Os resultados de suas pesquisas recentes sobre democracia e participação no Brasil e na América Latina foram publicados em mais de vinte capítulos de livros e artigos em periódicos internacionais\, entre eles Comparative Politics e European Journal of Political Research.[:en]The 2019.1 IESP-UERJ Lecture Series presents Thamy Pogrebinschi with the lecture “Instituições Participativas na América Latina: Uma Comparação de 18 Países“.[:es]El Ciclo de Conferencias IESP-UERJ 2019.1 presenta Thamy Pogrebinschi con la conferencia “Instituições Participativas na América Latina: Uma Comparação de 18 Países“.[:]
URL:https://iesp.uerj.br/evento/seminario-thamy-pogrebinschi-2/
LOCATION:Defesa: Alexsander Matheus Araújo Costa\, RJ
CATEGORIES:Palestra
END:VEVENT
END:VCALENDAR