BEGIN:VCALENDAR
VERSION:2.0
PRODID:-//IESP - ECPv6.0.7.1//NONSGML v1.0//EN
CALSCALE:GREGORIAN
METHOD:PUBLISH
X-WR-CALNAME:IESP
X-ORIGINAL-URL:https://iesp.uerj.br
X-WR-CALDESC:Eventos para IESP
REFRESH-INTERVAL;VALUE=DURATION:PT1H
X-Robots-Tag:noindex
X-PUBLISHED-TTL:PT1H
BEGIN:VTIMEZONE
TZID:America/Sao_Paulo
BEGIN:STANDARD
TZOFFSETFROM:-0300
TZOFFSETTO:-0300
TZNAME:-03
DTSTART:20250101T000000
END:STANDARD
END:VTIMEZONE
BEGIN:VEVENT
DTSTART;TZID=America/Sao_Paulo:20251215T140000
DTEND;TZID=America/Sao_Paulo:20251215T170000
DTSTAMP:20260422T023414
CREATED:20251114T194211Z
LAST-MODIFIED:20251128T130744Z
UID:162628-1765807200-1765818000@iesp.uerj.br
SUMMARY:Defesa: Paulo Jacob Inguane
DESCRIPTION:O Programa de Pós-Graduação em Ciência Política\nconvida para:\n  \nDefesa de Tese\n  \nDa disputa das armas à disputa de competência:\nestudo comparado sobre a integridade dos\nprocessos eleitorais moçambicanos\nna eleição autárquica e geral\n2013–2024\n  \nde\nPaulo Jacob Inguane\n  \nBanca Examinadora:\nProf. Dr. Bruno Marques Schaefer (Orientador)\nProf. Dr. Fernando Henrique Eduardo Guarnieri (IESP-UERJ)\nProf. Dr. Fernando Meireles (IESP-UERJ)\nProf.ª Dr.ª Gabriela da Silva Tarouco (UFPE)\nProf. Dr. José Jaime Macuane (UEM)\n  \nDia 15 de Dezembro de 2025\, segunda-feira\, às 14:00 horas\nDefesa remota
URL:https://iesp.uerj.br/evento/defesa-paulo-jacob-inguane/
LOCATION:Defesa: Alexsander Matheus Araújo Costa\, RJ
CATEGORIES:Tese
END:VEVENT
BEGIN:VEVENT
DTSTART;TZID=America/Sao_Paulo:20251215T140000
DTEND;TZID=America/Sao_Paulo:20251215T180000
DTSTAMP:20260422T023414
CREATED:20250711T180454Z
LAST-MODIFIED:20251114T193556Z
UID:161017-1765807200-1765821600@iesp.uerj.br
SUMMARY:Defesa: Rodrigo Cerqueira Agueda
DESCRIPTION:O Programa de Pós-Graduação em Sociologia\nconvida para:\n  \nDefesa de Tese\n  \nFazendo cidade de dentro dos muros:\na política dos condomínios da Barra da Tijuca\n  \nde\nRodrigo Cerqueira Agueda\n  \nBanca Examinadora:\nProf.ª Dr.ª Marcella Carvalho de Araújo Silva (Orientadora)\nProf.ª Dr.ª Mariana Cavalcanti Rocha dos Santos (IESP-UERJ)\nProf.ª Dr.ª Eugênia de Souza Mello Guimarães Motta (IESP-UERJ)\nProf.ª Dr.ª Júlia Galli O’Donnell (UFRJ)\nProf.ª Dr.ª Karina Kuschnir (UFRJ)\n  \nDia 15 de Dezembro de 2025\, sexta-feira\, às 14:00 horas\nDefesa remota
URL:https://iesp.uerj.br/evento/defesa-rodrigo-cerqueira-agueda/
LOCATION:IESP-UERJ\, Rua da Matriz\, 82 - Botafogo\, Rio de Janeiro\, RJ\, Brasil
CATEGORIES:Tese
END:VEVENT
BEGIN:VEVENT
DTSTART;TZID=America/Sao_Paulo:20251215T140000
DTEND;TZID=America/Sao_Paulo:20251215T180000
DTSTAMP:20260422T023414
CREATED:20251126T123828Z
LAST-MODIFIED:20251126T123828Z
UID:162718-1765807200-1765821600@iesp.uerj.br
SUMMARY:Defesa: Levi Salomão Matsinhe
DESCRIPTION:O Programa de Pós-Graduação em Ciência Política\nconvida para:\n  \n\nDefesa de Tese\n\n  \nVisões e papel da imprensa\nna política externa de Moçambique\nde 1975 a 2005\n  \n\nde\nLevi Salomão Matsinhe\n  \nBanca Examinadora:\nProf.ª Dr.ª Leticia de Abreu Pinheiro (Orientadora)\nProf. Dr. Carlos Roberto Sanchez Milani (IESP-UERJ)\nProf.ª Dr.ª Fernanda Cristina Nanci Izidro Gonçalves (UERJ)\nProf.ª Dr.ª Eduarda Lattanzi Menezes (OIMC/IESP-UERJ)\nProf. Dr. Diogo Ives de Quadros (OPSA/IESP-UERJ)\n \n  \nDia 15 de Dezembro de 2025\, segunda-feira\, às 14:00 horas\nSala Olavo Brasil; IESP-UERJ: Rua da Matriz\, 82 – Botafogo
URL:https://iesp.uerj.br/evento/defesa-levi-salomao-matsinhe/
LOCATION:IESP-UERJ\, Rua da Matriz\, 82 - Botafogo\, Rio de Janeiro\, RJ\, Brasil
CATEGORIES:Tese
END:VEVENT
BEGIN:VEVENT
DTSTART;TZID=America/Sao_Paulo:20251215T140000
DTEND;TZID=America/Sao_Paulo:20251215T180000
DTSTAMP:20260422T023414
CREATED:20251128T130819Z
LAST-MODIFIED:20251128T130819Z
UID:162739-1765807200-1765821600@iesp.uerj.br
SUMMARY:Defesa: Matheus Vitorino Machado
DESCRIPTION:O Programa de Pós-Graduação em Ciência Política\nconvida para:\n  \nDefesa de Tese\n  \nA política da contra-memória militar:\nDo revisionismo à reconfiguração das políticas\nde memória\, verdade e justiça\n  \n\nde\nMatheus Vitorino Machado\n  \nBanca Examinadora:\nProf.ª Dr.ª Cristina Buarque de Hollanda (Orientadora)\nProf.ª Dr.ª San Romanelli Assumpção (IESP-UERJ)\nProf. Dr. José Eduardo Leon Szwako (IESP-UERJ)\nProf. Dr. Jorge Gomes de Souza Chaloub (UFRJ)\nProf. Dr. Fernando Perlatto Bom Jardim (UFJF)\n  \nDia 15 de Dezembro de 2025\, segunda-feira\, às 14:00 horas\nSala Carlos Hasenbalg; IESP-UERJ: Rua da Matriz\, 82 – Botafogo
URL:https://iesp.uerj.br/evento/defesa-matheus-vitorino-machado/
LOCATION:IESP-UERJ\, Rua da Matriz\, 82 - Botafogo\, Rio de Janeiro\, RJ\, Brasil
CATEGORIES:Tese
END:VEVENT
BEGIN:VEVENT
DTSTART;TZID=America/Sao_Paulo:20251218T090000
DTEND;TZID=America/Sao_Paulo:20251218T130000
DTSTAMP:20260422T023414
CREATED:20251114T193206Z
LAST-MODIFIED:20251114T193508Z
UID:162624-1766048400-1766062800@iesp.uerj.br
SUMMARY:Defesa: Iná Odara Cholodoski Monteiro Torres
DESCRIPTION:O Programa de Pós-Graduação em Sociologia\nconvida para:\n  \nDefesa de Tese\n  \nEntre encruzilhadas da cidade e\ncorredores da universidade:\na experiência universitária de jovens periféricos\nno ensino superior público\n  \nde\nIná Odara Cholodoski Monteiro Torres\n  \nBanca Examinadora:\nProf. Dr. Carlos Antonio Costa Ribeiro Filho (Orientador)\nProf.ª Dr.ª Mariana Cavalcanti Rocha dos Santos (Coorientadora)\nProf.ª Dr.ª Palloma Valle Menezes (IESP-UERJ)\nProf. Dr. Frank Andrew Davies (UERJ)\nProf.ª Dr.ª Raquel Guilherme de Lima (UFF)\nProf. Dr. Wellington da Silva Conceição (UFMA)\n  \nDia 18 de Dezembro de 2025\, quinta-feira\, às 09:00 horas\nIESP-UERJ; Sala Olavo Brasil: Rua da Matriz\, 82 – Botafogo
URL:https://iesp.uerj.br/evento/defesa-ina-odara-cholodoski-monteiro-torres/
LOCATION:IESP-UERJ\, Rua da Matriz\, 82 - Botafogo\, Rio de Janeiro\, RJ\, Brasil
CATEGORIES:Tese
END:VEVENT
END:VCALENDAR