BEGIN:VCALENDAR
VERSION:2.0
PRODID:-//IESP - ECPv6.0.7.1//NONSGML v1.0//EN
CALSCALE:GREGORIAN
METHOD:PUBLISH
X-WR-CALNAME:IESP
X-ORIGINAL-URL:https://iesp.uerj.br
X-WR-CALDESC:Eventos para IESP
REFRESH-INTERVAL;VALUE=DURATION:PT1H
X-Robots-Tag:noindex
X-PUBLISHED-TTL:PT1H
BEGIN:VTIMEZONE
TZID:America/Sao_Paulo
BEGIN:STANDARD
TZOFFSETFROM:-0300
TZOFFSETTO:-0300
TZNAME:-03
DTSTART:20250101T000000
END:STANDARD
END:VTIMEZONE
BEGIN:VEVENT
DTSTART;TZID=America/Sao_Paulo:20251114T140000
DTEND;TZID=America/Sao_Paulo:20251114T180000
DTSTAMP:20260425T190225
CREATED:20251023T174012Z
LAST-MODIFIED:20251023T174012Z
UID:162250-1763128800-1763143200@iesp.uerj.br
SUMMARY:Defesa: Luana Maria de Matos Calzavara
DESCRIPTION:O Programa de Pós-Graduação em Ciência Política\nconvida para:\n  \nDefesa de Tese\n  \nFragmentação de dentro para fora:\nestratégias políticas e dinâmica do sistema partidário\n  \nde\nLuana Maria de Matos Calzavara\n  \nBanca Examinadora:\nProf. Dr. Fernando Henrique Eduardo Guarnieri (Orientador)\nProf. Dr. Fabiano Guilherme Mendes Santos (IESP-UERJ)\nProf. Dr. Bruno Marques Schaefer (IESP-UERJ)\nProf. Dr. Jairo Cesar Marconi Nicolau (FGV)\nProf. Dr. José Antonio Cheibub (University of Pittsburgh)\n  \nDia 14 de Novembro de 2025\, sexta-feira\, às 14:00 horas\nSala Maria Regina Soares de Lima; IESP-UERJ: Rua da Matriz\, 82 – Botafogo
URL:https://iesp.uerj.br/evento/defesa-luana-maria-de-matos-calzavara/
LOCATION:IESP-UERJ\, Rua da Matriz\, 82 - Botafogo\, Rio de Janeiro\, RJ\, Brasil
CATEGORIES:Tese
END:VEVENT
END:VCALENDAR