BEGIN:VCALENDAR
VERSION:2.0
PRODID:-//IESP - ECPv6.0.7.1//NONSGML v1.0//EN
CALSCALE:GREGORIAN
METHOD:PUBLISH
X-ORIGINAL-URL:https://iesp.uerj.br
X-WR-CALDESC:Eventos para IESP
REFRESH-INTERVAL;VALUE=DURATION:PT1H
X-Robots-Tag:noindex
X-PUBLISHED-TTL:PT1H
BEGIN:VTIMEZONE
TZID:America/Sao_Paulo
BEGIN:STANDARD
TZOFFSETFROM:-0300
TZOFFSETTO:-0300
TZNAME:-03
DTSTART:20240101T000000
END:STANDARD
END:VTIMEZONE
BEGIN:VEVENT
DTSTART;TZID=America/Sao_Paulo:20241203T100000
DTEND;TZID=America/Sao_Paulo:20241203T120000
DTSTAMP:20260420T235516
CREATED:20241128T190451Z
LAST-MODIFIED:20241129T123122Z
UID:158400-1733220000-1733227200@iesp.uerj.br
SUMMARY:Beemote convida: Gennaro Imbriano (Universidade de Bolonha)
DESCRIPTION:O Grupo de Estudos e Pesquisa em Teoria Política e Pensamento Político Brasileiro (Beemote) recebe Gennaro Imbriano (DAR – Universidade de Bolonha) para ministrar sua palestra Political theory and conceptual history in the work of Reinhart Koselleck\, presencialmente na Sala Olavo Brasil. A atividade será oferecida em inglês\, sem tradução. \n \nDoutor pelo Departamento de Filosofia da Universidade de Macerata (Itália) e pelo Departamento de História da Universidade de Bochum  (Alemanha)\, Gennaro Imbriano é professor associado ao Departamento de Artes da Universidade de Bolonha (Itália). Entre outros títulos\, é autor de Marx e il conflitto: Critica della politica e pensiero della rivoluzione (DeriveApprodi\, 2020)\, Il lavoro e le cose: Saggio su Heidegger e l’economia (Quodlibet\, 2019) e Der Begriff der Politik Die Moderne als Krisenzeit im Werk von Reinhart Koselleck (Campus Verlag\, 2018). Seus interesses de pesquisa se concentram na História da Filosofia Contemporânea\, com ênfase em filosofia alemã e história conceitual. \n 
URL:https://iesp.uerj.br/evento/beemote-convida-gennaro-imbriano-universidade-de-bolonha/
LOCATION:IESP-UERJ\, Rua da Matriz\, 82 - Botafogo\, Rio de Janeiro\, RJ\, Brasil
CATEGORIES:Palestra
END:VEVENT
END:VCALENDAR