BEGIN:VCALENDAR
VERSION:2.0
PRODID:-//IESP - ECPv6.0.7.1//NONSGML v1.0//EN
CALSCALE:GREGORIAN
METHOD:PUBLISH
X-WR-CALNAME:IESP
X-ORIGINAL-URL:https://iesp.uerj.br
X-WR-CALDESC:Eventos para IESP
REFRESH-INTERVAL;VALUE=DURATION:PT1H
X-Robots-Tag:noindex
X-PUBLISHED-TTL:PT1H
BEGIN:VTIMEZONE
TZID:America/Sao_Paulo
BEGIN:STANDARD
TZOFFSETFROM:-0300
TZOFFSETTO:-0300
TZNAME:-03
DTSTART:20240101T000000
END:STANDARD
END:VTIMEZONE
BEGIN:VEVENT
DTSTART;TZID=America/Sao_Paulo:20241104T140000
DTEND;TZID=America/Sao_Paulo:20241104T170000
DTSTAMP:20260424T095626
CREATED:20241030T130551Z
LAST-MODIFIED:20241030T130551Z
UID:157918-1730728800-1730739600@iesp.uerj.br
SUMMARY:IX Seminário Discente: Forças Armadas e Democracia no Brasil
DESCRIPTION:O Seminário Discente do IESP-UERJ convida para a mesa de abertura de sua nona edição: Forças Armadas e Democracia no Brasil\, com a participação de Ivan Henrique de Mattos e Silva (CCCS-Unifap)\, Frederico Carlos de Sá Costa (PPGSP-UENF)\, do doutorando do PPGCP Victor Toscano e do Prof. Pedro H. Villas Bôas Castelo Branco\, na Sala Olavo Brasil. \n  \n\nAssista também online em nosso canal no YouTube! \n  \nEntre os dias 04 e 08 de novembro de 2024\, com o título Impactos no Futuro: Movimentos Climáticos\, Urbanos e Políticos\, o IX Seminário Discente do IESP-UERJ oferecerá ainda 12 sessões de Grupos de Trabalho\, 8 minicursos e seis mesas de discussão\, todas presencialmente na sede do Instituto e abertas ao público interessado em geral. A programação completa e todas as notícias e documentos relacionados ao evento podem ser consultados através do perfil oficial do Seminário Discente do IESP-UERJ no Instagram.
URL:https://iesp.uerj.br/evento/ix-seminario-discente-forcas-armadas-e-democracia-no-brasil/
LOCATION:IESP-UERJ\, Rua da Matriz\, 82 - Botafogo\, Rio de Janeiro\, RJ\, Brasil
CATEGORIES:Palestra
END:VEVENT
END:VCALENDAR