BEGIN:VCALENDAR
VERSION:2.0
PRODID:-//IESP - ECPv6.0.7.1//NONSGML v1.0//EN
CALSCALE:GREGORIAN
METHOD:PUBLISH
X-ORIGINAL-URL:https://iesp.uerj.br
X-WR-CALDESC:Eventos para IESP
REFRESH-INTERVAL;VALUE=DURATION:PT1H
X-Robots-Tag:noindex
X-PUBLISHED-TTL:PT1H
BEGIN:VTIMEZONE
TZID:America/Sao_Paulo
BEGIN:STANDARD
TZOFFSETFROM:-0300
TZOFFSETTO:-0300
TZNAME:-03
DTSTART:20240101T000000
END:STANDARD
END:VTIMEZONE
BEGIN:VEVENT
DTSTART;TZID=America/Sao_Paulo:20241101T140000
DTEND;TZID=America/Sao_Paulo:20241101T170000
DTSTAMP:20260424T164939
CREATED:20241023T214147Z
LAST-MODIFIED:20241025T181250Z
UID:157758-1730469600-1730480400@iesp.uerj.br
SUMMARY:Ciclo de Palestras 2024.2: Maxime Quijoux (LISE/CNAM)
DESCRIPTION:O Ciclo de Palestras IESP-UERJ 2024.2 recebe o Prof. Maxime Quijoux (LISE/CNAM) para ministrar sua conferência Bourdieu e o trabalho. A palestra será oferecida em língua espanhola\, na Sala Olavo Brasil. \n  \n\nAssista também ao vivo em nosso canal no YouTube! \n  \nDoutor em Sociologia pela Universidade Sorbonne Nouvelle (França)\, Maxime Quijoux  é sociólogo e cientista político\, pesquisador do Centro Nacional de Pesquisa Científica (CNRS) associado ao Laboratório Interdisciplinar de Sociologia Econômica (LISE). É organizador do livro Bourdieu et le travail (Presses universitaires de Rennes\, 2015) e autor dos artigos Valores y usos de la autogestión: avatares de una socialización renegociada (Biblos\, 2016) e The power of (the) union: trade-unionism and workplace democracy in a French recovered factory (Review of Social Economy V. 78\, n.3; 2020). Sua pesquisa se concentra na mobilização de trabalhadores\, no sindicalismo e na democracia corporativa. \n  \nO Ciclo de Palestras IESP-UERJ 2024.2 conta com a curadoria dos professores San Romanelli Assumpção e Adalberto Moreira Cardoso\, e com a assistência técnica de João Pedro Mina.
URL:https://iesp.uerj.br/evento/ciclo-de-palestras-2024-2-maxime-quijoux-lise-cnam/
LOCATION:IESP-UERJ\, Rua da Matriz\, 82 - Botafogo\, Rio de Janeiro\, RJ\, Brasil
CATEGORIES:Palestra
END:VEVENT
END:VCALENDAR