BEGIN:VCALENDAR
VERSION:2.0
PRODID:-//IESP - ECPv6.0.7.1//NONSGML v1.0//EN
CALSCALE:GREGORIAN
METHOD:PUBLISH
X-ORIGINAL-URL:https://iesp.uerj.br
X-WR-CALDESC:Eventos para IESP
REFRESH-INTERVAL;VALUE=DURATION:PT1H
X-Robots-Tag:noindex
X-PUBLISHED-TTL:PT1H
BEGIN:VTIMEZONE
TZID:America/Sao_Paulo
BEGIN:STANDARD
TZOFFSETFROM:-0300
TZOFFSETTO:-0300
TZNAME:-03
DTSTART:20240101T000000
END:STANDARD
END:VTIMEZONE
BEGIN:VEVENT
DTSTART;TZID=America/Sao_Paulo:20241009T190000
DTEND;TZID=America/Sao_Paulo:20241009T190000
DTSTAMP:20260424T045807
CREATED:20241002T142321Z
LAST-MODIFIED:20241002T142321Z
UID:157617-1728500400-1728500400@iesp.uerj.br
SUMMARY:Nestsal convida: Palestra com Daniel Bin (ELA-UnB)
DESCRIPTION:O Núcleo de Estudos de Teoria Social e América Latina (Netsal) convida o Prof. Daniel Bin (ICS-UnB) para ministrar sua palestra Despossessões Capitalistas no Brasil Contemporâneo\, na Sala Olavo Brasil. \n \nDoutor pelo Programa de Pós-Graduação em Sociologia da Universidade de Brasília (PPGSol/UnB)\, Daniel Bin é professor associado ao Departamento de Estudos Latino-Americanos do Instituto de Ciências Sociais (ELA/ICS-UnB) da mesma instituição. Realizou estágio pós-doutoral na Universidade Yale (EUA).  É autor dos livros Capitalist Dispossessions: Redistribution and Capital Expansion in Contemporary Brazil (Routledge\, 2024) e The Politics of Public Debt‘ (Brill\, 2020)\, e editor associado do periódico Critical Sociology.  Seus trabalhos recentes tratam de despossessões de meios de subsistência e de produção e respectivas implicações para relações entre classes sociais.
URL:https://iesp.uerj.br/evento/nestsal-convida-palestra-com-daniel-bin-ela-unb/
LOCATION:Regiões Oceânicas e a agenda de investigação dos oceanos nas Relações Internacionais\, RJ
CATEGORIES:Palestra
END:VEVENT
END:VCALENDAR