BEGIN:VCALENDAR
VERSION:2.0
PRODID:-//IESP - ECPv6.0.7.1//NONSGML v1.0//EN
CALSCALE:GREGORIAN
METHOD:PUBLISH
X-ORIGINAL-URL:https://iesp.uerj.br
X-WR-CALDESC:Eventos para IESP
REFRESH-INTERVAL;VALUE=DURATION:PT1H
X-Robots-Tag:noindex
X-PUBLISHED-TTL:PT1H
BEGIN:VTIMEZONE
TZID:America/Sao_Paulo
BEGIN:STANDARD
TZOFFSETFROM:-0300
TZOFFSETTO:-0300
TZNAME:-03
DTSTART:20240101T000000
END:STANDARD
END:VTIMEZONE
BEGIN:VEVENT
DTSTART;TZID=America/Sao_Paulo:20241007T140000
DTEND;TZID=America/Sao_Paulo:20241007T170000
DTSTAMP:20260424T235646
CREATED:20240924T215244Z
LAST-MODIFIED:20241001T180539Z
UID:157545-1728309600-1728320400@iesp.uerj.br
SUMMARY:Ciclo de Palestras 2024.2: Camilo López Burian (FCS-UdelaR)
DESCRIPTION:O Ciclo de Palestras IESP-UERJ 2024.2 recebe o Prof. Camilo López Burian (FCS-UdelaR) para ministrar sua conferência Novas direitas: Redes transnacionais e contestação à ordem internacional\, na Sala Olavo Brasil. \n  \n\nAssista também ao vivo em nosso canal no YouTube! \n  \nDoutor pelo Instituto de Ciencia Política da Facultad de Ciencias Sociales da Universidad de la República (FCS-UdelaR – Uruguai)\, Camilo Martín López Burian é professor adjunto da mesma instituição e da Facultad de Derecho (FD-Udelar). Assina a coautoria dos artigos A guinada à direita no Uruguai\, sua economia política e política externa (2020-2023) (Teoria & Pesquisa\, v. 32\, n. 3; 2024) e Direitas neopatriotas e forças armadas na América Latina: Um olhar desde as relações civis-militares (Estudos Ibero-Americanos\, v. 49\, n. 1; 2023). Atua como pesquisador do Grupo de Reflexión sobre integración y desarollo en América Latina y Europa (Gridale.) Seu trabalho enfoca a convergência entre Ciência Política e Relações Internacionais\, com uma perspectiva histórica\, abordando temas como: política externa comparada\, história política\, relações internacionais e direitas e política internacional. \n  \nO Ciclo de Palestras IESP-UERJ 2024.2 conta com a curadoria dos professores San Romanelli Assumpção e Adalberto Moreira Cardoso\, e com a assistência técnica de João Pedro Mina.
URL:https://iesp.uerj.br/evento/ciclo-de-palestras-2024-2-camilo-lopez-burian-fcs-udelar/
LOCATION:IESP-UERJ\, Rua da Matriz\, 82 - Botafogo\, Rio de Janeiro\, RJ\, Brasil
CATEGORIES:Palestra
END:VEVENT
BEGIN:VEVENT
DTSTART;TZID=America/Sao_Paulo:20241007T173000
DTEND;TZID=America/Sao_Paulo:20241007T190000
DTSTAMP:20260424T235646
CREATED:20240911T173443Z
LAST-MODIFIED:20240930T120957Z
UID:157445-1728322200-1728327600@iesp.uerj.br
SUMMARY:Emergência climática e política externa brasileira em debate
DESCRIPTION:O Observatório Interdisciplinar das Mudanças Climáticas (OIMC) e o Laboratório de Análise Política Mundial (LABMUNDO) \, em parceria com a Plataforma CIPÓ\, convidam para a mesa de discussão Emergência climática e política externa brasileira em debate. O evento celebra o lançamento de dois livros: Política externa brasileira e clima: caminhos para um Brasil ambientalmente responsável e socialmente justo (CIPÓ e FUNAG\, 2024)\, organizado por Maiara Folly\, Marília Closs e Vitória Gonzalez (CIPÓ)\, e Política Externa\, Lideranças Autoritárias e Ultraconservadorismo (Appris Editora\, 2024)\, organizado pelo Prof. Carlos R. S. Milani e por Rubens de S. Duarte (IMM-ECEME). \n  \n  \n \n  \nOferecida na Sala Olavo Brasil\, com transmissão ao vivo em nosso canal no YouTube\, a mesa contará com a abertura do Prof. Milani\, coordenador do OIMC e do LABMUNDO\, e de Vitória Gonzalez\, mestra em Sociologia pelo IESP-UERJ e coordenadora de projetos da CIPÓ. Em seguida\, os temas desenvolvidos nas duas obras serão expostos por Rubens Duarte\, coordenador do LABMUNDO e pesquisador associado do Observatório\, e por Marília Closs\, doutora em Ciência Política pelo Instituto e coordenadora de projetos da Plataforma\, com a presença de diversos autores que contribuíram com as coletâneas. \nInscreva-se para confirmar sua presenca!\n  \n\n\n\n\nEm anos recentes\, o mundo tem sido palco para a atuação de diversos líderes\, governos e movimentos ultraconservadores e autoritários que desafiam as instituições da democracia. Do nacional ao transnacional circulam aprendizados e práticas visando a minar princípios\, normas e experiências democráticas e organizações multilaterais. Por meio de pesquisas conduzidas no âmbito do LABMUNDO\, esta coletânea considera o contexto brasileiro de emergência do bolsonarismo e procura analisar como lideranças e movimentos ultraconservadores e antidemocráticos influenciaram negativamete as agendas da política externa. \nA publicação pode ser adquirida na página oficial da editora. \n\n  \n\n\nComposto por 11 capítulos escritos por pesquisadores da CIPÓ\, o livro destaca os caminhos para que a política externa brasileira assuma a liderança na construção de um Brasil\, uma governança global e um mundo mais democráticos\, ambientalmente responsáveis e socialmente justos. A obra também examina a trajetória do Brasil no contexto do regime climático global\, buscando extrair lições que possam orientar a condução eficaz e inclusiva da COP30\, a 30ª Conferência das Partes sobre Mudanças Climáticas\, que será realizada em Belém\, capital do Pará\, em 2025. \nA publicação está disponível para download gratuito na página oficial da CIPÓ.
URL:https://iesp.uerj.br/evento/emergencia-climatica-e-politica-externa-brasileira-em-debate/
LOCATION:IESP-UERJ\, Rua da Matriz\, 82 - Botafogo\, Rio de Janeiro\, RJ\, Brasil
CATEGORIES:Lançamento,Palestra
END:VEVENT
END:VCALENDAR