BEGIN:VCALENDAR
VERSION:2.0
PRODID:-//IESP - ECPv6.0.7.1//NONSGML v1.0//EN
CALSCALE:GREGORIAN
METHOD:PUBLISH
X-ORIGINAL-URL:https://iesp.uerj.br
X-WR-CALDESC:Eventos para IESP
REFRESH-INTERVAL;VALUE=DURATION:PT1H
X-Robots-Tag:noindex
X-PUBLISHED-TTL:PT1H
BEGIN:VTIMEZONE
TZID:America/Sao_Paulo
BEGIN:STANDARD
TZOFFSETFROM:-0300
TZOFFSETTO:-0300
TZNAME:-03
DTSTART:20240101T000000
END:STANDARD
END:VTIMEZONE
BEGIN:VEVENT
DTSTART;TZID=America/Sao_Paulo:20240909T080000
DTEND;TZID=America/Sao_Paulo:20240913T160000
DTSTAMP:20260425T202749
CREATED:20240911T123721Z
LAST-MODIFIED:20240911T124924Z
UID:157427-1725868800-1726243200@iesp.uerj.br
SUMMARY:VII Encontro de Teoria Política e Pensamento Político Brasileiro
DESCRIPTION:O Instituto de Estudos Sociais e Políticos tem a honra de sediar a sétima edição do Encontro de Teoria Política e Pensamento Político Brasileiro\, evento anual organizado por pesquisadores de diversas instituições de ensino superior\, que\, durante uma semana\, reúne docentes e discentes de todas as regiões brasileiras em 16 Grupos de Trabalho virtuais e seis mesas de discussão presenciais\, oferecidas na Sala Olavo Brasil. \n\nAssista às mesas também pela transmissão no YouTube \nMesas de discussão:\n11 de setembro – Quarta-feira\n13h–13h30 Abertura\n13h30–16h; Mesa 1: Teoria Política entre História e Normatividade\n\nDaniel Nascimento (UFRJ): Dos direitos às revoluções: história e democracia em Aristóteles.\nJosé Mauricio Domingues (IESP-UERJ): Liberalismo e republicanismo: da expansão à retração.\nRicardo Silva (UFSC): O neorrepublicanismo como teoria política histórica e normativa.\nDaniel Peres (UFBA): Sobre direito\, justiça e política.\nJúlia Moura (UFPR): Reconciliação: concepções morais em disputa e a tarefa da filosofia política.\nModeração: Roberta Soromenho Nicolete (UERJ)\n\n\n\n\n  \n  \n16h30–19h; Mesa 2: Raça e Identidades\n\nAna Claudia Lopes (Unicamp): Quem tem medo das “políticas identitárias”?\nLuiz Augusto Campos (IESP-UERJ): Crise de Identidade: a apropriação da teoria do reconhecimento no Brasil.\nAndrea Lopes (Unirio): Teorias e relações raciais no Brasil: um diálogo.\nMuryatan Barbosa (UFABC): Por uma “razão afro-brasileira”: aspectos teórico- metodológicos.\nModeração: Raphael Neves (Unifesp)\n\n\n\n\n  \n12 de setembro – Quinta-feira\n9h30-12h; Mesa 3: Intelectuais e pensamento político\n\nAngélica Lovatto (Unesp): O papel do intelectual público na construção do pensamento político brasileiro.\nSabrina Areco (UFAC): Charles Maurras e o nacionalismo integral.\nDiogo Tourino (UFV): Parentela e vizinhança como fundamentos para a obrigação política: uma leitura a partir de Maria Isaura Pereira de Queiroz.\nJosé Artigas (UFPB): Política e encantamento: Dom Leme e a neocristandade (1916-1934).\nModeração: Helio Canone (UFBA)\n\n\n\n\n  \n13h30–16h; Mesa 4: Extremas direitas\, desobediência civil e religiosidade\n\nLilian Sendretti (USP): Dois conceitos de desobediência civil.\nHelio Alexandre da Silva (Unesp): Emancipação ou opressão? Apontamentos sobre pobreza e religiosidade  neopentecostal.\nPedro Lima (UFRJ): Pressupostos e implicações do “antissistema”: escolhas conceituais diante da extrema-direita no Brasil.\nModeração: Felipe Freller (USP)\n\n\n\n\n  \n13 de setembro – Sexta-feira:\n9h30-12h; Mesa 5: Democracia\, conflito e a questão ambiental\n\nTiago Borges (UFSC): Discutindo normatividade e empiria na teoria\ndemocrática eleitoral.\nGabriela Rosa (USP): Teoria democrática e os desafios da representação do povo.\nBruno Alexandre Santos (UFAC): História ambiental\, história do futuro e historicidade\nhumana: uma imbricação política.\nRayza Sarmento (UFPA): Ciência Política e Amazônia(s): pensar o conflito político para além das instituições.\nModeração: Renato Francisquini (UFBA)\n\n\n\n\n  \n13h30–16h; Mesa 6: Pensamento político brasileiro e a experiência autoritária\n\nHelio Cannone (UFBA): Modalidades de democracia autoritária: o conceito de democracia entre intelectuais que apoiaram o golpe de 1964.\nLeonardo Belinelli (UFRRJ): Capitalismo e democracia na revolução burguesa dependente: o golpe de 1964 em Florestan Fernandes e Fernando Henrique Cardoso (1967-1975).\nDiogo Cunha (UFPE): Redefinindo democracia: a memória da ditadura militar na ideologia da ultradireita brasileira.\nLuciana Aliaga (UFPB): Da questão militar à política do Exército: o intervencionismo moderador como passado-presente no Brasil.\nAndré Kaysel (Unicamp): A Sagrada Família da Extrema-direita ao Sul da América: um estudo comparado entre Argentina\, Bolívia\, Brasil e Chile (2015-2025).\nModeração: Gabriela Nunes Ferreira (Unifesp)\n\n\n\n\nProgramação completa\nA comissão organizadora do VII Encontro de Teoria Política e Pensamento Político Brasileiro é composta por Anita Lopes (Unicamp)\, Felipe Freller (USP)\, Gabriela Rosa (USP)\, Hélio Cannone (UFBA)\, Luciana Aliaga (UFPB)\, Raphael Neves (Unifesp)\, Renato Francisquini (UFBA)\, Roberta Soromenho (UERJ) e San Romanelli Assumpção (IESP-UERJ). A comissão organizadora local desta edição conta com os discentes do Instituto Mariane Matos\, Nathalia Tavares\, Ricardo Ramos\, Roseane Lobo\, Stefany Despinoy\, Thaís Lamas\, além de Lidiane Vieira\, pós-doutoranda da Casa\, e de Pedro Calache (PPCIS-ICS-UERJ).\n\n 
URL:https://iesp.uerj.br/evento/vii-encontro-de-teoria-politica-e-pensamento-politico-brasileiro/
LOCATION:IESP-UERJ\, Rua da Matriz\, 82 - Botafogo\, Rio de Janeiro\, RJ\, Brasil
CATEGORIES:Palestra
END:VEVENT
BEGIN:VEVENT
DTSTART;TZID=America/Sao_Paulo:20240909T140000
DTEND;TZID=America/Sao_Paulo:20240909T170000
DTSTAMP:20260425T202750
CREATED:20240823T183929Z
LAST-MODIFIED:20240905T200952Z
UID:157158-1725890400-1725901200@iesp.uerj.br
SUMMARY:Ciclo de Palestras 2024.2: A profissão de cientista político/a
DESCRIPTION:O Ciclo de Palestras IESP-UERJ 2024.2\, em parceria com o Laboratório de Monitoramento e Avaliação de Políticas e Eleições (MAPE)\, apresenta a conferência A profissão de cientista político/a: regulação\, mercado e governo. Para compor a mesa\, o Laboratório convida: Luciana Santana (ICS-UFAL / ABCP )\, trazendo a perspectiva da profissão desde a Academia e as discussões em torno da regulação da profissão de cientista político/a e das Diretrizes Curriculares Nacionais (DCN) dos cursos de graduação; Carolina de Paula (ESPM / Lemep)\, professora com larga atuação na iniciativa privada em diversas consultorias e egressa do IESP-UERJ; e Guilherme Mello\, doutorando no PPGCP e funcionário da Secretaria Municipal de Cultura do Rio de Janeiro (SMC-Rio)\, trazendo a perspectiva da atuação profissional em governos. \n\nAssista também ao vivo em nosso canal no YouTube! \nOferecido na Sala Olavo Brasil\, na sede do Instituto\, o evento tem por objetivo a discussão da inserção de cientistas políticas no mercado de trabalho. Com o aumento da pós-graduação no Brasil\, e a criação de cursos de graduação em ciência política\, há mais profissionais da área atuando no mercado. A academia\, portanto\, não consegue absorver toda essa mão de obra e se faz necessário considerar alternativas. Como as competências aprendidas durante cursos de graduação\,  e especialmente de pós-graduação\, em Ciência Política\, pode ajudar na inserção profissional? Como ponto de partida para o debate\, leia este artigo de Adriano Codato\, Leon Victor de Queiroz e Carolina de Paula. \n  \nO Ciclo de Palestras IESP-UERJ 2024.2 conta com a curadoria dos professores San Romanelli Assumpção e Adalberto Moreira Cardoso\, e com a assistência técnica de João Pedro Mina.
URL:https://iesp.uerj.br/evento/ciclo-de-palestras-2024-2-a-profissao-de-cientista-politico-a/
LOCATION:IESP-UERJ\, Rua da Matriz\, 82 - Botafogo\, Rio de Janeiro\, RJ\, Brasil
CATEGORIES:Palestra
END:VEVENT
END:VCALENDAR