BEGIN:VCALENDAR
VERSION:2.0
PRODID:-//IESP - ECPv6.0.7.1//NONSGML v1.0//EN
CALSCALE:GREGORIAN
METHOD:PUBLISH
X-WR-CALNAME:IESP
X-ORIGINAL-URL:https://iesp.uerj.br
X-WR-CALDESC:Eventos para IESP
REFRESH-INTERVAL;VALUE=DURATION:PT1H
X-Robots-Tag:noindex
X-PUBLISHED-TTL:PT1H
BEGIN:VTIMEZONE
TZID:America/Sao_Paulo
BEGIN:STANDARD
TZOFFSETFROM:-0300
TZOFFSETTO:-0300
TZNAME:-03
DTSTART:20240101T000000
END:STANDARD
END:VTIMEZONE
BEGIN:VEVENT
DTSTART;TZID=America/Sao_Paulo:20241004T100000
DTEND;TZID=America/Sao_Paulo:20241004T120000
DTSTAMP:20260424T032725
CREATED:20240924T193604Z
LAST-MODIFIED:20240927T130306Z
UID:157530-1728036000-1728043200@iesp.uerj.br
SUMMARY:Ciclo de Palestras 2024.2: Ricardo Fabrino Mendonça (Fafich-UFMG)
DESCRIPTION:O Ciclo de Palestras IESP-UERJ 2024.2 recebe o Prof. Ricardo Fabrino Mendonça (Fafich-UFMG) para ministrar sua conferência Institucionalismo algorítmico\, na Sala Olavo Brasil. \n  \n\nAssista também ao vivo em nosso canal no YouTube! \n  \nDoutor pelo Programa de Pós-Graduação em Comunicação Social da Universidade Federal de Minas Gerais (PPGCom/Fafich-UFMG)\, Ricardo Fabrino Mendonça é Professor Associado do Departamento de Ciência Política da Faculdade de Filosofia e Ciências Humanas da Universidade Federal de Minas Gerais (DCP/Fafich-UFMG). Integra o Comitê Gestor do Instituto Nacional de Ciência e Tecnologia em Democracia Digital (INCT-DD)\, e é pesquisador do Grupo de Pesquisa em Democracia e Justiça (MARGEM). É coautor do livro Algorithmic Institutionalism: the changing rules of social and political life (Oxford University Press\, 2023) e dos artigos Deliberative ecologies: a relational critique of deliberative systems (European Political Science Review v. 16 \, n. 3; 2024) e Complexidade e participação cidadã (Política & Sociedade\, v. 23\, n. 54; 2024). Sua pesquisa se dedica à teoria democrática\, a conflitos sociais e à relação entre comunicação e política. \n  \nO Ciclo de Palestras IESP-UERJ 2024.2 conta com a curadoria dos professores San Romanelli Assumpção e Adalberto Moreira Cardoso\, e com a assistência técnica de João Pedro Mina.
URL:https://iesp.uerj.br/evento/ciclo-de-palestras-2024-2-ricardo-fabrino-mendonca-fafich-ufmg/
LOCATION:IESP-UERJ\, Rua da Matriz\, 82 - Botafogo\, Rio de Janeiro\, RJ\, Brasil
CATEGORIES:Palestra
END:VEVENT
BEGIN:VEVENT
DTSTART;TZID=America/Sao_Paulo:20241004T140000
DTEND;TZID=America/Sao_Paulo:20241004T170000
DTSTAMP:20260424T032725
CREATED:20240924T211153Z
LAST-MODIFIED:20240927T133502Z
UID:157539-1728050400-1728061200@iesp.uerj.br
SUMMARY:Ciclo de Palestras 2024.2: Cimone Rozendo (CCHLA-UFRN)
DESCRIPTION:O Ciclo de Palestras IESP-UERJ 2024.2 recebe a Prof. Cimone Rozendo (CCHLA-UFRN) para ministrar sua conferência Novas perspectivas epistemológicas a partir da noção de Convivência com o Semiárido: Cultivando saberes\, construindo re-existências\, na Sala Olavo Brasil. \n  \n\nAssista também ao vivo em nosso canal no YouTube! \nDoutora em Meio Ambiente e Desenvolvimento pela Universidade Federal do Paraná (PPGMade/UFPR)\, Cimone Rozendo de Souza é professora associada do Departamento de Ciências Sociais do Centro de Ciências Humanas\, Letras e Artes da Universidade Federal do Rio Grande do Norte (CISO/CCHLA-UFRN)\, atuando nos Programas de Pós Graduação em Desenvolvimento e Meio Ambiente (PRODEMA/UFRN) e em Ciências Sociais (PPGCS/UFRN). Atualmente\, ocupa a função de coordenadora adjunta de programas acadêmicos da área de Sociologia junto à Coordenação de Aperfeiçoamento de Pessoal de Nível Superior (CAPES). Fez estágio pós-doutoral em Sociologia Rural pela Universidade Paris Nanterre (Paris X) e no Programa de Pós-Graduação em Desenvolvimento Rural da Universidade Federal do Rio Grande do Sul (PGDR/UFRGS). Assina a coautoria dos artigos Para além da segurança alimentar: Os programas de cisternas sob a ótica da Colonialidade/Decolonialidade (Caminhos de Geografia\, v. 25\, n. 100; 2024) e Saberes insurgentes e a proteção dos bens comuns: Práticas e formas de re-existência na construção do território agroecológico no seminárido potiguar (Revista Pós Ciências Sociais\, v. 19\, n. 3; 2022). É vice-líder do Laboratório de Estudos Rurais  (LabRural). Seu trabalho de pesquisa se concentra nos seguintes temas: agricultura familiar\, agroecologia\, meio ambiente e sistemas agroalimentares. \n  \nO Ciclo de Palestras IESP-UERJ 2024.2 conta com a curadoria dos professores San Romanelli Assumpção e Adalberto Moreira Cardoso\, e com a assistência técnica de João Pedro Mina. \n 
URL:https://iesp.uerj.br/evento/ciclo-de-palestras-2024-2-cimone-rozendo-cchla-ufrn/
LOCATION:IESP-UERJ\, Rua da Matriz\, 82 - Botafogo\, Rio de Janeiro\, RJ\, Brasil
CATEGORIES:Palestra
END:VEVENT
BEGIN:VEVENT
DTSTART;TZID=America/Sao_Paulo:20241007T140000
DTEND;TZID=America/Sao_Paulo:20241007T170000
DTSTAMP:20260424T032725
CREATED:20240924T215244Z
LAST-MODIFIED:20241001T180539Z
UID:157545-1728309600-1728320400@iesp.uerj.br
SUMMARY:Ciclo de Palestras 2024.2: Camilo López Burian (FCS-UdelaR)
DESCRIPTION:O Ciclo de Palestras IESP-UERJ 2024.2 recebe o Prof. Camilo López Burian (FCS-UdelaR) para ministrar sua conferência Novas direitas: Redes transnacionais e contestação à ordem internacional\, na Sala Olavo Brasil. \n  \n\nAssista também ao vivo em nosso canal no YouTube! \n  \nDoutor pelo Instituto de Ciencia Política da Facultad de Ciencias Sociales da Universidad de la República (FCS-UdelaR – Uruguai)\, Camilo Martín López Burian é professor adjunto da mesma instituição e da Facultad de Derecho (FD-Udelar). Assina a coautoria dos artigos A guinada à direita no Uruguai\, sua economia política e política externa (2020-2023) (Teoria & Pesquisa\, v. 32\, n. 3; 2024) e Direitas neopatriotas e forças armadas na América Latina: Um olhar desde as relações civis-militares (Estudos Ibero-Americanos\, v. 49\, n. 1; 2023). Atua como pesquisador do Grupo de Reflexión sobre integración y desarollo en América Latina y Europa (Gridale.) Seu trabalho enfoca a convergência entre Ciência Política e Relações Internacionais\, com uma perspectiva histórica\, abordando temas como: política externa comparada\, história política\, relações internacionais e direitas e política internacional. \n  \nO Ciclo de Palestras IESP-UERJ 2024.2 conta com a curadoria dos professores San Romanelli Assumpção e Adalberto Moreira Cardoso\, e com a assistência técnica de João Pedro Mina.
URL:https://iesp.uerj.br/evento/ciclo-de-palestras-2024-2-camilo-lopez-burian-fcs-udelar/
LOCATION:IESP-UERJ\, Rua da Matriz\, 82 - Botafogo\, Rio de Janeiro\, RJ\, Brasil
CATEGORIES:Palestra
END:VEVENT
BEGIN:VEVENT
DTSTART;TZID=America/Sao_Paulo:20241007T173000
DTEND;TZID=America/Sao_Paulo:20241007T190000
DTSTAMP:20260424T032725
CREATED:20240911T173443Z
LAST-MODIFIED:20240930T120957Z
UID:157445-1728322200-1728327600@iesp.uerj.br
SUMMARY:Emergência climática e política externa brasileira em debate
DESCRIPTION:O Observatório Interdisciplinar das Mudanças Climáticas (OIMC) e o Laboratório de Análise Política Mundial (LABMUNDO) \, em parceria com a Plataforma CIPÓ\, convidam para a mesa de discussão Emergência climática e política externa brasileira em debate. O evento celebra o lançamento de dois livros: Política externa brasileira e clima: caminhos para um Brasil ambientalmente responsável e socialmente justo (CIPÓ e FUNAG\, 2024)\, organizado por Maiara Folly\, Marília Closs e Vitória Gonzalez (CIPÓ)\, e Política Externa\, Lideranças Autoritárias e Ultraconservadorismo (Appris Editora\, 2024)\, organizado pelo Prof. Carlos R. S. Milani e por Rubens de S. Duarte (IMM-ECEME). \n  \n  \n \n  \nOferecida na Sala Olavo Brasil\, com transmissão ao vivo em nosso canal no YouTube\, a mesa contará com a abertura do Prof. Milani\, coordenador do OIMC e do LABMUNDO\, e de Vitória Gonzalez\, mestra em Sociologia pelo IESP-UERJ e coordenadora de projetos da CIPÓ. Em seguida\, os temas desenvolvidos nas duas obras serão expostos por Rubens Duarte\, coordenador do LABMUNDO e pesquisador associado do Observatório\, e por Marília Closs\, doutora em Ciência Política pelo Instituto e coordenadora de projetos da Plataforma\, com a presença de diversos autores que contribuíram com as coletâneas. \nInscreva-se para confirmar sua presenca!\n  \n\n\n\n\nEm anos recentes\, o mundo tem sido palco para a atuação de diversos líderes\, governos e movimentos ultraconservadores e autoritários que desafiam as instituições da democracia. Do nacional ao transnacional circulam aprendizados e práticas visando a minar princípios\, normas e experiências democráticas e organizações multilaterais. Por meio de pesquisas conduzidas no âmbito do LABMUNDO\, esta coletânea considera o contexto brasileiro de emergência do bolsonarismo e procura analisar como lideranças e movimentos ultraconservadores e antidemocráticos influenciaram negativamete as agendas da política externa. \nA publicação pode ser adquirida na página oficial da editora. \n\n  \n\n\nComposto por 11 capítulos escritos por pesquisadores da CIPÓ\, o livro destaca os caminhos para que a política externa brasileira assuma a liderança na construção de um Brasil\, uma governança global e um mundo mais democráticos\, ambientalmente responsáveis e socialmente justos. A obra também examina a trajetória do Brasil no contexto do regime climático global\, buscando extrair lições que possam orientar a condução eficaz e inclusiva da COP30\, a 30ª Conferência das Partes sobre Mudanças Climáticas\, que será realizada em Belém\, capital do Pará\, em 2025. \nA publicação está disponível para download gratuito na página oficial da CIPÓ.
URL:https://iesp.uerj.br/evento/emergencia-climatica-e-politica-externa-brasileira-em-debate/
LOCATION:IESP-UERJ\, Rua da Matriz\, 82 - Botafogo\, Rio de Janeiro\, RJ\, Brasil
CATEGORIES:Lançamento,Palestra
END:VEVENT
BEGIN:VEVENT
DTSTART;TZID=America/Sao_Paulo:20241009T190000
DTEND;TZID=America/Sao_Paulo:20241009T190000
DTSTAMP:20260424T032725
CREATED:20241002T142321Z
LAST-MODIFIED:20241002T142321Z
UID:157617-1728500400-1728500400@iesp.uerj.br
SUMMARY:Nestsal convida: Palestra com Daniel Bin (ELA-UnB)
DESCRIPTION:O Núcleo de Estudos de Teoria Social e América Latina (Netsal) convida o Prof. Daniel Bin (ICS-UnB) para ministrar sua palestra Despossessões Capitalistas no Brasil Contemporâneo\, na Sala Olavo Brasil. \n \nDoutor pelo Programa de Pós-Graduação em Sociologia da Universidade de Brasília (PPGSol/UnB)\, Daniel Bin é professor associado ao Departamento de Estudos Latino-Americanos do Instituto de Ciências Sociais (ELA/ICS-UnB) da mesma instituição. Realizou estágio pós-doutoral na Universidade Yale (EUA).  É autor dos livros Capitalist Dispossessions: Redistribution and Capital Expansion in Contemporary Brazil (Routledge\, 2024) e The Politics of Public Debt‘ (Brill\, 2020)\, e editor associado do periódico Critical Sociology.  Seus trabalhos recentes tratam de despossessões de meios de subsistência e de produção e respectivas implicações para relações entre classes sociais.
URL:https://iesp.uerj.br/evento/nestsal-convida-palestra-com-daniel-bin-ela-unb/
LOCATION:Regiões Oceânicas e a agenda de investigação dos oceanos nas Relações Internacionais\, RJ
CATEGORIES:Palestra
END:VEVENT
BEGIN:VEVENT
DTSTART;TZID=America/Sao_Paulo:20241011T140000
DTEND;TZID=America/Sao_Paulo:20241011T170000
DTSTAMP:20260424T032725
CREATED:20241001T152746Z
LAST-MODIFIED:20241001T152746Z
UID:157597-1728655200-1728666000@iesp.uerj.br
SUMMARY:Ciclo de Palestras 2024.2: Janis van der Westhuizen
DESCRIPTION:O Ciclo de Palestras IESP-UERJ 2024.2 recebe o Prof. Janis van der Westhuizen (Stellenbosch University) para ministrar sua conferência Huawei or the US way? Why Brazil and South Africa did not securitize 5G\, na Sala Olavo Brasil. \n  \n\nAssista também ao vivo em nosso canal no YouTube! \n  \nDoutor em Ciência Política pela Universidade de Dalhousie (Canadá)\, Janis van der Westhuizen é professor de Política Comparada no Departamento de Ciência Política da Universidade de Stellenbosch (África do Sul). Além do artigo que intitula esta conferência (Revista Brasileira de Política Internacional v.67\, n.2; 2024)\, é autor de Ukraine\, the 2023 BRICS Summit and South Africa’s non-alignment crisis (Contemporary Security Policy\, 2024) e de Gorgeous but dangerous: Comparing Rio de Janeiro and Cape Town’s soft-power struggles (International Journal: Canada’s Journal of Global Policy Analysis\, v. 77\, n. 4; 2022). Seus interesses de pesquisa se concentram em política comparada no âmbito do Sul Global\, com ênfase na relação entre Brasil e África do Sul\, política externa sul-africana e as interfaces entre política internacional e doméstica. \n  \nO Ciclo de Palestras IESP-UERJ 2024.2 conta com a curadoria dos professores San Romanelli Assumpção e Adalberto Moreira Cardoso\, e com a assistência técnica de João Pedro Mina.
URL:https://iesp.uerj.br/evento/ciclo-de-palestras-2024-2-janis-van-der-westhuizen/
LOCATION:IESP-UERJ\, Rua da Matriz\, 82 - Botafogo\, Rio de Janeiro\, RJ\, Brasil
CATEGORIES:Palestra
END:VEVENT
BEGIN:VEVENT
DTSTART;TZID=America/Sao_Paulo:20241014T140000
DTEND;TZID=America/Sao_Paulo:20241014T170000
DTSTAMP:20260424T032725
CREATED:20241001T173941Z
LAST-MODIFIED:20241001T173941Z
UID:157603-1728914400-1728925200@iesp.uerj.br
SUMMARY:Ciclo de Palestras 2024.2: Giuliana Pardelli (NYU - Abu Dhabi)
DESCRIPTION:O Ciclo de Palestras IESP-UERJ 2024.2 recebe a Prof. Giuliana Pardelli (NYU – Abu Dhabi)  para ministrar sua conferência Commodity Shocks\, Agricultural Diversity\, and Party System Fragmentation\, na Sala Olavo Brasil. \n  \n\nAssista também ao vivo em nosso canal no YouTube! \n  \nDoutora em Ciência Política e Políticas Sociais pela Universidade de Princeton (EUA)\, Giuliana Pardelli é professora de Ciência Política do Departamento de Ciências Sociais da New York University Abu Dhabi (EAU). Entre outras publicações\, assina a coautoria do livro Representation and Taxation in the American South\, 1820–1910 (Cambridge University Press\, 2023) e dos artigos When do Economic Elites Support Increasing Taxation? Evidence from the American South (Journal of Politics\, v. 85\, n. 2; 2023) e When Coethnicity Fails (World Politics\, v.74\, n. 2; 2022). Seu trabalho de pesquisa se dedica às seguintes áreas: economia política; taxação\, capacidade estatal\, provisionamento de bens públicos e desigualdade. \n  \nO Ciclo de Palestras IESP-UERJ 2024.2 conta com a curadoria dos professores San Romanelli Assumpção e Adalberto Moreira Cardoso\, e com a assistência técnica de João Pedro Mina.
URL:https://iesp.uerj.br/evento/ciclo-de-palestras-2024-2-giuliana-pardelli-nyu-abu-dhabi/
LOCATION:IESP-UERJ\, Rua da Matriz\, 82 - Botafogo\, Rio de Janeiro\, RJ\, Brasil
CATEGORIES:Palestra
END:VEVENT
BEGIN:VEVENT
DTSTART;TZID=America/Sao_Paulo:20241018T140000
DTEND;TZID=America/Sao_Paulo:20241018T170000
DTSTAMP:20260424T032725
CREATED:20241008T220120Z
LAST-MODIFIED:20241017T123013Z
UID:157623-1729260000-1729270800@iesp.uerj.br
SUMMARY:Governo e Congresso hoje: realidade e representação
DESCRIPTION:O Laboratório de Estudos Eleitorais\, de Comunicação Política e Opinião Pública (Doxa)\, o Laboratório de Estudos de Mídia e Esfera Pública (Lemep) e o Núcleo de Estudos sobre o Congresso (Necon) promovem em conjunto a conferência Governo e Congresso hoje: realidade e representação. \n\nAssista também online em nosso canal no YouTube! \nOferecida na Sala Olavo Brasil\, a mesa conta com a participação dos professores Argelina Cheibub Figueiredo\, Fabiano Santos e João Feres Júnior\, docentes regulares do Programa de Pós-Graduação em Ciência Política do Instituto\, para a condução de uma discussão enriquecedora sobre o cenário político atual.
URL:https://iesp.uerj.br/evento/governo-e-congresso-hoje-realidade-e-representacao/
LOCATION:IESP-UERJ\, Rua da Matriz\, 82 - Botafogo\, Rio de Janeiro\, RJ\, Brasil
CATEGORIES:Palestra
END:VEVENT
BEGIN:VEVENT
DTSTART;TZID=America/Sao_Paulo:20241021T100000
DTEND;TZID=America/Sao_Paulo:20241021T170000
DTSTAMP:20260424T032725
CREATED:20241016T133429Z
LAST-MODIFIED:20241021T160535Z
UID:157681-1729504800-1729530000@iesp.uerj.br
SUMMARY:BONDE convida: Peter Klein (Bard College)
DESCRIPTION:O Coletivo de pesquisa sobre violências\, sociabilidades e mobilidades urbanas do IESP-UERJ (Bonde) recebe o Prof. Peter Klein (Bard College) para ministrar a apresentação A Favela e o Mar: Pesca\, Urbanização\, e (In)Justiça Ambiental no Rio de Janeiro\, na Sala Olavo Brasil. \n \n  \nProfessor associado de Sociologia e Estudos Ambientais e Urbanos na Bard College (EUA)\, Peter Klein desenvolve pesquisas sobre participação popular\, transformações ambientais e urbanas e ações coletivas no Brasil\, especificamente na Amazônia e no Rio de Janeiro. Seu livro Flooded: Development\, Democracy\, and Brazil’s Belo Monte Dam (Rutgers University Press\, 2022) apresenta um relato etnográfico dos impactos sociais das tentativas do poder público de mitigar os impactos negativos da construção de uma das maiores hidrelétricas do mundo. Atualmente\, o convidado vem pesquisando a história os desafios contemporâneos de trabalhadores da pesca do Complexo da Maré.
URL:https://iesp.uerj.br/evento/bonde-convida-peter-klein-bard-college/
LOCATION:IESP-UERJ\, Rua da Matriz\, 82 - Botafogo\, Rio de Janeiro\, RJ\, Brasil
CATEGORIES:Palestra
END:VEVENT
BEGIN:VEVENT
DTSTART;TZID=America/Sao_Paulo:20241028T140000
DTEND;TZID=America/Sao_Paulo:20241028T183000
DTSTAMP:20260424T032725
CREATED:20241022T133541Z
LAST-MODIFIED:20241022T151555Z
UID:157742-1730124000-1730140200@iesp.uerj.br
SUMMARY:Seminário "Histórias urbanas em tempos de mudanças climáticas"
DESCRIPTION:O Grupo Casa e o Laboratório de Estudos Sociais dos Resíduos da UERJ (ResidualLab) promovem o seminário Histórias urbanas em tempos de mudanças climáticas. Oferecido na sede do IESP-UERJ e aberto a todas e a todos os interessados\, o evento é fruto do convênio entre a Universidade do Estado do Rio de Janeiro (UERJ) e a Universidade de Toronto (Canadá) e pretende estabelecer as bases para uma colaboração de pesquisa de longo prazo sobre urbanização e mudanças climáticas entre as duas instituições. \n \nProgramação:\n14h – Palestras com pesquisadores convidados:\n\nLise Sedrez (PPGHis/UFRJ): Um homem\, uma mulher e uma ilha: produzir ciência na Baía de Guanabara\, de 1930 a 1985.\nGabriel Lopes (COC/Fiocruz): O Aedes Aegypti e as arboviroses urbanas (re)emergentes em perspectiva histórica.\nZoy Anastassakis (ESDI-UERJ): Da insistente presença das águas no centro da cidade do Rio: que estórias nos conta o campus da ESDI/UERJ? Como recontá-las por meio da antropologia e do design?.\n\n  \n17h – Lançamento do webdocumentário Águas do Caju:\n\nFruto da Oficina de Pesquisa Qualitativa: Águas do Caju\, ministrada pelas professoras Mariana Cavalcanti e Maria Raquel Passos Lima (ICS-UERJ) no Programa de Pós-Graduação em Sociologia\, em 2022\, o filme investiva a história do bairro do Caju\, na região portuária do Rio de Janeiro\, tendo em vista a relação histórica da cidade com suas águas\, com o intuito de pensar as relações entre a produção das cidades e as circulações de diferentes águas ao longo do tempo.\n\n 
URL:https://iesp.uerj.br/evento/seminario-historias-urbanas-em-tempos-de-mudancas-climaticas/
LOCATION:IESP-UERJ\, Rua da Matriz\, 82 - Botafogo\, Rio de Janeiro\, RJ\, Brasil
CATEGORIES:Lançamento,Palestra
END:VEVENT
BEGIN:VEVENT
DTSTART;TZID=America/Sao_Paulo:20241031T120000
DTEND;TZID=America/Sao_Paulo:20241031T140000
DTSTAMP:20260424T032725
CREATED:20241015T133823Z
LAST-MODIFIED:20241031T121646Z
UID:157670-1730376000-1730383200@iesp.uerj.br
SUMMARY:Seminário NIED-Ceres: Winnie Arthur (IDCPPA - UCT)
DESCRIPTION:O Centro para o Estudo da Riqueza e Estratificação Social (Ceres) e o Núcleo Interdisciplinar de Estudos sobre Desigualdade (NIED-UFRJ) recebem a economista e socióloga Winnie Arthur (IDCPPA – UCT) para ministrar o painel Solidarity with the unemployed in labor-surplus economies: evidence from a vignette experiment in Southern Africa\, na mais nova edição do ciclo Seminários NIED-CERES. Oferecida em inglês\, a apresentação compartilhará os resultados da pesquisa em desenvolvimento pela convidada\, acerca das relações econômicas de solidariedade envolvendo pessoas desempregadas em economias com excedente de trabalho. \n \nDoutoranda em Sociologia associada ao Institute for Democracy\, Citizenship and Public Policy in Africa (IDCPPA) da Universidade de Cape Town (África do Sul)\, Winnie Arthur pesquisa o Estado de bem-estar social de países do sul do continente africano. Economista graduada pela Berea College e mestre em Desenvolvimento de Educação Internacional pela Universidade da Pennsylvania\, a pesquisadora trabalhou na Young1ove Organization\, em programas de educação baseados em evidências em Botsuana. A ênfase de seu trabalho de pesquisa recai na forma como programas sociais afetam a concepção\, articulação e agitação dos jovens por políticas economicamente mais emancipatórias. \n  \nPara participar do seminário através da plataforma Zoom\, basta se inscrever com antecedência através deste link. Todos os seminários do projeto podem ser assistidos através do canal do ciclo no YouTube.
URL:https://iesp.uerj.br/evento/seminario-nied-ceres-winnie-arthur-idcppa-uct/
LOCATION:Regiões Oceânicas e a agenda de investigação dos oceanos nas Relações Internacionais\, RJ
CATEGORIES:Palestra
END:VEVENT
END:VCALENDAR