BEGIN:VCALENDAR
VERSION:2.0
PRODID:-//IESP - ECPv6.0.7.1//NONSGML v1.0//EN
CALSCALE:GREGORIAN
METHOD:PUBLISH
X-WR-CALNAME:IESP
X-ORIGINAL-URL:https://iesp.uerj.br
X-WR-CALDESC:Eventos para IESP
REFRESH-INTERVAL;VALUE=DURATION:PT1H
X-Robots-Tag:noindex
X-PUBLISHED-TTL:PT1H
BEGIN:VTIMEZONE
TZID:America/Sao_Paulo
BEGIN:STANDARD
TZOFFSETFROM:-0300
TZOFFSETTO:-0300
TZNAME:-03
DTSTART:20220101T000000
END:STANDARD
END:VTIMEZONE
BEGIN:VEVENT
DTSTART;TZID=America/Sao_Paulo:20220815T180000
DTEND;TZID=America/Sao_Paulo:20220815T200000
DTSTAMP:20260421T180037
CREATED:20220809T202046Z
LAST-MODIFIED:20220810T192953Z
UID:146026-1660586400-1660593600@iesp.uerj.br
SUMMARY:Relançamento: "Não Foi Em Vão"\, de Rafaela Albergaria\, Vitor Mihessen e João Pedro Martins
DESCRIPTION:O Grupo Casa convida para o relançamento do livro Não foi em Vão: mobilidade\, desigualdade e segurança nos trens metropolitanos do Rio de Janeiro (2019)\, de Rafaela Albergaria\, Vitor Mihessen e João Pedro Martins\, a ser realizado na Realizado na Sala Olavo Brasil\, na sede do IESP-UERJ. \n \nUma produção da Casa Fluminense com apoio da Fundação Heinrich Böll Brasil\,  a obra é a consolidação de uma pesquisa iniciada em maio de 2017 sobre mortes por atropelamento ferroviário nos trens metropolitanos do Rio de Janeiro. O relançamento contará com uma mesa de conversa com a participação dos autores e de Marcella Araujo (IFCS-UFRJ)\, Doutora em Sociologia pelo Instituto e coordenadora do Laboratório de Estudos da Cidade (Urbano)\, e do Prof. Luiz Augusto Campos\, coordenador do Grupo de Estudos Multidisciplinares da Ação Afirmativa (Gemaa). A mediação da mesa será de Marcos Campos (Cebrap)\, pesquisador associado do Grupo Casa. \n  \nNa luta pelo direito à memória\, justiça e reparação e baseado em dados estáticos\, o livro problematiza as formas de administração e invisibilização da violência sistemática sofrida pelos usuários desta infraestrutura urbana. A reincidência das mortes produzidas pelas políticas de mobilidade urbana é entendida na chave do racismo estrutural.  A versão digital da publicação pode ser acessada na página da Heinrich Böll.
URL:https://iesp.uerj.br/evento/relancamento-nao-foi-em-vao-de-rafaela-albergaria-vitor-mihessen-e-joa%cc%83o-pedro-martins/
LOCATION:IESP-UERJ\, Rua da Matriz\, 82 - Botafogo\, Rio de Janeiro\, RJ\, Brasil
CATEGORIES:Lançamento
END:VEVENT
END:VCALENDAR