BEGIN:VCALENDAR
VERSION:2.0
PRODID:-//IESP - ECPv6.0.7.1//NONSGML v1.0//EN
CALSCALE:GREGORIAN
METHOD:PUBLISH
X-WR-CALNAME:IESP
X-ORIGINAL-URL:https://iesp.uerj.br
X-WR-CALDESC:Eventos para IESP
REFRESH-INTERVAL;VALUE=DURATION:PT1H
X-Robots-Tag:noindex
X-PUBLISHED-TTL:PT1H
BEGIN:VTIMEZONE
TZID:America/Sao_Paulo
BEGIN:STANDARD
TZOFFSETFROM:-0300
TZOFFSETTO:-0300
TZNAME:-03
DTSTART:20220101T000000
END:STANDARD
END:VTIMEZONE
BEGIN:VEVENT
DTSTART;TZID=America/Sao_Paulo:20220624T180000
DTEND;TZID=America/Sao_Paulo:20220624T210000
DTSTAMP:20260422T043041
CREATED:20220613T185714Z
LAST-MODIFIED:20220623T160113Z
UID:19516-1656093600-1656104400@iesp.uerj.br
SUMMARY:Lançamento: "Economia Brasileira na Encruzilhada"\, de Luiz Fernando de Paula
DESCRIPTION:O Instituto de Estudos Sociais e Políticos (IESP-UERJ) e o Grupo de Estudos de Economia Política (GEEP) convidam para o lançamento do livro Economia Brasileira na Encruzilhada: Ensaios sobre Macroeconomia\, Desenvolvimento Econômico e Economia Bancária\, escrito pelo Prof. Luiz Fernando de Paula e publicado pela Editora Appris. \n  \n \n  \nRealizado na sala Olavo Brasil\, na sede do Instituto\, o evento contará com um debate presencial com a participação dos professores Fernando Fontainha (Diretor do Instituto) e Fabiano Santos (coordenador do GEEP)\, junto aos pesquisadores convidados Carmem Feijó (Faculdade de Economia da UFF) e Elias Jabbour (Faculdade de Ciências Econômicas da UERJ). O debate será transmitido ao vivo no canal do IESP-UERJ no YouTube e será seguido de uma sessão de autógrafos com o autor: \n\n\n\n  \n \nA obra reúne artigos que trazem uma contribuição original à compreensão da evolução da economia brasileira nos últimos 20 anos\, com destaque para seus determinantes e para os dilemas enfrentados nesse período. A originalidade decorre tanto da abordagem teórica adotada — heterodoxa (pós-keynesiana) e desenvolvimentista (estruturalista) — que permite a apreensão das especificidades de uma economia capitalista periférica\, como a brasileira\, assim como dos três temas abrangidos (desenvolvimento\, macroeconomia e setor bancário)\, que são fundamentais para essa compreensão\, mas\, em geral\, são tratados de forma separada na literatura. \n  \nA publicação pode ser adquirida na página oficial da Appris.
URL:https://iesp.uerj.br/evento/lancamento-economia-brasileira-na-encruzilhada-de-luiz-fernando-de-paula/
LOCATION:Lançamento da Coleção Paideia pela Biblioteca CCS/D-IESP-UERJ\, RJ
CATEGORIES:Lançamento
END:VEVENT
END:VCALENDAR