BEGIN:VCALENDAR
VERSION:2.0
PRODID:-//IESP - ECPv6.0.7.1//NONSGML v1.0//EN
CALSCALE:GREGORIAN
METHOD:PUBLISH
X-ORIGINAL-URL:https://iesp.uerj.br
X-WR-CALDESC:Eventos para IESP
REFRESH-INTERVAL;VALUE=DURATION:PT1H
X-Robots-Tag:noindex
X-PUBLISHED-TTL:PT1H
BEGIN:VTIMEZONE
TZID:America/Sao_Paulo
BEGIN:STANDARD
TZOFFSETFROM:-0300
TZOFFSETTO:-0300
TZNAME:-03
DTSTART:20260101T000000
END:STANDARD
END:VTIMEZONE
BEGIN:VEVENT
DTSTART;TZID=America/Sao_Paulo:20260401T090000
DTEND;TZID=America/Sao_Paulo:20260401T130000
DTSTAMP:20260417T180353
CREATED:20260313T160540Z
LAST-MODIFIED:20260313T160540Z
UID:163663-1775034000-1775048400@iesp.uerj.br
SUMMARY:Defesa: Leonardo Soares Bello
DESCRIPTION:O Programa de Pós-Graduação em Sociologia\nconvida para:\n\n  \nDefesa de Tese\n\n  \nA persistência do registro sindical:\nEstado e regulação da representação coletiva\ndo trabalho no Brasil\n\n  \nde\nLeonardo Soares Bello\n  \nBanca Examinadora:\nProf. Dr. Adalberto Moreira Cardoso (Orientador)\nProf. Dr. Fernando de Castro Fontainha (IESP-UERJ)\nProf. Dr. Alexandre Barbosa Fraga (UERJ)\nProf.ª Dr.ª Sayonara Grillo Coutinho Leonardo da Silva (UFRJ)\nProf.ª Dr.ª Andréia Galvão (Unicamp)\n  \nDia 01 de Abril de 2026\, quarta-feira\, às 09:00 horas\nIESP-UERJ; Sala Maria Regina Soares de Lima: Rua da Matriz\, 82 – Botafogo
URL:https://iesp.uerj.br/evento/defesa-leonardo-soares-bello/
LOCATION:IESP-UERJ\, Rua da Matriz\, 82 - Botafogo\, Rio de Janeiro\, RJ\, Brasil
CATEGORIES:Tese
END:VEVENT
END:VCALENDAR