BEGIN:VCALENDAR
VERSION:2.0
PRODID:-//IESP - ECPv6.0.7.1//NONSGML v1.0//EN
CALSCALE:GREGORIAN
METHOD:PUBLISH
X-WR-CALNAME:IESP
X-ORIGINAL-URL:https://iesp.uerj.br
X-WR-CALDESC:Eventos para IESP
REFRESH-INTERVAL;VALUE=DURATION:PT1H
X-Robots-Tag:noindex
X-PUBLISHED-TTL:PT1H
BEGIN:VTIMEZONE
TZID:America/Sao_Paulo
BEGIN:STANDARD
TZOFFSETFROM:-0300
TZOFFSETTO:-0300
TZNAME:-03
DTSTART:20240101T000000
END:STANDARD
END:VTIMEZONE
BEGIN:VEVENT
DTSTART;TZID=America/Sao_Paulo:20240408T140000
DTEND;TZID=America/Sao_Paulo:20240408T180000
DTSTAMP:20260420T195710
CREATED:20240326T204523Z
LAST-MODIFIED:20240403T143839Z
UID:155833-1712584800-1712599200@iesp.uerj.br
SUMMARY:Ciclo de Palestras 2024.1 - 60 anos do Golpe: Agendas\, dilemas e legados de 1964
DESCRIPTION:Em respeito à efeméride que marca os 60 anos do golpe civil-militar ocorrido no Brasil em 1964\, o Ciclo de Palestras IESP-UERJ 2024.1 promove a conferência Agendas\, dilemas e legados de 1964. Realizado na Sala Olavo Brasil\, o evento apresentará duas mesas de discussão reunindo palestrantes convidados com representantes da Casa. \n  \n\nAssista também ao vivo em nosso canal no YouTube! \n  \nA partir das 14h\, a mesa Agendas e dilemas da transição contará com palestras de Cristina Buarque de Hollanda (New York University)\, Caroline Bauer (IFCH-UFRGS) e Lucas Pedretti (IESP-UERJ). Em seguida\, às 16h30\, Fernando Perlatto (PPGH-UFJF)\, Barbara Goulart (IESP-UERJ) e a Prof. San Romanelli Assumpção\, Vice-Diretora do Instituto\, ministrarão a segunda mesa do dia: 1964 e João Goulart\, releituras. \n  \nO Ciclo de Palestras IESP-UERJ 2024.1 conta com a curadoria dos professores José Szwako e San Romanelli Assumpção\, e com a assistência técnica de João Pedro Mina.
URL:https://iesp.uerj.br/evento/ciclo-de-palestras-2024-1-60-anos-do-golpe-agendas-dilemas-e-legados-de-1964/
LOCATION:IESP-UERJ\, Rua da Matriz\, 82 - Botafogo\, Rio de Janeiro\, RJ\, Brasil
CATEGORIES:Palestra
END:VEVENT
BEGIN:VEVENT
DTSTART;TZID=America/Sao_Paulo:20240408T180000
DTEND;TZID=America/Sao_Paulo:20240408T210000
DTSTAMP:20260420T195710
CREATED:20240404T181636Z
LAST-MODIFIED:20240404T184425Z
UID:155903-1712599200-1712610000@iesp.uerj.br
SUMMARY:Territórios do Rio: Samba e Democracia
DESCRIPTION:O Grupo Casa convida para a primeira edição do projeto Territórios do Rio\, com a presença do o sociólogo Rodrigo Reduzino e o cineasta Luis Carlos Alencar\, da equipe de produção do documentário Enredos da Liberdade – O Grito do Samba pela Democracia. \n \nO projeto do núcleo de pesquisa tem como objetivo construir espaços de encontros e debates de temas relacionados ao contexto urbano do Rio de Janeiro. Neste encontro\, realizado na Sala Carlos Hasenbalg\, serão exibidos dois episódios da série seguidos de debate com os convidados\, com mediação de Gustavo Queiroz\,  doutorando em Sociologia no IESP-UERJ e pesquisador das dimensões políticas e poéticas da construção do Sambódromo do Rio de Janeiro. \nUma produção original da Globoplay\, a série documental é composta por nomes como Martinho da Vila\, Flávia Oliveira\, Neguinho da Beija-Flor\, Pinah\, Rosa Magalhães\, Haroldo da Costa\, Leci Brandão\, Muniz Sodré e Milton Cunha e aborda os processos de criação dos sambas-enredo que surgiram nos anos 80\, em meio ao contexto de ruptura com o regime militar.
URL:https://iesp.uerj.br/evento/territorios-do-rio-samba-e-democracia/
LOCATION:IESP-UERJ\, Rua da Matriz\, 82 - Botafogo\, Rio de Janeiro\, RJ\, Brasil
CATEGORIES:Palestra
END:VEVENT
END:VCALENDAR