BEGIN:VCALENDAR
VERSION:2.0
PRODID:-//IESP - ECPv6.0.7.1//NONSGML v1.0//EN
CALSCALE:GREGORIAN
METHOD:PUBLISH
X-WR-CALNAME:IESP
X-ORIGINAL-URL:https://iesp.uerj.br
X-WR-CALDESC:Eventos para IESP
REFRESH-INTERVAL;VALUE=DURATION:PT1H
X-Robots-Tag:noindex
X-PUBLISHED-TTL:PT1H
BEGIN:VTIMEZONE
TZID:America/Sao_Paulo
BEGIN:STANDARD
TZOFFSETFROM:-0300
TZOFFSETTO:-0300
TZNAME:-03
DTSTART:20240101T000000
END:STANDARD
END:VTIMEZONE
BEGIN:VEVENT
DTSTART;TZID=America/Sao_Paulo:20240405T140000
DTEND;TZID=America/Sao_Paulo:20240405T180000
DTSTAMP:20260420T105519
CREATED:20240402T140252Z
LAST-MODIFIED:20240402T140252Z
UID:155884-1712325600-1712340000@iesp.uerj.br
SUMMARY:Defesa: Paula Baltar Gonçalves
DESCRIPTION:O Programa de Pós-Graduação em Sociologia\nconvida para:\n  \n  \nDefesa de Tese\n  \n  \nTranscendência e Libertação do Outro:\nA Teoria Crítica de Enrique Dussel\ne a emancipação latino-americana\n  \n  \n  \nde\nPaula Baltar Gonçalves\n  \n  \nBanca Examinadora:\nProf. Dr. José Maurício Castro Domingues da Silva (Orientador)\nProf. Dr. Breno Marques Bringel (IESP-UERJ)\nProf. Dr. Guilherme Figueiredo Leite Gonçalves (IESP-UERJ)\nProf.ª Dr.ª Luciana Maria de Aragão Ballestrin (UFPel)\nProf. Dr. Alexis Omar Cortés Morales (UAH)\n\n\nDia 05 de Abril de 2024\, sexta-feira\, às 14:00 horas\nIESP-UERJ; Sala Carlos Hasenbalg: Rua da Matriz\, 82 – Botafogo
URL:https://iesp.uerj.br/evento/defesa-paula-baltar-goncalves/
LOCATION:IESP-UERJ\, Rua da Matriz\, 82 - Botafogo\, Rio de Janeiro\, RJ\, Brasil
CATEGORIES:Tese
END:VEVENT
END:VCALENDAR