BEGIN:VCALENDAR
VERSION:2.0
PRODID:-//IESP - ECPv6.0.7.1//NONSGML v1.0//EN
CALSCALE:GREGORIAN
METHOD:PUBLISH
X-WR-CALNAME:IESP
X-ORIGINAL-URL:https://iesp.uerj.br
X-WR-CALDESC:Eventos para IESP
REFRESH-INTERVAL;VALUE=DURATION:PT1H
X-Robots-Tag:noindex
X-PUBLISHED-TTL:PT1H
BEGIN:VTIMEZONE
TZID:America/Sao_Paulo
BEGIN:STANDARD
TZOFFSETFROM:-0300
TZOFFSETTO:-0300
TZNAME:-03
DTSTART:20240101T000000
END:STANDARD
END:VTIMEZONE
BEGIN:VEVENT
DTSTART;TZID=America/Sao_Paulo:20240322T140000
DTEND;TZID=America/Sao_Paulo:20240322T180000
DTSTAMP:20260422T162619
CREATED:20240207T125147Z
LAST-MODIFIED:20240207T125147Z
UID:155165-1711116000-1711130400@iesp.uerj.br
SUMMARY:Defesa: Filipe de Oliveira Peixoto
DESCRIPTION:O Programa de Pós-Graduação em Sociologia\nconvida para:\n\n  \nDefesa de Tese\n\n  \nA Cor Local: Mudanças e Desigualdades\nno Ensino Superior Brasileiro\nna segunda década do século XXI\n\n  \nde\nFilipe de Oliveira Peixoto\n  \n  \nBanca Examinadora:\nProf. Dr. Carlos Antonio Costa Ribeiro Filho (Orientador)\nProf. Dr. Flávio Alex de Oliveira Carvalhaes (Coorientador)\nProf. Dr. Luiz Augusto de Souza Carneiro de Campos (IESP-UERJ)\nProf. Dr. Rogério Jerônimo Barbosa (IESP-UERJ)\nProf.ª Dr.ª Ana Paula Vasconcelos Gonçalves (UFMG)\nProf. Dr. Murillo Marschner Alves de Brito (USP)\nDia 22 de Março de 2024\, sexta-feira\, às 14:00 horas\nSala Carlos Hasenbalg; IESP-UERJ: Rua da Matriz\, 82 – Botafogo
URL:https://iesp.uerj.br/evento/defesa-filipe-de-oliveira-peixoto/
LOCATION:IESP-UERJ\, Rua da Matriz\, 82 - Botafogo\, Rio de Janeiro\, RJ\, Brasil
CATEGORIES:Tese
END:VEVENT
BEGIN:VEVENT
DTSTART;TZID=America/Sao_Paulo:20240322T160000
DTEND;TZID=America/Sao_Paulo:20240322T190000
DTSTAMP:20260422T162619
CREATED:20240306T192951Z
LAST-MODIFIED:20240321T235315Z
UID:155723-1711123200-1711134000@iesp.uerj.br
SUMMARY:Ciclo de Palestras 2024.1 - Aula Inaugural:  Nísia Trindade Lima
DESCRIPTION:O Ciclo de Palestras IESP-UERJ 2024.1 convida toda a comunidade acadêmica e o público interessado em geral para assistir à Aula Inaugural do Ano Acadêmico 2024: Saúde\, Ciência e Democracia\, lecionada pela Prof. Nísia Trindade Lima\, Ministra da Saúde do Brasil. Realizado na Sala Olavo Brasil\, o evento contará ainda com uma mesa de abertura com a participação da Prof. Gulnar Azevedo (Reitora da UERJ)\, da Prof. Elizabeth Macedo (Pró-Reitora de pós graduação e Pesquisa da UERJ) e do Prof. Fernando Fontainha (Diretor do IESP-UERJ). \n\nAssista também ao vivo em nosso canal no YouTube! \n  \nMestre e Doutora em Sociologia pelo antigo Iuperj\, atual IESP-UERJ\, Nísia Verônica Trindade Lima é Ministra da Saúde do Brasil. Pesquisadora titular da Casa de Oswaldo Cruz/Fiocruz\, é professora do Programa de História das Ciências e da Saúde (PPGHCS/COC/Fiocruz)\, além de docente colaboradora do Programa de Pós Graduação em Sociologia do IESP-UERJ e professora adjunta de Sociologia da Universidade do Estado do Rio de Janeiro (UERJ).  Tem experiência na área de Sociologia\, com ênfase em Pensamento Social Brasileiro\, atuando principalmente nos seguintes temas: ciência e pensamento social no Brasil\, história das ideias em saúde pública\, sertão no pensamento brasileiro\, história do desenvolvimento no Brasil e história das ciências sociais em saúde. Entre 2017 e 2023\, excerceu o cargo de Presidente da Fundação Oswaldo Cruz (Fiocruz). Em 2023\, foi nomeada para comandar a pasta da Saúde no Executivo Brasileiro. \n  \nO Ciclo de Palestras IESP-UERJ 2024.1 conta com a curadoria dos professores José Szwako e San Romanelli Assumpção\, e com a assistência técnica de Mariane Costa Matos.
URL:https://iesp.uerj.br/evento/ciclo-de-palestras-2024-1-aula-inaugural-nisia-trindade-lima/
LOCATION:IESP-UERJ\, Rua da Matriz\, 82 - Botafogo\, Rio de Janeiro\, RJ\, Brasil
CATEGORIES:Palestra
END:VEVENT
END:VCALENDAR