BEGIN:VCALENDAR
VERSION:2.0
PRODID:-//IESP - ECPv6.0.7.1//NONSGML v1.0//EN
CALSCALE:GREGORIAN
METHOD:PUBLISH
X-ORIGINAL-URL:https://iesp.uerj.br
X-WR-CALDESC:Eventos para IESP
REFRESH-INTERVAL;VALUE=DURATION:PT1H
X-Robots-Tag:noindex
X-PUBLISHED-TTL:PT1H
BEGIN:VTIMEZONE
TZID:America/Sao_Paulo
BEGIN:STANDARD
TZOFFSETFROM:-0200
TZOFFSETTO:-0300
TZNAME:-03
DTSTART:20180218T020000
END:STANDARD
BEGIN:DAYLIGHT
TZOFFSETFROM:-0300
TZOFFSETTO:-0200
TZNAME:-02
DTSTART:20181104T030000
END:DAYLIGHT
END:VTIMEZONE
BEGIN:VEVENT
DTSTART;TZID=America/Sao_Paulo:20181129T100000
DTEND;TZID=America/Sao_Paulo:20181129T170000
DTSTAMP:20260421T001631
CREATED:20180829T200538Z
LAST-MODIFIED:20180829T200538Z
UID:16420-1543485600-1543510800@iesp.uerj.br
SUMMARY:Seminário: I Encontro Fluminense de Núcleos e Pesquisadoras de Gênero e Feminismos
DESCRIPTION:[:pb]O Ciclo de Palestras IESP-UERJ convida a todos para o I Encontro Fluminense de Núcleos e Pesquisadoras de Gênero e Feminismos:Dias 29 e 30 de novembro: \nDia 29/11 – IFCS \nDia 30/11 – IESP[:]
URL:https://iesp.uerj.br/evento/seminario-i-encontro-fluminense-de-nucleos-e-pesquisadoras-de-genero-e-feminismos/
LOCATION:Defesa: Alexsander Matheus Araújo Costa\, RJ
END:VEVENT
BEGIN:VEVENT
DTSTART;TZID=America/Sao_Paulo:20181129T100000
DTEND;TZID=America/Sao_Paulo:20181129T170000
DTSTAMP:20260421T001631
CREATED:20180829T200538Z
LAST-MODIFIED:20180829T200538Z
UID:16706-1543485600-1543510800@iesp.uerj.br
SUMMARY:Seminário: I Encontro Fluminense de Núcleos e Pesquisadoras de Gênero e Feminismos
DESCRIPTION:[:pb]O Ciclo de Palestras IESP-UERJ convida a todos para o I Encontro Fluminense de Núcleos e Pesquisadoras de Gênero e Feminismos:Dias 29 e 30 de novembro: \nDia 29/11 – IFCS \nDia 30/11 – IESP[:]
URL:https://iesp.uerj.br/evento/seminario-i-encontro-fluminense-de-nucleos-e-pesquisadoras-de-genero-e-feminismos-2/
LOCATION:Defesa: Alexsander Matheus Araújo Costa\, RJ
END:VEVENT
END:VCALENDAR