BEGIN:VCALENDAR
VERSION:2.0
PRODID:-//IESP - ECPv6.0.7.1//NONSGML v1.0//EN
CALSCALE:GREGORIAN
METHOD:PUBLISH
X-WR-CALNAME:IESP
X-ORIGINAL-URL:https://iesp.uerj.br
X-WR-CALDESC:Eventos para IESP
REFRESH-INTERVAL;VALUE=DURATION:PT1H
X-Robots-Tag:noindex
X-PUBLISHED-TTL:PT1H
BEGIN:VTIMEZONE
TZID:America/Sao_Paulo
BEGIN:STANDARD
TZOFFSETFROM:-0200
TZOFFSETTO:-0300
TZNAME:-03
DTSTART:20180218T020000
END:STANDARD
BEGIN:DAYLIGHT
TZOFFSETFROM:-0300
TZOFFSETTO:-0200
TZNAME:-02
DTSTART:20181104T030000
END:DAYLIGHT
END:VTIMEZONE
BEGIN:VEVENT
DTSTART;TZID=America/Sao_Paulo:20181105T140000
DTEND;TZID=America/Sao_Paulo:20181105T170000
DTSTAMP:20260421T200409
CREATED:20180829T195052Z
LAST-MODIFIED:20180829T195052Z
UID:16416-1541426400-1541437200@iesp.uerj.br
SUMMARY:Seminário: Paulo Fontes
DESCRIPTION:[:pb]O Ciclo de Palestras  IESP-UERJ 2018.2 apresenta Paulo Fontes com a Palestra “História do Trabalho No Brasil: desafios e perspectivas”. [:]
URL:https://iesp.uerj.br/evento/seminario-paulo-fontes/
LOCATION:Defesa: Alexsander Matheus Araújo Costa\, RJ
END:VEVENT
BEGIN:VEVENT
DTSTART;TZID=America/Sao_Paulo:20181105T140000
DTEND;TZID=America/Sao_Paulo:20181105T170000
DTSTAMP:20260421T200409
CREATED:20180829T195052Z
LAST-MODIFIED:20180829T195052Z
UID:16702-1541426400-1541437200@iesp.uerj.br
SUMMARY:Seminário: Paulo Fontes
DESCRIPTION:[:pb]O Ciclo de Palestras  IESP-UERJ 2018.2 apresenta Paulo Fontes com a Palestra “História do Trabalho No Brasil: desafios e perspectivas”. [:]
URL:https://iesp.uerj.br/evento/seminario-paulo-fontes-2/
LOCATION:Defesa: Alexsander Matheus Araújo Costa\, RJ
END:VEVENT
END:VCALENDAR