BEGIN:VCALENDAR
VERSION:2.0
PRODID:-//IESP - ECPv6.0.7.1//NONSGML v1.0//EN
CALSCALE:GREGORIAN
METHOD:PUBLISH
X-WR-CALNAME:IESP
X-ORIGINAL-URL:https://iesp.uerj.br
X-WR-CALDESC:Eventos para IESP
REFRESH-INTERVAL;VALUE=DURATION:PT1H
X-Robots-Tag:noindex
X-PUBLISHED-TTL:PT1H
BEGIN:VTIMEZONE
TZID:America/Sao_Paulo
BEGIN:STANDARD
TZOFFSETFROM:-0200
TZOFFSETTO:-0300
TZNAME:-03
DTSTART:20180218T020000
END:STANDARD
BEGIN:DAYLIGHT
TZOFFSETFROM:-0300
TZOFFSETTO:-0200
TZNAME:-02
DTSTART:20181104T030000
END:DAYLIGHT
END:VTIMEZONE
BEGIN:VEVENT
DTSTART;TZID=America/Sao_Paulo:20180928T093000
DTEND;TZID=America/Sao_Paulo:20180928T190000
DTSTAMP:20260421T225946
CREATED:20180922T125449Z
LAST-MODIFIED:20180922T125449Z
UID:16427-1538127000-1538161200@iesp.uerj.br
SUMMARY:Seminário: Interações entre os  Movimentos Sociais e o Direito
DESCRIPTION:[:pb]O IESP-UERJ convida para o Seminário Interações entre os Movimentos Sociais e o Direito \n[:]
URL:https://iesp.uerj.br/evento/seminario-interacao-entre-movimentos-sociais-e-direito/
LOCATION:Defesa: Alexsander Matheus Araújo Costa\, RJ
END:VEVENT
BEGIN:VEVENT
DTSTART;TZID=America/Sao_Paulo:20180928T093000
DTEND;TZID=America/Sao_Paulo:20180928T190000
DTSTAMP:20260421T225946
CREATED:20180922T125449Z
LAST-MODIFIED:20180922T125449Z
UID:16713-1538127000-1538161200@iesp.uerj.br
SUMMARY:Seminário: Interações entre os  Movimentos Sociais e o Direito
DESCRIPTION:[:pb]O IESP-UERJ convida para o Seminário Interações entre os Movimentos Sociais e o Direito \n[:]
URL:https://iesp.uerj.br/evento/seminario-interacao-entre-movimentos-sociais-e-direito-2/
LOCATION:Defesa: Alexsander Matheus Araújo Costa\, RJ
END:VEVENT
END:VCALENDAR