BEGIN:VCALENDAR
VERSION:2.0
PRODID:-//IESP - ECPv6.0.7.1//NONSGML v1.0//EN
CALSCALE:GREGORIAN
METHOD:PUBLISH
X-WR-CALNAME:IESP
X-ORIGINAL-URL:https://iesp.uerj.br
X-WR-CALDESC:Eventos para IESP
REFRESH-INTERVAL;VALUE=DURATION:PT1H
X-Robots-Tag:noindex
X-PUBLISHED-TTL:PT1H
BEGIN:VTIMEZONE
TZID:America/Sao_Paulo
BEGIN:STANDARD
TZOFFSETFROM:-0200
TZOFFSETTO:-0300
TZNAME:-03
DTSTART:20180218T020000
END:STANDARD
BEGIN:DAYLIGHT
TZOFFSETFROM:-0300
TZOFFSETTO:-0200
TZNAME:-02
DTSTART:20181104T030000
END:DAYLIGHT
END:VTIMEZONE
BEGIN:VEVENT
DTSTART;TZID=America/Sao_Paulo:20180927T100000
DTEND;TZID=America/Sao_Paulo:20180927T113000
DTSTAMP:20260422T002510
CREATED:20180920T204154Z
LAST-MODIFIED:20180920T204154Z
UID:16426-1538042400-1538047800@iesp.uerj.br
SUMMARY:Seminário NECON: Kathryn Baragwanath Vogel
DESCRIPTION:[:pb]O Núcleo de Estudos sobre o Congresso (NECON)\, do Programa de Pós-Graduação em Ciência Política do IESP-UERJ\, convida para o seminário:“The Effect of Oil Royalties on Corruption: evidence from Brazil” com Kathryn Baragwanath Vogel (PhD. Candidate\, University of California San Diego).  \n [:]
URL:https://iesp.uerj.br/evento/seminario-necon-kathryn-baragwanath-vogel/
LOCATION:Defesa: Alexsander Matheus Araújo Costa\, RJ
END:VEVENT
BEGIN:VEVENT
DTSTART;TZID=America/Sao_Paulo:20180927T100000
DTEND;TZID=America/Sao_Paulo:20180927T113000
DTSTAMP:20260422T002510
CREATED:20180920T204154Z
LAST-MODIFIED:20180920T204154Z
UID:16712-1538042400-1538047800@iesp.uerj.br
SUMMARY:Seminário NECON: Kathryn Baragwanath Vogel
DESCRIPTION:[:pb]O Núcleo de Estudos sobre o Congresso (NECON)\, do Programa de Pós-Graduação em Ciência Política do IESP-UERJ\, convida para o seminário:“The Effect of Oil Royalties on Corruption: evidence from Brazil” com Kathryn Baragwanath Vogel (PhD. Candidate\, University of California San Diego).  \n [:]
URL:https://iesp.uerj.br/evento/seminario-necon-kathryn-baragwanath-vogel-2/
LOCATION:Defesa: Alexsander Matheus Araújo Costa\, RJ
END:VEVENT
END:VCALENDAR