BEGIN:VCALENDAR
VERSION:2.0
PRODID:-//IESP - ECPv6.0.7.1//NONSGML v1.0//EN
CALSCALE:GREGORIAN
METHOD:PUBLISH
X-ORIGINAL-URL:https://iesp.uerj.br
X-WR-CALDESC:Eventos para IESP
REFRESH-INTERVAL;VALUE=DURATION:PT1H
X-Robots-Tag:noindex
X-PUBLISHED-TTL:PT1H
BEGIN:VTIMEZONE
TZID:America/Sao_Paulo
BEGIN:STANDARD
TZOFFSETFROM:-0200
TZOFFSETTO:-0300
TZNAME:-03
DTSTART:20180218T020000
END:STANDARD
BEGIN:DAYLIGHT
TZOFFSETFROM:-0300
TZOFFSETTO:-0200
TZNAME:-02
DTSTART:20181104T030000
END:DAYLIGHT
END:VTIMEZONE
BEGIN:VEVENT
DTSTART;TZID=America/Sao_Paulo:20180925T093000
DTEND;TZID=America/Sao_Paulo:20180925T130000
DTSTAMP:20260422T002530
CREATED:20180911T175348Z
LAST-MODIFIED:20180911T175348Z
UID:16423-1537867800-1537880400@iesp.uerj.br
SUMMARY:Defesa de Tese: Michel Lobo Toledo Lima
DESCRIPTION:[:pb] \nO Programa de Pós-Graduação em Sociologia convida para:\nDefesa de Tese\n“Nem Todo Morto é Vítima”: Práticas e\nNegociações Jurídico-Policiais na Administração\ne Investigação de Homicídios Dolosos\nde\nMichel Lobo Toledo Lima \nBanca Examinadora:\nProf. Dr. Gláucio Ary Dillon Soares (Orientador)\nProf. Dr. Roberto Kant de Lima (Co-Orientador)\nProf. Dr. Carlos Antonio Costa Ribeiro (IESP)\nProf. Dr. Fernando de Castro Fontainha (IESP)\nProf.ª Dr.ª Joana Domingues Vargas (UFRJ)\nProf.ª Dr.ª Ludmila Mendonça Lopes Ribeiro (UFMG) \nDia 25 de Setembro de 2018\, terça-feira\, às 09:30 horas \nRua da Matriz\, 82 – Botafogo[:]
URL:https://iesp.uerj.br/evento/defesa-de-tese-michel-lobo-toledo-lima/
LOCATION:Defesa: Alexsander Matheus Araújo Costa\, RJ
END:VEVENT
BEGIN:VEVENT
DTSTART;TZID=America/Sao_Paulo:20180925T093000
DTEND;TZID=America/Sao_Paulo:20180925T130000
DTSTAMP:20260422T002530
CREATED:20180911T175348Z
LAST-MODIFIED:20180911T175348Z
UID:16709-1537867800-1537880400@iesp.uerj.br
SUMMARY:Defesa de Tese: Michel Lobo Toledo Lima
DESCRIPTION:[:pb] \nO Programa de Pós-Graduação em Sociologia convida para:\nDefesa de Tese\n“Nem Todo Morto é Vítima”: Práticas e\nNegociações Jurídico-Policiais na Administração\ne Investigação de Homicídios Dolosos\nde\nMichel Lobo Toledo Lima \nBanca Examinadora:\nProf. Dr. Gláucio Ary Dillon Soares (Orientador)\nProf. Dr. Roberto Kant de Lima (Co-Orientador)\nProf. Dr. Carlos Antonio Costa Ribeiro (IESP)\nProf. Dr. Fernando de Castro Fontainha (IESP)\nProf.ª Dr.ª Joana Domingues Vargas (UFRJ)\nProf.ª Dr.ª Ludmila Mendonça Lopes Ribeiro (UFMG) \nDia 25 de Setembro de 2018\, terça-feira\, às 09:30 horas \nRua da Matriz\, 82 – Botafogo[:]
URL:https://iesp.uerj.br/evento/defesa-de-tese-michel-lobo-toledo-lima-2/
LOCATION:Defesa: Alexsander Matheus Araújo Costa\, RJ
END:VEVENT
END:VCALENDAR