BEGIN:VCALENDAR
VERSION:2.0
PRODID:-//IESP - ECPv6.0.7.1//NONSGML v1.0//EN
CALSCALE:GREGORIAN
METHOD:PUBLISH
X-ORIGINAL-URL:https://iesp.uerj.br
X-WR-CALDESC:Eventos para IESP
REFRESH-INTERVAL;VALUE=DURATION:PT1H
X-Robots-Tag:noindex
X-PUBLISHED-TTL:PT1H
BEGIN:VTIMEZONE
TZID:America/Sao_Paulo
BEGIN:STANDARD
TZOFFSETFROM:-0200
TZOFFSETTO:-0300
TZNAME:-03
DTSTART:20180218T020000
END:STANDARD
BEGIN:DAYLIGHT
TZOFFSETFROM:-0300
TZOFFSETTO:-0200
TZNAME:-02
DTSTART:20181104T030000
END:DAYLIGHT
END:VTIMEZONE
BEGIN:VEVENT
DTSTART;TZID=America/Sao_Paulo:20180910T100000
DTEND;TZID=America/Sao_Paulo:20180910T120000
DTSTAMP:20260422T002531
CREATED:20180827T191609Z
LAST-MODIFIED:20180827T191609Z
UID:16407-1536573600-1536580800@iesp.uerj.br
SUMMARY:Seminário: Alexis Cortes
DESCRIPTION:[:pb] \nAlexis Cortes da Universidade Alberto Torres do Chile apresenta a palestra “Os Touraine boys e o movimento (impossível) dos pobladores chilenos: análise crítico de uma intervenção sociológica (1985-1987)”. \n [:]
URL:https://iesp.uerj.br/evento/seminario-alexis-cortes/
LOCATION:Defesa: Alexsander Matheus Araújo Costa\, RJ
END:VEVENT
BEGIN:VEVENT
DTSTART;TZID=America/Sao_Paulo:20180910T100000
DTEND;TZID=America/Sao_Paulo:20180910T120000
DTSTAMP:20260422T002531
CREATED:20180827T191609Z
LAST-MODIFIED:20180827T191609Z
UID:16693-1536573600-1536580800@iesp.uerj.br
SUMMARY:Seminário: Alexis Cortes
DESCRIPTION:[:pb] \nAlexis Cortes da Universidade Alberto Torres do Chile apresenta a palestra “Os Touraine boys e o movimento (impossível) dos pobladores chilenos: análise crítico de uma intervenção sociológica (1985-1987)”. \n [:]
URL:https://iesp.uerj.br/evento/seminario-alexis-cortes-2/
LOCATION:Defesa: Alexsander Matheus Araújo Costa\, RJ
END:VEVENT
END:VCALENDAR