BEGIN:VCALENDAR
VERSION:2.0
PRODID:-//IESP - ECPv6.0.7.1//NONSGML v1.0//EN
CALSCALE:GREGORIAN
METHOD:PUBLISH
X-ORIGINAL-URL:https://iesp.uerj.br
X-WR-CALDESC:Eventos para IESP
REFRESH-INTERVAL;VALUE=DURATION:PT1H
X-Robots-Tag:noindex
X-PUBLISHED-TTL:PT1H
BEGIN:VTIMEZONE
TZID:America/Sao_Paulo
BEGIN:STANDARD
TZOFFSETFROM:-0200
TZOFFSETTO:-0300
TZNAME:-03
DTSTART:20180218T020000
END:STANDARD
BEGIN:DAYLIGHT
TZOFFSETFROM:-0300
TZOFFSETTO:-0200
TZNAME:-02
DTSTART:20181104T030000
END:DAYLIGHT
END:VTIMEZONE
BEGIN:VEVENT
DTSTART;TZID=America/Sao_Paulo:20180903T140000
DTEND;TZID=America/Sao_Paulo:20180903T170000
DTSTAMP:20260422T002545
CREATED:20180827T190927Z
LAST-MODIFIED:20180827T190927Z
UID:16406-1535983200-1535994000@iesp.uerj.br
SUMMARY:Aula Inaugural: Carlos Ranulfo
DESCRIPTION:[:pb]Carlos Ranulfo da Universidade Federal de Minas apresenta a palestra “Eleições\, dependência de trajetória e presidencialismo no Brasil” como  aula inaugural do Ciclo de  Palestras IESP-UERJ 2018.2[:]
URL:https://iesp.uerj.br/evento/aula-inaugural-carlos-ranulfo/
LOCATION:Defesa: Alexsander Matheus Araújo Costa\, RJ
END:VEVENT
BEGIN:VEVENT
DTSTART;TZID=America/Sao_Paulo:20180903T140000
DTEND;TZID=America/Sao_Paulo:20180903T170000
DTSTAMP:20260422T002545
CREATED:20180827T190927Z
LAST-MODIFIED:20180827T190927Z
UID:16692-1535983200-1535994000@iesp.uerj.br
SUMMARY:Aula Inaugural: Carlos Ranulfo
DESCRIPTION:[:pb]Carlos Ranulfo da Universidade Federal de Minas apresenta a palestra “Eleições\, dependência de trajetória e presidencialismo no Brasil” como  aula inaugural do Ciclo de  Palestras IESP-UERJ 2018.2[:]
URL:https://iesp.uerj.br/evento/aula-inaugural-carlos-ranulfo-2/
LOCATION:Defesa: Alexsander Matheus Araújo Costa\, RJ
END:VEVENT
END:VCALENDAR