BEGIN:VCALENDAR
VERSION:2.0
PRODID:-//IESP - ECPv6.0.7.1//NONSGML v1.0//EN
CALSCALE:GREGORIAN
METHOD:PUBLISH
X-WR-CALNAME:IESP
X-ORIGINAL-URL:https://iesp.uerj.br
X-WR-CALDESC:Eventos para IESP
REFRESH-INTERVAL;VALUE=DURATION:PT1H
X-Robots-Tag:noindex
X-PUBLISHED-TTL:PT1H
BEGIN:VTIMEZONE
TZID:America/Sao_Paulo
BEGIN:STANDARD
TZOFFSETFROM:-0200
TZOFFSETTO:-0300
TZNAME:-03
DTSTART:20180218T020000
END:STANDARD
BEGIN:DAYLIGHT
TZOFFSETFROM:-0300
TZOFFSETTO:-0200
TZNAME:-02
DTSTART:20181104T030000
END:DAYLIGHT
END:VTIMEZONE
BEGIN:VEVENT
DTSTART;TZID=America/Sao_Paulo:20180813T140000
DTEND;TZID=America/Sao_Paulo:20180813T170000
DTSTAMP:20260422T033724
CREATED:20180806T182923Z
LAST-MODIFIED:20180806T182923Z
UID:16401-1534168800-1534179600@iesp.uerj.br
SUMMARY:Defesa de Tese: Sérgio Baldinotti
DESCRIPTION:[:pb] \nO Programa de Pós-Graduação em Ciência Política convida\npara:\nDefesa de Tese\nA (Im)Possível Relação entre Conselhos Gestores\nde Políticas Públicas e o Índice de\nDesenvolvimento Humano dos Municípios do\nEstado de Mato Grosso\nde\nSérgio Baldinotti \n  \nBanca Examinadora: \nProf.ª Dr.ª San Romanelli Assumpção (Orientadora)\nProf. Dr. João Feres Júnior (IESP/UERJ)\nProf. Dr. José Eduardo Leon Szwako (IESP/UERJ)\nProf.ª Dr.ª Mônica de Castro Maia Senna (UFF)\nProf. Dr. Tiago Daher Padovezi Borges (UFSC) \nDia 13 de Agosto de 2018\, segunda-feira\, às 14:00 horas\nRua da Matriz\, 82 – Botafogo \n[:]
URL:https://iesp.uerj.br/evento/defesa-de-tese-sergio-baldinotti/
LOCATION:Defesa: Alexsander Matheus Araújo Costa\, RJ
END:VEVENT
BEGIN:VEVENT
DTSTART;TZID=America/Sao_Paulo:20180813T140000
DTEND;TZID=America/Sao_Paulo:20180813T170000
DTSTAMP:20260422T033724
CREATED:20180806T182923Z
LAST-MODIFIED:20180806T182923Z
UID:16687-1534168800-1534179600@iesp.uerj.br
SUMMARY:Defesa de Tese: Sérgio Baldinotti
DESCRIPTION:[:pb] \nO Programa de Pós-Graduação em Ciência Política convida\npara:\nDefesa de Tese\nA (Im)Possível Relação entre Conselhos Gestores\nde Políticas Públicas e o Índice de\nDesenvolvimento Humano dos Municípios do\nEstado de Mato Grosso\nde\nSérgio Baldinotti \n  \nBanca Examinadora: \nProf.ª Dr.ª San Romanelli Assumpção (Orientadora)\nProf. Dr. João Feres Júnior (IESP/UERJ)\nProf. Dr. José Eduardo Leon Szwako (IESP/UERJ)\nProf.ª Dr.ª Mônica de Castro Maia Senna (UFF)\nProf. Dr. Tiago Daher Padovezi Borges (UFSC) \nDia 13 de Agosto de 2018\, segunda-feira\, às 14:00 horas\nRua da Matriz\, 82 – Botafogo \n[:]
URL:https://iesp.uerj.br/evento/defesa-de-tese-sergio-baldinotti-2/
LOCATION:Defesa: Alexsander Matheus Araújo Costa\, RJ
END:VEVENT
BEGIN:VEVENT
DTSTART;TZID=America/Sao_Paulo:20180813T150000
DTEND;TZID=America/Sao_Paulo:20180813T190000
DTSTAMP:20260422T033724
CREATED:20180811T023330Z
LAST-MODIFIED:20180811T023330Z
UID:16403-1534172400-1534186800@iesp.uerj.br
SUMMARY:Seminário: David Samuels\, César Zucco Jr.\, Pedro Floriano e Fabiano Santos
DESCRIPTION:[:pb]Os professores David Samuels da Universidade de Minesota\, César Zucco Jr. da FGV\, Pedro Floriano da UFSCAR e Fabiano Santos do IESP apresentam o seminário Filiação Partidária e a questão do Partidarismo no Brasil \n[:]
URL:https://iesp.uerj.br/evento/seminario-david-samuels-cesar-zucco-jr-pedro-floriano-e-fabiano-santos/
LOCATION:Defesa: Alexsander Matheus Araújo Costa\, RJ
END:VEVENT
BEGIN:VEVENT
DTSTART;TZID=America/Sao_Paulo:20180813T150000
DTEND;TZID=America/Sao_Paulo:20180813T190000
DTSTAMP:20260422T033724
CREATED:20180811T023330Z
LAST-MODIFIED:20180811T023330Z
UID:16689-1534172400-1534186800@iesp.uerj.br
SUMMARY:Seminário: David Samuels\, César Zucco Jr.\, Pedro Floriano e Fabiano Santos
DESCRIPTION:[:pb]Os professores David Samuels da Universidade de Minesota\, César Zucco Jr. da FGV\, Pedro Floriano da UFSCAR e Fabiano Santos do IESP apresentam o seminário Filiação Partidária e a questão do Partidarismo no Brasil \n[:]
URL:https://iesp.uerj.br/evento/seminario-david-samuels-cesar-zucco-jr-pedro-floriano-e-fabiano-santos-2/
LOCATION:Defesa: Alexsander Matheus Araújo Costa\, RJ
END:VEVENT
END:VCALENDAR