BEGIN:VCALENDAR
VERSION:2.0
PRODID:-//IESP - ECPv6.0.7.1//NONSGML v1.0//EN
CALSCALE:GREGORIAN
METHOD:PUBLISH
X-ORIGINAL-URL:https://iesp.uerj.br
X-WR-CALDESC:Eventos para IESP
REFRESH-INTERVAL;VALUE=DURATION:PT1H
X-Robots-Tag:noindex
X-PUBLISHED-TTL:PT1H
BEGIN:VTIMEZONE
TZID:America/Sao_Paulo
BEGIN:STANDARD
TZOFFSETFROM:-0200
TZOFFSETTO:-0300
TZNAME:-03
DTSTART:20180218T020000
END:STANDARD
BEGIN:DAYLIGHT
TZOFFSETFROM:-0300
TZOFFSETTO:-0200
TZNAME:-02
DTSTART:20181104T030000
END:DAYLIGHT
END:VTIMEZONE
BEGIN:VEVENT
DTSTART;TZID=America/Sao_Paulo:20180726T090000
DTEND;TZID=America/Sao_Paulo:20180726T120000
DTSTAMP:20260422T051225
CREATED:20180712T210140Z
LAST-MODIFIED:20180712T210140Z
UID:16399-1532595600-1532606400@iesp.uerj.br
SUMMARY:Defesa de Tese: Marcus Vinícius Chevitarese Alves
DESCRIPTION:[:pb] \nO Programa de Pós-Graduação em Ciência Política convida para: \n\nDefesa de Tese \n\nDuas arenas\, uma tendência: personalização da\ncampanha de 2014 para deputado federal nas\n“ruas” e nas “mídias sociais” \n\nde \nMarcus Vinícius Chevitarese Alves \n\nBanca Examinadora: \nProf. Dr. João Feres Júnior (Orientador)\nProf. Dr. Fabiano Guilherme Mendes Santos (IESP)\nProf. Dr. Fernando Henrique Eduardo Guarnieri (IESP)\nProf. Dr. Jairo Cesar Marconi Nicolau (UFRJ)\nProf.ª Dr.ª Luciana Fernandes Veiga (UNIRIO) \n  \nDia 26 de Julho de 2018\, quinta-feira\, às 09:00 horas\nRua da Matriz\, 82 – Botafogo[:]
URL:https://iesp.uerj.br/evento/defesa-de-tese-marcus-vinicius-chevitarese-alves/
LOCATION:Defesa: Alexsander Matheus Araújo Costa\, RJ
END:VEVENT
BEGIN:VEVENT
DTSTART;TZID=America/Sao_Paulo:20180726T090000
DTEND;TZID=America/Sao_Paulo:20180726T120000
DTSTAMP:20260422T051225
CREATED:20180712T210140Z
LAST-MODIFIED:20180712T210140Z
UID:16685-1532595600-1532606400@iesp.uerj.br
SUMMARY:Defesa de Tese: Marcus Vinícius Chevitarese Alves
DESCRIPTION:[:pb] \nO Programa de Pós-Graduação em Ciência Política convida para: \n\nDefesa de Tese \n\nDuas arenas\, uma tendência: personalização da\ncampanha de 2014 para deputado federal nas\n“ruas” e nas “mídias sociais” \n\nde \nMarcus Vinícius Chevitarese Alves \n\nBanca Examinadora: \nProf. Dr. João Feres Júnior (Orientador)\nProf. Dr. Fabiano Guilherme Mendes Santos (IESP)\nProf. Dr. Fernando Henrique Eduardo Guarnieri (IESP)\nProf. Dr. Jairo Cesar Marconi Nicolau (UFRJ)\nProf.ª Dr.ª Luciana Fernandes Veiga (UNIRIO) \n  \nDia 26 de Julho de 2018\, quinta-feira\, às 09:00 horas\nRua da Matriz\, 82 – Botafogo[:]
URL:https://iesp.uerj.br/evento/defesa-de-tese-marcus-vinicius-chevitarese-alves-2/
LOCATION:Defesa: Alexsander Matheus Araújo Costa\, RJ
END:VEVENT
END:VCALENDAR