BEGIN:VCALENDAR
VERSION:2.0
PRODID:-//IESP - ECPv6.0.7.1//NONSGML v1.0//EN
CALSCALE:GREGORIAN
METHOD:PUBLISH
X-WR-CALNAME:IESP
X-ORIGINAL-URL:https://iesp.uerj.br
X-WR-CALDESC:Eventos para IESP
REFRESH-INTERVAL;VALUE=DURATION:PT1H
X-Robots-Tag:noindex
X-PUBLISHED-TTL:PT1H
BEGIN:VTIMEZONE
TZID:America/Sao_Paulo
BEGIN:STANDARD
TZOFFSETFROM:-0200
TZOFFSETTO:-0300
TZNAME:-03
DTSTART:20180218T020000
END:STANDARD
BEGIN:DAYLIGHT
TZOFFSETFROM:-0300
TZOFFSETTO:-0200
TZNAME:-02
DTSTART:20181104T030000
END:DAYLIGHT
END:VTIMEZONE
BEGIN:VEVENT
DTSTART;TZID=America/Sao_Paulo:20180702T140000
DTEND;TZID=America/Sao_Paulo:20180702T170000
DTSTAMP:20260422T102634
CREATED:20180612T174946Z
LAST-MODIFIED:20180612T174946Z
UID:16397-1530540000-1530550800@iesp.uerj.br
SUMMARY:Defesa de Tese: Gabriel Fernandes Rocha Guimarães
DESCRIPTION:[:pb] \nO Programa de Pós-Graduação em Sociologia convida para:\nDefesa de Tese\nAscensão e Declínio dos Partidos-Movimento na\nAmérica Latina: os casos do MAS (Bolívia)\,\nPachakutik (Equador) e Tekojojá (Paraguai)\nde\nGabriel Fernandes Rocha Guimarães \n  \nBanca Examinadora: \nProf. Dr. Breno Marques Bringel (Orientador)\nProf. Dr. José Maurício Domingues (IESP)\nProf. Dr. Fernando Henrique Eduardo Guarnieri (IESP)\nProf. Dr. Francisco Josué Medeiros de Freitas (UFRJ)\nProf. Dr. Marco Antônio Perruso (UFRRJ) \nDia 02 de Julho de 2018\, segunda-feira\, às 14:00 horas \nRua da Matriz\, 82 – Botafogo[:]
URL:https://iesp.uerj.br/evento/defesa-de-tese-gabriel-fernandes-rocha-guimaraes/
LOCATION:Defesa: Alexsander Matheus Araújo Costa\, RJ
END:VEVENT
BEGIN:VEVENT
DTSTART;TZID=America/Sao_Paulo:20180702T140000
DTEND;TZID=America/Sao_Paulo:20180702T170000
DTSTAMP:20260422T102634
CREATED:20180612T174946Z
LAST-MODIFIED:20180612T174946Z
UID:16683-1530540000-1530550800@iesp.uerj.br
SUMMARY:Defesa de Tese: Gabriel Fernandes Rocha Guimarães
DESCRIPTION:[:pb] \nO Programa de Pós-Graduação em Sociologia convida para:\nDefesa de Tese\nAscensão e Declínio dos Partidos-Movimento na\nAmérica Latina: os casos do MAS (Bolívia)\,\nPachakutik (Equador) e Tekojojá (Paraguai)\nde\nGabriel Fernandes Rocha Guimarães \n  \nBanca Examinadora: \nProf. Dr. Breno Marques Bringel (Orientador)\nProf. Dr. José Maurício Domingues (IESP)\nProf. Dr. Fernando Henrique Eduardo Guarnieri (IESP)\nProf. Dr. Francisco Josué Medeiros de Freitas (UFRJ)\nProf. Dr. Marco Antônio Perruso (UFRRJ) \nDia 02 de Julho de 2018\, segunda-feira\, às 14:00 horas \nRua da Matriz\, 82 – Botafogo[:]
URL:https://iesp.uerj.br/evento/defesa-de-tese-gabriel-fernandes-rocha-guimaraes-2/
LOCATION:Defesa: Alexsander Matheus Araújo Costa\, RJ
END:VEVENT
END:VCALENDAR