BEGIN:VCALENDAR
VERSION:2.0
PRODID:-//IESP - ECPv6.0.7.1//NONSGML v1.0//EN
CALSCALE:GREGORIAN
METHOD:PUBLISH
X-WR-CALNAME:IESP
X-ORIGINAL-URL:https://iesp.uerj.br
X-WR-CALDESC:Eventos para IESP
REFRESH-INTERVAL;VALUE=DURATION:PT1H
X-Robots-Tag:noindex
X-PUBLISHED-TTL:PT1H
BEGIN:VTIMEZONE
TZID:America/Sao_Paulo
BEGIN:STANDARD
TZOFFSETFROM:-0200
TZOFFSETTO:-0300
TZNAME:-03
DTSTART:20180218T020000
END:STANDARD
BEGIN:DAYLIGHT
TZOFFSETFROM:-0300
TZOFFSETTO:-0200
TZNAME:-02
DTSTART:20181104T030000
END:DAYLIGHT
END:VTIMEZONE
BEGIN:VEVENT
DTSTART;TZID=America/Sao_Paulo:20180622T090000
DTEND;TZID=America/Sao_Paulo:20180622T120000
DTSTAMP:20260422T145904
CREATED:20180427T181112Z
LAST-MODIFIED:20180427T181112Z
UID:16389-1529658000-1529668800@iesp.uerj.br
SUMMARY:Defesa de Tese: Daniel Soares Rumbelsperger Rodrigues
DESCRIPTION:[:pb] \nO Programa de Pós-Graduação em Sociologia convida para:\nDefesa de Tese\nA configuração da informalidade nas margens do Estado: um estudo sobre a trajetória de\ncomerciantes em favelas “pacificadas” \nde \n\nDaniel Soares Rumbelsperger Rodrigues \n  \nBanca Examinadora: \nProf.  Dr. Adalberto Moreira Cardoso (Orientador)\nProf.ª Dr.ª Mariana Cavalcanti Rocha dos Santos (IESP)\nProfª. Dr.ª Márcia da Silva Pereira Leite (UERJ)\nProf.  Dr. Fernando Rabossi (UFRJ)\nProf.  Dr. Daniel Veloso Hirata (UFF) \nDia 22 de Junho de 2018\, sexta-feira\, às 9:00 horas \nRua da Matriz\, 82 – Botafogo[:]
URL:https://iesp.uerj.br/evento/defesa-de-tese-daniel-soares-rumbelsperger-rodrigues/
LOCATION:Defesa: Alexsander Matheus Araújo Costa\, RJ
END:VEVENT
BEGIN:VEVENT
DTSTART;TZID=America/Sao_Paulo:20180622T090000
DTEND;TZID=America/Sao_Paulo:20180622T120000
DTSTAMP:20260422T145904
CREATED:20180427T181112Z
LAST-MODIFIED:20180427T181112Z
UID:16675-1529658000-1529668800@iesp.uerj.br
SUMMARY:Defesa de Tese: Daniel Soares Rumbelsperger Rodrigues
DESCRIPTION:[:pb] \nO Programa de Pós-Graduação em Sociologia convida para:\nDefesa de Tese\nA configuração da informalidade nas margens do Estado: um estudo sobre a trajetória de\ncomerciantes em favelas “pacificadas” \nde \n\nDaniel Soares Rumbelsperger Rodrigues \n  \nBanca Examinadora: \nProf.  Dr. Adalberto Moreira Cardoso (Orientador)\nProf.ª Dr.ª Mariana Cavalcanti Rocha dos Santos (IESP)\nProfª. Dr.ª Márcia da Silva Pereira Leite (UERJ)\nProf.  Dr. Fernando Rabossi (UFRJ)\nProf.  Dr. Daniel Veloso Hirata (UFF) \nDia 22 de Junho de 2018\, sexta-feira\, às 9:00 horas \nRua da Matriz\, 82 – Botafogo[:]
URL:https://iesp.uerj.br/evento/defesa-de-tese-daniel-soares-rumbelsperger-rodrigues-2/
LOCATION:Defesa: Alexsander Matheus Araújo Costa\, RJ
END:VEVENT
END:VCALENDAR