BEGIN:VCALENDAR
VERSION:2.0
PRODID:-//IESP - ECPv6.0.7.1//NONSGML v1.0//EN
CALSCALE:GREGORIAN
METHOD:PUBLISH
X-ORIGINAL-URL:https://iesp.uerj.br
X-WR-CALDESC:Eventos para IESP
REFRESH-INTERVAL;VALUE=DURATION:PT1H
X-Robots-Tag:noindex
X-PUBLISHED-TTL:PT1H
BEGIN:VTIMEZONE
TZID:America/Sao_Paulo
BEGIN:STANDARD
TZOFFSETFROM:-0200
TZOFFSETTO:-0300
TZNAME:-03
DTSTART:20180218T020000
END:STANDARD
BEGIN:DAYLIGHT
TZOFFSETFROM:-0300
TZOFFSETTO:-0200
TZNAME:-02
DTSTART:20181104T030000
END:DAYLIGHT
END:VTIMEZONE
BEGIN:VEVENT
DTSTART;TZID=America/Sao_Paulo:20180618T140000
DTEND;TZID=America/Sao_Paulo:20180618T170000
DTSTAMP:20260422T114454
CREATED:20180604T170155Z
LAST-MODIFIED:20180604T170155Z
UID:16395-1529330400-1529341200@iesp.uerj.br
SUMMARY:Defesa de Tese: Flávia Bozza Martins
DESCRIPTION:[:pb] \nO Programa de Pós-Graduação em Ciência Política convida\npara:\nDefesa de Tese\nVoto Econômico na América Latina: avaliação de\npolíticas públicas e clareza de responsabilidade\nde\nFlávia Bozza Martins \n  \nBanca Examinadora: \nProf.ªDr.ªArgelinaMariaCheibubFigueiredo (Orientadora)\nProf.ª Dr.ª Luciana Fernandes Veiga (Co-Orientadora)\nProf. Dr. Fernando Henrique Eduardo Guarnieri (IESP)\nProf.ª Dr.ª Celina Maria de Souza (IESP)\nProf. Dr. Steven Dutt-Ross (UNIRIO) \nDia 18 de Junho de 2018\, segunda-feira\, às 14:00 horas \nRua da Matriz\, 82 – Botafogo[:]
URL:https://iesp.uerj.br/evento/defesa-de-tese-flavia-bozza-martins/
LOCATION:Defesa: Alexsander Matheus Araújo Costa\, RJ
END:VEVENT
BEGIN:VEVENT
DTSTART;TZID=America/Sao_Paulo:20180618T140000
DTEND;TZID=America/Sao_Paulo:20180618T170000
DTSTAMP:20260422T114454
CREATED:20180604T170155Z
LAST-MODIFIED:20180604T170155Z
UID:16681-1529330400-1529341200@iesp.uerj.br
SUMMARY:Defesa de Tese: Flávia Bozza Martins
DESCRIPTION:[:pb] \nO Programa de Pós-Graduação em Ciência Política convida\npara:\nDefesa de Tese\nVoto Econômico na América Latina: avaliação de\npolíticas públicas e clareza de responsabilidade\nde\nFlávia Bozza Martins \n  \nBanca Examinadora: \nProf.ªDr.ªArgelinaMariaCheibubFigueiredo (Orientadora)\nProf.ª Dr.ª Luciana Fernandes Veiga (Co-Orientadora)\nProf. Dr. Fernando Henrique Eduardo Guarnieri (IESP)\nProf.ª Dr.ª Celina Maria de Souza (IESP)\nProf. Dr. Steven Dutt-Ross (UNIRIO) \nDia 18 de Junho de 2018\, segunda-feira\, às 14:00 horas \nRua da Matriz\, 82 – Botafogo[:]
URL:https://iesp.uerj.br/evento/defesa-de-tese-flavia-bozza-martins-2/
LOCATION:Defesa: Alexsander Matheus Araújo Costa\, RJ
END:VEVENT
END:VCALENDAR